BEGIN:VCALENDAR
VERSION:2.0
PRODID:-//Espace Moebius - ECPv6.0.12//NONSGML v1.0//EN
CALSCALE:GREGORIAN
METHOD:PUBLISH
X-ORIGINAL-URL:https://moebius.cegepmontpetit.ca
X-WR-CALDESC:évènements pour Espace Moebius
REFRESH-INTERVAL;VALUE=DURATION:PT1H
X-Robots-Tag:noindex
X-PUBLISHED-TTL:PT1H
BEGIN:VTIMEZONE
TZID:America/Toronto
BEGIN:DAYLIGHT
TZOFFSETFROM:-0500
TZOFFSETTO:-0400
TZNAME:EDT
DTSTART:20240310T070000
END:DAYLIGHT
BEGIN:STANDARD
TZOFFSETFROM:-0400
TZOFFSETTO:-0500
TZNAME:EST
DTSTART:20241103T060000
END:STANDARD
END:VTIMEZONE
BEGIN:VEVENT
DTSTART;TZID=America/Toronto:20240325T080000
DTEND;TZID=America/Toronto:20240403T170000
DTSTAMP:20260424T142659
CREATED:20240314T131844Z
LAST-MODIFIED:20240314T131844Z
UID:17629-1711353600-1712163600@moebius.cegepmontpetit.ca
SUMMARY:Prêt BenQ 86 pouces - Espace Conférence
DESCRIPTION:
URL:https://moebius.cegepmontpetit.ca/evenement/pret-benq-86-pouces-espace-conference/
LOCATION:D2702
ATTACH;FMTTYPE=image/jpeg:https://moebius.cegepmontpetit.ca/wp-content/uploads/sites/166/2022/06/PXL_20220208_150128587.MP_-scaled.jpg
END:VEVENT
BEGIN:VEVENT
DTSTART;TZID=America/Toronto:20240403T130000
DTEND;TZID=America/Toronto:20240403T160000
DTSTAMP:20260424T142659
CREATED:20240328T194213Z
LAST-MODIFIED:20240328T194213Z
UID:17774-1712149200-1712160000@moebius.cegepmontpetit.ca
SUMMARY:Mode Partagé - Cours Littérature
DESCRIPTION:Demande #65532 \nBesoins de neuf portables
URL:https://moebius.cegepmontpetit.ca/evenement/mode-partage-cours-litterature/
LOCATION:D2702
CATEGORIES:1 portable par étudiant,Besoin de portables,Mode partagé,Réservation - CLAAC,Réservation - Zone discussion,Téléviseur interactif 1x
ATTACH;FMTTYPE=image/png:https://moebius.cegepmontpetit.ca/wp-content/uploads/sites/166/2020/02/littérature-et-français.png
END:VEVENT
END:VCALENDAR