BEGIN:VCALENDAR
VERSION:2.0
PRODID:-//Espace Moebius - ECPv6.0.12//NONSGML v1.0//EN
CALSCALE:GREGORIAN
METHOD:PUBLISH
X-WR-CALNAME:Espace Moebius
X-ORIGINAL-URL:https://moebius.cegepmontpetit.ca
X-WR-CALDESC:évènements pour Espace Moebius
REFRESH-INTERVAL;VALUE=DURATION:PT1H
X-Robots-Tag:noindex
X-PUBLISHED-TTL:PT1H
BEGIN:VTIMEZONE
TZID:America/Toronto
BEGIN:DAYLIGHT
TZOFFSETFROM:-0500
TZOFFSETTO:-0400
TZNAME:EDT
DTSTART:20240310T070000
END:DAYLIGHT
BEGIN:STANDARD
TZOFFSETFROM:-0400
TZOFFSETTO:-0500
TZNAME:EST
DTSTART:20241103T060000
END:STANDARD
END:VTIMEZONE
BEGIN:VEVENT
DTSTART;VALUE=DATE:20240411
DTEND;VALUE=DATE:20240413
DTSTAMP:20260424T142546
CREATED:20240403T185322Z
LAST-MODIFIED:20240403T185322Z
UID:17788-1712815200-1712901599@moebius.cegepmontpetit.ca
SUMMARY:Journée JR
DESCRIPTION:
URL:https://moebius.cegepmontpetit.ca/evenement/journee-jr-4/
LOCATION:D2702
END:VEVENT
BEGIN:VEVENT
DTSTART;TZID=America/Toronto:20240411T100000
DTEND;TZID=America/Toronto:20240411T140000
DTSTAMP:20260424T142546
CREATED:20240328T194418Z
LAST-MODIFIED:20240328T194418Z
UID:17776-1712829600-1712844000@moebius.cegepmontpetit.ca
SUMMARY:Mode Partagé - Cours Littérature
DESCRIPTION:Demande #65532 \nBesoins de neuf portables
URL:https://moebius.cegepmontpetit.ca/evenement/mode-partage-cours-litterature-2/
LOCATION:D2702
CATEGORIES:1 portable par étudiant,Besoin de portables,Mode partagé,Réservation - CLAAC,Réservation - Zone discussion,Téléviseur interactif 1x
ATTACH;FMTTYPE=image/png:https://moebius.cegepmontpetit.ca/wp-content/uploads/sites/166/2020/02/littérature-et-français.png
END:VEVENT
END:VCALENDAR