BEGIN:VCALENDAR
VERSION:2.0
PRODID:-//Espace Moebius - ECPv6.0.12//NONSGML v1.0//EN
CALSCALE:GREGORIAN
METHOD:PUBLISH
X-ORIGINAL-URL:https://moebius.cegepmontpetit.ca
X-WR-CALDESC:évènements pour Espace Moebius
REFRESH-INTERVAL;VALUE=DURATION:PT1H
X-Robots-Tag:noindex
X-PUBLISHED-TTL:PT1H
BEGIN:VTIMEZONE
TZID:America/Toronto
BEGIN:DAYLIGHT
TZOFFSETFROM:-0500
TZOFFSETTO:-0400
TZNAME:EDT
DTSTART:20240310T070000
END:DAYLIGHT
BEGIN:STANDARD
TZOFFSETFROM:-0400
TZOFFSETTO:-0500
TZNAME:EST
DTSTART:20241103T060000
END:STANDARD
END:VTIMEZONE
BEGIN:VEVENT
DTSTART;TZID=America/Toronto:20240419T080000
DTEND;TZID=America/Toronto:20240419T090000
DTSTAMP:20260424T142633
CREATED:20240319T160033Z
LAST-MODIFIED:20240319T160033Z
UID:17714-1713513600-1713517200@moebius.cegepmontpetit.ca
SUMMARY:Placement du local : Équipe de 4 (4x4)
DESCRIPTION:
URL:https://moebius.cegepmontpetit.ca/evenement/placement-du-local-equipe-de-4-4x4/
LOCATION:D2702
ATTACH;FMTTYPE=image/jpeg:https://moebius.cegepmontpetit.ca/wp-content/uploads/sites/166/2024/03/CLAAC-18_4x4.jpg
END:VEVENT
BEGIN:VEVENT
DTSTART;TZID=America/Toronto:20240419T090000
DTEND;TZID=America/Toronto:20240419T110000
DTSTAMP:20260424T142633
CREATED:20240116T135409Z
LAST-MODIFIED:20240319T154248Z
UID:17199-1713517200-1713524400@moebius.cegepmontpetit.ca
SUMMARY:Réservation Espace Moebius - Cours THD
DESCRIPTION:Disposition du local : En groupe de 4 \nDemande #61918
URL:https://moebius.cegepmontpetit.ca/evenement/reservation-espace-moebius-cours-thd-23/
LOCATION:D2702
CATEGORIES:Imprimante en fonction,Mode exclusif,Réservation - CLAAC,Téléviseur interactif 1x
ATTACH;FMTTYPE=image/jpeg:https://moebius.cegepmontpetit.ca/wp-content/uploads/sites/166/2019/03/dental-hygiene-600x375.jpg
END:VEVENT
BEGIN:VEVENT
DTSTART;TZID=America/Toronto:20240419T110000
DTEND;TZID=America/Toronto:20240419T120000
DTSTAMP:20260424T142633
CREATED:20240319T155600Z
LAST-MODIFIED:20240319T155600Z
UID:17712-1713524400-1713528000@moebius.cegepmontpetit.ca
SUMMARY:Placement du local : CLAACsique
DESCRIPTION:
URL:https://moebius.cegepmontpetit.ca/evenement/placement-du-local-claacsique-2/
LOCATION:D2702
END:VEVENT
BEGIN:VEVENT
DTSTART;TZID=America/Toronto:20240419T130000
DTEND;TZID=America/Toronto:20240419T140000
DTSTAMP:20260424T142633
CREATED:20240417T174247Z
LAST-MODIFIED:20240417T174247Z
UID:17835-1713531600-1713535200@moebius.cegepmontpetit.ca
SUMMARY:Médialab - RV Test de contrôle Soins Infirmiers
DESCRIPTION:Demande #66196
URL:https://moebius.cegepmontpetit.ca/evenement/medialab-rv-test-de-controle-soins-infirmiers/
LOCATION:D2702
ATTACH;FMTTYPE=image/jpeg:https://moebius.cegepmontpetit.ca/wp-content/uploads/sites/166/2019/04/OculusGo-e1584107211702.jpg
END:VEVENT
END:VCALENDAR