BEGIN:VCALENDAR
VERSION:2.0
PRODID:-//Espace Moebius - ECPv6.0.12//NONSGML v1.0//EN
CALSCALE:GREGORIAN
METHOD:PUBLISH
X-WR-CALNAME:Espace Moebius
X-ORIGINAL-URL:https://moebius.cegepmontpetit.ca
X-WR-CALDESC:évènements pour Espace Moebius
REFRESH-INTERVAL;VALUE=DURATION:PT1H
X-Robots-Tag:noindex
X-PUBLISHED-TTL:PT1H
BEGIN:VTIMEZONE
TZID:America/Toronto
BEGIN:DAYLIGHT
TZOFFSETFROM:-0500
TZOFFSETTO:-0400
TZNAME:EDT
DTSTART:20240310T070000
END:DAYLIGHT
BEGIN:STANDARD
TZOFFSETFROM:-0400
TZOFFSETTO:-0500
TZNAME:EST
DTSTART:20241103T060000
END:STANDARD
END:VTIMEZONE
BEGIN:VEVENT
DTSTART;TZID=America/Toronto:20240426T080000
DTEND;TZID=America/Toronto:20240426T090000
DTSTAMP:20260424T142546
CREATED:20240319T155134Z
LAST-MODIFIED:20240424T135518Z
UID:17707-1714118400-1714122000@moebius.cegepmontpetit.ca
SUMMARY:Placement Local : Équipe de 4 ou CLAAC
DESCRIPTION:Demande #61918 \nAjouts demandés:\n2 tableaux par table\nutiliser un gros tableau blanc près du BENQ
URL:https://moebius.cegepmontpetit.ca/evenement/placement-du-local-equipe-de-4-ou-claac/
LOCATION:D2702
ATTACH;FMTTYPE=image/jpeg:https://moebius.cegepmontpetit.ca/wp-content/uploads/sites/166/2024/03/CLAAC-18_4x4.jpg
END:VEVENT
BEGIN:VEVENT
DTSTART;TZID=America/Toronto:20240426T090000
DTEND;TZID=America/Toronto:20240426T110000
DTSTAMP:20260424T142546
CREATED:20240116T135652Z
LAST-MODIFIED:20240424T134926Z
UID:17202-1714122000-1714129200@moebius.cegepmontpetit.ca
SUMMARY:Réservation Espace Moebius - Cours THD
DESCRIPTION:Disposition du local : En groupe de 4 \nAjouts demandés:\n2 tableaux par table\nutiliser un gros tableau blanc près du BENQ \nMatériel : \n– Boutons sonores : Oui\n– Verres de couleur : Oui \nDemande #61918
URL:https://moebius.cegepmontpetit.ca/evenement/reservation-espace-moebius-cours-thd-24/
LOCATION:D2702
CATEGORIES:Imprimante en fonction,Mode exclusif,Réservation - CLAAC,Téléviseur interactif 1x
ATTACH;FMTTYPE=image/jpeg:https://moebius.cegepmontpetit.ca/wp-content/uploads/sites/166/2019/03/dental-hygiene-600x375.jpg
END:VEVENT
BEGIN:VEVENT
DTSTART;TZID=America/Toronto:20240426T110000
DTEND;TZID=America/Toronto:20240426T113000
DTSTAMP:20260424T142546
CREATED:20240319T155522Z
LAST-MODIFIED:20240419T191046Z
UID:17710-1714129200-1714131000@moebius.cegepmontpetit.ca
SUMMARY:Placement Local : CLAACsique
DESCRIPTION:
URL:https://moebius.cegepmontpetit.ca/evenement/placement-du-local-claacsique/
LOCATION:D2702
END:VEVENT
BEGIN:VEVENT
DTSTART;TZID=America/Toronto:20240426T113000
DTEND;TZID=America/Toronto:20240426T160000
DTSTAMP:20260424T142546
CREATED:20240419T191015Z
LAST-MODIFIED:20240419T191015Z
UID:17841-1714131000-1714147200@moebius.cegepmontpetit.ca
SUMMARY:- Local Fermé -
DESCRIPTION:
URL:https://moebius.cegepmontpetit.ca/evenement/local-ferme-158/
LOCATION:D2702
CATEGORIES:Local fermé
END:VEVENT
END:VCALENDAR