BEGIN:VCALENDAR
VERSION:2.0
PRODID:-//Espace Moebius - ECPv6.0.12//NONSGML v1.0//EN
CALSCALE:GREGORIAN
METHOD:PUBLISH
X-ORIGINAL-URL:https://moebius.cegepmontpetit.ca
X-WR-CALDESC:évènements pour Espace Moebius
REFRESH-INTERVAL;VALUE=DURATION:PT1H
X-Robots-Tag:noindex
X-PUBLISHED-TTL:PT1H
BEGIN:VTIMEZONE
TZID:America/Toronto
BEGIN:DAYLIGHT
TZOFFSETFROM:-0500
TZOFFSETTO:-0400
TZNAME:EDT
DTSTART:20240310T070000
END:DAYLIGHT
BEGIN:STANDARD
TZOFFSETFROM:-0400
TZOFFSETTO:-0500
TZNAME:EST
DTSTART:20241103T060000
END:STANDARD
END:VTIMEZONE
BEGIN:VEVENT
DTSTART;VALUE=DATE:20240820
DTEND;VALUE=DATE:20240822
DTSTAMP:20260424T073609
CREATED:20240522T194405Z
LAST-MODIFIED:20240820T123854Z
UID:18180-1724133600-1724219999@moebius.cegepmontpetit.ca
SUMMARY:Cap sur la Rentrée
DESCRIPTION:Visites sporadiques entre 9 h 45 à 11 h et 13 h 45 à 15 h. \n** Groupe de soins-infirmier en avant-midi pour apprendre l’utilisation de Omnivox
URL:https://moebius.cegepmontpetit.ca/evenement/cap-sur-la-rentree/
LOCATION:D2702
ATTACH;FMTTYPE=image/png:https://moebius.cegepmontpetit.ca/wp-content/uploads/sites/166/2021/08/cap-rentree.png
END:VEVENT
BEGIN:VEVENT
DTSTART;VALUE=DATE:20240820
DTEND;VALUE=DATE:20240822
DTSTAMP:20260424T073609
CREATED:20240813T180453Z
LAST-MODIFIED:20240813T180453Z
UID:18656-1724133600-1724219999@moebius.cegepmontpetit.ca
SUMMARY:Prêt BenQ 75 pouces – Espace conférence
DESCRIPTION:
URL:https://moebius.cegepmontpetit.ca/evenement/pret-benq-75-pouces-espace-conference-5/
LOCATION:D2702
ATTACH;FMTTYPE=image/jpeg:https://moebius.cegepmontpetit.ca/wp-content/uploads/sites/166/2022/06/PXL_20220208_150128587.MP_-scaled.jpg
END:VEVENT
END:VCALENDAR