BEGIN:VCALENDAR
VERSION:2.0
PRODID:-//Espace Moebius - ECPv6.0.12//NONSGML v1.0//EN
CALSCALE:GREGORIAN
METHOD:PUBLISH
X-WR-CALNAME:Espace Moebius
X-ORIGINAL-URL:https://moebius.cegepmontpetit.ca
X-WR-CALDESC:évènements pour Espace Moebius
REFRESH-INTERVAL;VALUE=DURATION:PT1H
X-Robots-Tag:noindex
X-PUBLISHED-TTL:PT1H
BEGIN:VTIMEZONE
TZID:America/Toronto
BEGIN:DAYLIGHT
TZOFFSETFROM:-0500
TZOFFSETTO:-0400
TZNAME:EDT
DTSTART:20240310T070000
END:DAYLIGHT
BEGIN:STANDARD
TZOFFSETFROM:-0400
TZOFFSETTO:-0500
TZNAME:EST
DTSTART:20241103T060000
END:STANDARD
END:VTIMEZONE
BEGIN:VEVENT
DTSTART;TZID=America/Toronto:20240926T103000
DTEND;TZID=America/Toronto:20240926T110000
DTSTAMP:20260424T044914
CREATED:20240816T155002Z
LAST-MODIFIED:20240816T155002Z
UID:18836-1727346600-1727348400@moebius.cegepmontpetit.ca
SUMMARY:Placement Local :  5 groupes de 6 personnes
DESCRIPTION:Disposition : 5 groupes de 6 personnes\nAccessoires : Cartes aimantées de couleur variées
URL:https://moebius.cegepmontpetit.ca/evenement/placement-local-5-groupes-de-6-personnes-3/
LOCATION:D2702
ATTACH;FMTTYPE=image/png:https://moebius.cegepmontpetit.ca/wp-content/uploads/sites/166/2024/08/PLacement_Martine_THD.png
END:VEVENT
BEGIN:VEVENT
DTSTART;TZID=America/Toronto:20240926T110000
DTEND;TZID=America/Toronto:20240926T130000
DTSTAMP:20260424T044914
CREATED:20240816T154721Z
LAST-MODIFIED:20240816T154721Z
UID:18833-1727348400-1727355600@moebius.cegepmontpetit.ca
SUMMARY:Réservation - Cours THD
DESCRIPTION:Disposition : 5 groupes de 6 personnes\nAccessoires : Cartes aimantées de couleur variées\nDemande #69326
URL:https://moebius.cegepmontpetit.ca/evenement/reservation-cours-thd-16/
LOCATION:D2702
CATEGORIES:Imprimante en fonction,Mode exclusif,Réservation - CLAAC,Téléviseur interactif 1x
ATTACH;FMTTYPE=image/jpeg:https://moebius.cegepmontpetit.ca/wp-content/uploads/sites/166/2019/03/dental-hygiene-600x375.jpg
END:VEVENT
BEGIN:VEVENT
DTSTART;TZID=America/Toronto:20240926T130000
DTEND;TZID=America/Toronto:20240926T150000
DTSTAMP:20260424T044914
CREATED:20240919T173321Z
LAST-MODIFIED:20240919T173321Z
UID:19305-1727355600-1727362800@moebius.cegepmontpetit.ca
SUMMARY:Mode Partagé – Test Réalité Augmenté
DESCRIPTION:#69592 \nBesoin: Casque Hololens 2
URL:https://moebius.cegepmontpetit.ca/evenement/mode-partage-test-realite-augmente-4/
LOCATION:D2702
ATTACH;FMTTYPE=image/jpeg:https://moebius.cegepmontpetit.ca/wp-content/uploads/sites/166/2024/02/Quest_3_1_Choix-scaled.jpg
END:VEVENT
BEGIN:VEVENT
DTSTART;TZID=America/Toronto:20240926T153000
DTEND;TZID=America/Toronto:20240926T160000
DTSTAMP:20260424T044914
CREATED:20240822T163916Z
LAST-MODIFIED:20240822T163916Z
UID:18989-1727364600-1727366400@moebius.cegepmontpetit.ca
SUMMARY:Placement local – RV 5 postes mobiles
DESCRIPTION:Casque Quest mobile x5 \nJeux RV: Keep Talking and Nobody Explodes
URL:https://moebius.cegepmontpetit.ca/evenement/placement-local-rv-5-postes-mobiles-5/
LOCATION:D2702
END:VEVENT
BEGIN:VEVENT
DTSTART;TZID=America/Toronto:20240926T160000
DTEND;TZID=America/Toronto:20240926T180000
DTSTAMP:20260424T044914
CREATED:20240822T162714Z
LAST-MODIFIED:20240822T162714Z
UID:18978-1727366400-1727373600@moebius.cegepmontpetit.ca
SUMMARY:Réservation – RV Cours Psychologie
DESCRIPTION:#69417 \nRV: Keep Talking and Nobody Explodes \nCasque Quest mobile x5 + Rift x3
URL:https://moebius.cegepmontpetit.ca/evenement/reservation-rv-cours-psychologie-7/
LOCATION:D2702
CATEGORIES:Atelier - Réalité virtuelle,Mode exclusif
ATTACH;FMTTYPE=image/jpeg:https://moebius.cegepmontpetit.ca/wp-content/uploads/sites/166/2019/03/P1090458.jpg
END:VEVENT
END:VCALENDAR