BEGIN:VCALENDAR
VERSION:2.0
PRODID:-//Espace Moebius - ECPv6.0.12//NONSGML v1.0//EN
CALSCALE:GREGORIAN
METHOD:PUBLISH
X-WR-CALNAME:Espace Moebius
X-ORIGINAL-URL:https://moebius.cegepmontpetit.ca
X-WR-CALDESC:évènements pour Espace Moebius
REFRESH-INTERVAL;VALUE=DURATION:PT1H
X-Robots-Tag:noindex
X-PUBLISHED-TTL:PT1H
BEGIN:VTIMEZONE
TZID:America/Toronto
BEGIN:DAYLIGHT
TZOFFSETFROM:-0500
TZOFFSETTO:-0400
TZNAME:EDT
DTSTART:20240310T070000
END:DAYLIGHT
BEGIN:STANDARD
TZOFFSETFROM:-0400
TZOFFSETTO:-0500
TZNAME:EST
DTSTART:20241103T060000
END:STANDARD
END:VTIMEZONE
BEGIN:VEVENT
DTSTART;TZID=America/Toronto:20241122T103000
DTEND;TZID=America/Toronto:20241122T110000
DTSTAMP:20260424T032910
CREATED:20240920T151958Z
LAST-MODIFIED:20240920T152056Z
UID:19313-1732271400-1732273200@moebius.cegepmontpetit.ca
SUMMARY:Placement Local: 10-4
DESCRIPTION:aimants et tableau  blanc
URL:https://moebius.cegepmontpetit.ca/evenement/placement-local-10-4-3/
LOCATION:D2702
ATTACH;FMTTYPE=image/png:https://moebius.cegepmontpetit.ca/wp-content/uploads/sites/166/2024/05/07_Le_10-4.png
END:VEVENT
BEGIN:VEVENT
DTSTART;TZID=America/Toronto:20241122T110000
DTEND;TZID=America/Toronto:20241122T133000
DTSTAMP:20260424T032911
CREATED:20240920T151900Z
LAST-MODIFIED:20240920T151900Z
UID:19311-1732273200-1732282200@moebius.cegepmontpetit.ca
SUMMARY:Réservation - Cours THD
DESCRIPTION:#71631 \nDisposition: 10-4 + aimants et tableau blanc
URL:https://moebius.cegepmontpetit.ca/evenement/reservation-cours-thd-19/
LOCATION:D2702
CATEGORIES:Mode exclusif,Réservation - CLAAC,Téléviseur interactif 1x
ATTACH;FMTTYPE=image/jpeg:https://moebius.cegepmontpetit.ca/wp-content/uploads/sites/166/2019/10/panoramaEspaceMedialab.jpg
END:VEVENT
END:VCALENDAR