BEGIN:VCALENDAR
VERSION:2.0
PRODID:-//Espace Moebius - ECPv6.0.12//NONSGML v1.0//EN
CALSCALE:GREGORIAN
METHOD:PUBLISH
X-ORIGINAL-URL:https://moebius.cegepmontpetit.ca
X-WR-CALDESC:évènements pour Espace Moebius
REFRESH-INTERVAL;VALUE=DURATION:PT1H
X-Robots-Tag:noindex
X-PUBLISHED-TTL:PT1H
BEGIN:VTIMEZONE
TZID:America/Toronto
BEGIN:DAYLIGHT
TZOFFSETFROM:-0500
TZOFFSETTO:-0400
TZNAME:EDT
DTSTART:20240310T070000
END:DAYLIGHT
BEGIN:STANDARD
TZOFFSETFROM:-0400
TZOFFSETTO:-0500
TZNAME:EST
DTSTART:20241103T060000
END:STANDARD
END:VTIMEZONE
BEGIN:VEVENT
DTSTART;VALUE=DATE:20241216
DTEND;VALUE=DATE:20241218
DTSTAMP:20260424T032922
CREATED:20240522T171236Z
LAST-MODIFIED:20240522T171236Z
UID:18170-1734328800-1734415199@moebius.cegepmontpetit.ca
SUMMARY:Évaluations terminales selon l'horaire régulier des cours (EHR)
DESCRIPTION:
URL:https://moebius.cegepmontpetit.ca/evenement/evaluations-terminales-selon-lhoraire-regulier-des-cours-ehr-2/
LOCATION:D2702
END:VEVENT
BEGIN:VEVENT
DTSTART;VALUE=DATE:20241216
DTEND;VALUE=DATE:20241221
DTSTAMP:20260424T032922
CREATED:20241205T154100Z
LAST-MODIFIED:20241216T144659Z
UID:20009-1734328800-1734674399@moebius.cegepmontpetit.ca
SUMMARY:Prêt - Boutons Sonores
DESCRIPTION:Isabelle Viens \nRemise: 16h10
URL:https://moebius.cegepmontpetit.ca/evenement/pret-boutons-sonores-2/
LOCATION:D2702
ATTACH;FMTTYPE=image/jpeg:https://moebius.cegepmontpetit.ca/wp-content/uploads/sites/166/2019/06/Moebius_2019_05_16_0017-e1568646956205.jpg
END:VEVENT
BEGIN:VEVENT
DTSTART;TZID=America/Toronto:20241216T123000
DTEND;TZID=America/Toronto:20241216T130000
DTSTAMP:20260424T032922
CREATED:20241213T131102Z
LAST-MODIFIED:20241213T131146Z
UID:20016-1734352200-1734354000@moebius.cegepmontpetit.ca
SUMMARY:Placement local: 1 Rift + 1 Quest 2 + 1 Quest 3
DESCRIPTION:#74834 \nSimulation de Jonquiere
URL:https://moebius.cegepmontpetit.ca/evenement/placement-local-1-rift-1-quest-2-1-quest-3/
LOCATION:D2702
END:VEVENT
BEGIN:VEVENT
DTSTART;TZID=America/Toronto:20241216T130000
DTEND;TZID=America/Toronto:20241216T140000
DTSTAMP:20260424T032922
CREATED:20241213T130943Z
LAST-MODIFIED:20241213T131208Z
UID:20014-1734354000-1734357600@moebius.cegepmontpetit.ca
SUMMARY:Réservation - Test simulation
DESCRIPTION:#74834 \nSimulation Cégep de Jonquiere\n– Combien de casque Rift : 1\n– Combien de casque Meta Quest 2 : 1\n– Combien de casque Meta Quest 3 : 1
URL:https://moebius.cegepmontpetit.ca/evenement/reservation-test-simulation/
LOCATION:D2702
CATEGORIES:Atelier - Réalité virtuelle,Mode partagé
ATTACH;FMTTYPE=image/jpeg:https://moebius.cegepmontpetit.ca/wp-content/uploads/sites/166/2024/02/Quest_3_1_Choix-scaled.jpg
END:VEVENT
BEGIN:VEVENT
DTSTART;TZID=America/Toronto:20241216T143000
DTEND;TZID=America/Toronto:20241216T150000
DTSTAMP:20260424T032922
CREATED:20241122T135817Z
LAST-MODIFIED:20241122T135817Z
UID:19966-1734359400-1734361200@moebius.cegepmontpetit.ca
SUMMARY:Placement local: ONU
DESCRIPTION:#74049
URL:https://moebius.cegepmontpetit.ca/evenement/placement-local-onu-4/
LOCATION:D2702
ATTACH;FMTTYPE=image/png:https://moebius.cegepmontpetit.ca/wp-content/uploads/sites/166/2024/05/08_LONU.png
END:VEVENT
BEGIN:VEVENT
DTSTART;TZID=America/Toronto:20241216T150000
DTEND;TZID=America/Toronto:20241216T180000
DTSTAMP:20260424T032922
CREATED:20241122T135726Z
LAST-MODIFIED:20241122T135726Z
UID:19964-1734361200-1734372000@moebius.cegepmontpetit.ca
SUMMARY:Réservation – Cours Économie
DESCRIPTION:#74049 \nDisposition: ONU
URL:https://moebius.cegepmontpetit.ca/evenement/reservation-cours-economie-4/
LOCATION:D2702
CATEGORIES:Imprimante en fonction,Mode exclusif
ATTACH;FMTTYPE=image/png:https://moebius.cegepmontpetit.ca/wp-content/uploads/sites/166/2024/05/08_LONU.png
END:VEVENT
END:VCALENDAR