BEGIN:VCALENDAR
VERSION:2.0
PRODID:-//Espace Moebius - ECPv6.0.12//NONSGML v1.0//EN
CALSCALE:GREGORIAN
METHOD:PUBLISH
X-ORIGINAL-URL:https://moebius.cegepmontpetit.ca
X-WR-CALDESC:évènements pour Espace Moebius
REFRESH-INTERVAL;VALUE=DURATION:PT1H
X-Robots-Tag:noindex
X-PUBLISHED-TTL:PT1H
BEGIN:VTIMEZONE
TZID:America/Toronto
BEGIN:DAYLIGHT
TZOFFSETFROM:-0500
TZOFFSETTO:-0400
TZNAME:EDT
DTSTART:20240310T070000
END:DAYLIGHT
BEGIN:STANDARD
TZOFFSETFROM:-0400
TZOFFSETTO:-0500
TZNAME:EST
DTSTART:20241103T060000
END:STANDARD
END:VTIMEZONE
BEGIN:VEVENT
DTSTART;VALUE=DATE:20241216
DTEND;VALUE=DATE:20241221
DTSTAMP:20260424T032921
CREATED:20241205T154100Z
LAST-MODIFIED:20241216T144659Z
UID:20009-1734328800-1734674399@moebius.cegepmontpetit.ca
SUMMARY:Prêt - Boutons Sonores
DESCRIPTION:Isabelle Viens \nRemise: 16h10
URL:https://moebius.cegepmontpetit.ca/evenement/pret-boutons-sonores-2/
LOCATION:D2702
ATTACH;FMTTYPE=image/jpeg:https://moebius.cegepmontpetit.ca/wp-content/uploads/sites/166/2019/06/Moebius_2019_05_16_0017-e1568646956205.jpg
END:VEVENT
BEGIN:VEVENT
DTSTART;VALUE=DATE:20241218
DTEND;VALUE=DATE:20241220
DTSTAMP:20260424T032921
CREATED:20240522T171339Z
LAST-MODIFIED:20240522T171339Z
UID:18174-1734501600-1734587999@moebius.cegepmontpetit.ca
SUMMARY:Épreuve uniforme de langue d'enseignement et littérature (EUL)
DESCRIPTION:
URL:https://moebius.cegepmontpetit.ca/evenement/epreuve-uniforme-de-langue-denseignement-et-litterature-eul-3/
LOCATION:D2702
END:VEVENT
BEGIN:VEVENT
DTSTART;TZID=America/Toronto:20241218T083000
DTEND;TZID=America/Toronto:20241218T090000
DTSTAMP:20260424T032921
CREATED:20241127T203711Z
LAST-MODIFIED:20241127T203711Z
UID:19993-1734510600-1734512400@moebius.cegepmontpetit.ca
SUMMARY:Placement Local: ONU
DESCRIPTION:
URL:https://moebius.cegepmontpetit.ca/evenement/placement-local-onu-5/
LOCATION:D2702
ATTACH;FMTTYPE=image/png:https://moebius.cegepmontpetit.ca/wp-content/uploads/sites/166/2024/05/ONU-Modifiee.png
END:VEVENT
BEGIN:VEVENT
DTSTART;TZID=America/Toronto:20241218T090000
DTEND;TZID=America/Toronto:20241218T103000
DTSTAMP:20260424T032921
CREATED:20241127T203603Z
LAST-MODIFIED:20241127T203603Z
UID:19991-1734512400-1734517800@moebius.cegepmontpetit.ca
SUMMARY:Réservation - Conférence membres communauté pratique
DESCRIPTION:#74281 \nDisposition: En grand U avec le téléviseur en face pour une présentation PowerPoint.
URL:https://moebius.cegepmontpetit.ca/evenement/reservation-conference-membres-communaute-pratique/
LOCATION:D2702
CATEGORIES:Réservation - CLAAC,Téléviseur interactif 1x
ATTACH;FMTTYPE=image/png:https://moebius.cegepmontpetit.ca/wp-content/uploads/sites/166/2024/05/ONU-Modifiee.png
END:VEVENT
BEGIN:VEVENT
DTSTART;TZID=America/Toronto:20241218T130000
DTEND;TZID=America/Toronto:20241218T163000
DTSTAMP:20260424T032921
CREATED:20241216T194241Z
LAST-MODIFIED:20241216T194241Z
UID:20020-1734526800-1734539400@moebius.cegepmontpetit.ca
SUMMARY:Réservation - Réunion départemental TIM
DESCRIPTION:#74928
URL:https://moebius.cegepmontpetit.ca/evenement/reservation-reunion-departemental-tim/
LOCATION:D2702
CATEGORIES:Imprimante en fonction,Mode exclusif,Réservation - CLAAC,Téléviseur interactif 1x
ATTACH;FMTTYPE=image/jpeg:https://moebius.cegepmontpetit.ca/wp-content/uploads/sites/166/2019/10/panorama-espace-CLAAC.jpg
END:VEVENT
END:VCALENDAR