BEGIN:VCALENDAR
VERSION:2.0
PRODID:-//Espace Moebius - ECPv6.0.12//NONSGML v1.0//EN
CALSCALE:GREGORIAN
METHOD:PUBLISH
X-ORIGINAL-URL:https://moebius.cegepmontpetit.ca
X-WR-CALDESC:évènements pour Espace Moebius
REFRESH-INTERVAL;VALUE=DURATION:PT1H
X-Robots-Tag:noindex
X-PUBLISHED-TTL:PT1H
BEGIN:VTIMEZONE
TZID:America/Toronto
BEGIN:DAYLIGHT
TZOFFSETFROM:-0500
TZOFFSETTO:-0400
TZNAME:EDT
DTSTART:20240310T070000
END:DAYLIGHT
BEGIN:STANDARD
TZOFFSETFROM:-0400
TZOFFSETTO:-0500
TZNAME:EST
DTSTART:20241103T060000
END:STANDARD
END:VTIMEZONE
BEGIN:VEVENT
DTSTART;VALUE=DATE:20241219
DTEND;VALUE=DATE:20241222
DTSTAMP:20260424T032924
CREATED:20240522T171417Z
LAST-MODIFIED:20240522T171417Z
UID:18176-1734588000-1734760799@moebius.cegepmontpetit.ca
SUMMARY:Évaluations terminales selon l'horaire régulier des cours (EHR)
DESCRIPTION:
URL:https://moebius.cegepmontpetit.ca/evenement/evaluations-terminales-selon-lhoraire-regulier-des-cours-ehr-3/
LOCATION:D2702
END:VEVENT
BEGIN:VEVENT
DTSTART;TZID=America/Toronto:20241220T090000
DTEND;TZID=America/Toronto:20241220T120000
DTSTAMP:20260424T032924
CREATED:20241114T153140Z
LAST-MODIFIED:20241114T153140Z
UID:19874-1734685200-1734696000@moebius.cegepmontpetit.ca
SUMMARY:Réservation - Rencontre DiSTI
DESCRIPTION:#73780
URL:https://moebius.cegepmontpetit.ca/evenement/reservation-rencontre-disti/
LOCATION:D2702
CATEGORIES:Réservation - CLAAC,Téléviseur interactif 1x
ATTACH;FMTTYPE=image/jpeg:https://moebius.cegepmontpetit.ca/wp-content/uploads/sites/166/2019/10/panorama-espace-CLAAC.jpg
END:VEVENT
END:VCALENDAR