BEGIN:VCALENDAR
VERSION:2.0
PRODID:-//Espace Moebius - ECPv6.0.12//NONSGML v1.0//EN
CALSCALE:GREGORIAN
METHOD:PUBLISH
X-ORIGINAL-URL:https://moebius.cegepmontpetit.ca
X-WR-CALDESC:évènements pour Espace Moebius
REFRESH-INTERVAL;VALUE=DURATION:PT1H
X-Robots-Tag:noindex
X-PUBLISHED-TTL:PT1H
BEGIN:VTIMEZONE
TZID:America/Toronto
BEGIN:DAYLIGHT
TZOFFSETFROM:-0500
TZOFFSETTO:-0400
TZNAME:EDT
DTSTART:20250309T070000
END:DAYLIGHT
BEGIN:STANDARD
TZOFFSETFROM:-0400
TZOFFSETTO:-0500
TZNAME:EST
DTSTART:20251102T060000
END:STANDARD
END:VTIMEZONE
BEGIN:VEVENT
DTSTART;VALUE=DATE:20250120
DTEND;VALUE=DATE:20250122
DTSTAMP:20260423T232305
CREATED:20241120T143108Z
LAST-MODIFIED:20241120T143215Z
UID:19937-1737352800-1737439199@moebius.cegepmontpetit.ca
SUMMARY:Cap sur la Rentrée
DESCRIPTION:Visites sporadiques entre 9 h à 12 h et 13 h à 16 h.
URL:https://moebius.cegepmontpetit.ca/evenement/cap-sur-la-rentree-2/
LOCATION:D2702
ATTACH;FMTTYPE=image/png:https://moebius.cegepmontpetit.ca/wp-content/uploads/sites/166/2021/08/cap-rentree.png
END:VEVENT
BEGIN:VEVENT
DTSTART;TZID=America/Toronto:20250120T100000
DTEND;TZID=America/Toronto:20250120T120000
DTSTAMP:20260423T232305
CREATED:20241211T165532Z
LAST-MODIFIED:20241211T165532Z
UID:20012-1737367200-1737374400@moebius.cegepmontpetit.ca
SUMMARY:Réservation - Rentré soins
DESCRIPTION:#74774 \nOrdinateur: 25 \nDisposition: 10-4
URL:https://moebius.cegepmontpetit.ca/evenement/reservation-rentre-soins/
LOCATION:D2702
CATEGORIES:Atelier - téléviseur interactif,Réservation - CLAAC,Téléviseur interactif 1x
ATTACH;FMTTYPE=image/png:https://moebius.cegepmontpetit.ca/wp-content/uploads/sites/166/2024/05/07_Le_10-4.png
END:VEVENT
END:VCALENDAR