BEGIN:VCALENDAR
VERSION:2.0
PRODID:-//Espace Moebius - ECPv6.0.12//NONSGML v1.0//EN
CALSCALE:GREGORIAN
METHOD:PUBLISH
X-ORIGINAL-URL:https://moebius.cegepmontpetit.ca
X-WR-CALDESC:évènements pour Espace Moebius
REFRESH-INTERVAL;VALUE=DURATION:PT1H
X-Robots-Tag:noindex
X-PUBLISHED-TTL:PT1H
BEGIN:VTIMEZONE
TZID:America/Toronto
BEGIN:DAYLIGHT
TZOFFSETFROM:-0500
TZOFFSETTO:-0400
TZNAME:EDT
DTSTART:20250309T070000
END:DAYLIGHT
BEGIN:STANDARD
TZOFFSETFROM:-0400
TZOFFSETTO:-0500
TZNAME:EST
DTSTART:20251102T060000
END:STANDARD
END:VTIMEZONE
BEGIN:VEVENT
DTSTART;TZID=America/Toronto:20250129T093000
DTEND;TZID=America/Toronto:20250129T100000
DTSTAMP:20260423T215252
CREATED:20250120T165046Z
LAST-MODIFIED:20250127T180937Z
UID:20265-1738143000-1738144800@moebius.cegepmontpetit.ca
SUMMARY:Placement Local: 6 tables de 4 et une table de 6 personnes.
DESCRIPTION:
URL:https://moebius.cegepmontpetit.ca/evenement/placement-local-6-tables-de-4-et-une-table-de-6-personnes/
LOCATION:D2702
ATTACH;FMTTYPE=image/png:https://moebius.cegepmontpetit.ca/wp-content/uploads/sites/166/2025/01/Disposition_29janv.png
END:VEVENT
BEGIN:VEVENT
DTSTART;TZID=America/Toronto:20250129T100000
DTEND;TZID=America/Toronto:20250129T120000
DTSTAMP:20260423T215252
CREATED:20250117T191156Z
LAST-MODIFIED:20250117T191156Z
UID:20170-1738144800-1738152000@moebius.cegepmontpetit.ca
SUMMARY:Réservation - Cours Techniques d'hygiène dentaire
DESCRIPTION:#75615 \nDisposition: 6 tables de 4 et une table de 6 personnes.  \n-BenQ\n-Table pour mon matériel enseignante.\n-Tableau blanc + crayons\n– Boutons sonores : Oui\n– Verres de couleur : Oui\n– Cartes aimantées de couleur variées : Oui
URL:https://moebius.cegepmontpetit.ca/evenement/reservation-cours-techniques-dhygiene-dentaire/
LOCATION:D2702
CATEGORIES:Imprimante en fonction,Mode exclusif,Réservation - CLAAC,Téléviseur interactif 1x
ATTACH;FMTTYPE=image/jpeg:https://moebius.cegepmontpetit.ca/wp-content/uploads/sites/166/2019/10/panoramaEspaceMedialab.jpg
END:VEVENT
END:VCALENDAR