BEGIN:VCALENDAR
VERSION:2.0
PRODID:-//Espace Moebius - ECPv6.0.12//NONSGML v1.0//EN
CALSCALE:GREGORIAN
METHOD:PUBLISH
X-ORIGINAL-URL:https://moebius.cegepmontpetit.ca
X-WR-CALDESC:évènements pour Espace Moebius
REFRESH-INTERVAL;VALUE=DURATION:PT1H
X-Robots-Tag:noindex
X-PUBLISHED-TTL:PT1H
BEGIN:VTIMEZONE
TZID:America/Toronto
BEGIN:DAYLIGHT
TZOFFSETFROM:-0500
TZOFFSETTO:-0400
TZNAME:EDT
DTSTART:20250309T070000
END:DAYLIGHT
BEGIN:STANDARD
TZOFFSETFROM:-0400
TZOFFSETTO:-0500
TZNAME:EST
DTSTART:20251102T060000
END:STANDARD
END:VTIMEZONE
BEGIN:VEVENT
DTSTART;TZID=America/Toronto:20250131T100000
DTEND;TZID=America/Toronto:20250131T150000
DTSTAMP:20260423T215251
CREATED:20250116T193222Z
LAST-MODIFIED:20250117T180041Z
UID:20145-1738317600-1738335600@moebius.cegepmontpetit.ca
SUMMARY:Réservation - Cours TIM stage
DESCRIPTION:#75607 \n* Configuration: CLAAC-sique\n* 1 professeur\n* 40 étudiants \n* 40 ordinateurs portables (AM + PM)\n* Tableaux blanc sur roulettes  avec crayons 
URL:https://moebius.cegepmontpetit.ca/evenement/reservation-cours-tim-stage/
LOCATION:D2702
ATTACH;FMTTYPE=image/jpeg:https://moebius.cegepmontpetit.ca/wp-content/uploads/sites/166/2019/10/panoramaEspaceMedialab.jpg
END:VEVENT
END:VCALENDAR