BEGIN:VCALENDAR
VERSION:2.0
PRODID:-//Espace Moebius - ECPv6.0.12//NONSGML v1.0//EN
CALSCALE:GREGORIAN
METHOD:PUBLISH
X-WR-CALNAME:Espace Moebius
X-ORIGINAL-URL:https://moebius.cegepmontpetit.ca
X-WR-CALDESC:évènements pour Espace Moebius
REFRESH-INTERVAL;VALUE=DURATION:PT1H
X-Robots-Tag:noindex
X-PUBLISHED-TTL:PT1H
BEGIN:VTIMEZONE
TZID:America/Toronto
BEGIN:DAYLIGHT
TZOFFSETFROM:-0500
TZOFFSETTO:-0400
TZNAME:EDT
DTSTART:20250309T070000
END:DAYLIGHT
BEGIN:STANDARD
TZOFFSETFROM:-0400
TZOFFSETTO:-0500
TZNAME:EST
DTSTART:20251102T060000
END:STANDARD
END:VTIMEZONE
BEGIN:VEVENT
DTSTART;TZID=America/Toronto:20250217T153000
DTEND;TZID=America/Toronto:20250217T160000
DTSTAMP:20260423T215147
CREATED:20250120T181208Z
LAST-MODIFIED:20250120T181208Z
UID:20275-1739806200-1739808000@moebius.cegepmontpetit.ca
SUMMARY:Placement Local: 6 station RV
DESCRIPTION:
URL:https://moebius.cegepmontpetit.ca/evenement/placement-local-6-station-rv/
LOCATION:D2702
END:VEVENT
END:VCALENDAR