BEGIN:VCALENDAR
VERSION:2.0
PRODID:-//Espace Moebius - ECPv6.0.12//NONSGML v1.0//EN
CALSCALE:GREGORIAN
METHOD:PUBLISH
X-ORIGINAL-URL:https://moebius.cegepmontpetit.ca
X-WR-CALDESC:évènements pour Espace Moebius
REFRESH-INTERVAL;VALUE=DURATION:PT1H
X-Robots-Tag:noindex
X-PUBLISHED-TTL:PT1H
BEGIN:VTIMEZONE
TZID:America/Toronto
BEGIN:DAYLIGHT
TZOFFSETFROM:-0500
TZOFFSETTO:-0400
TZNAME:EDT
DTSTART:20250309T070000
END:DAYLIGHT
BEGIN:STANDARD
TZOFFSETFROM:-0400
TZOFFSETTO:-0500
TZNAME:EST
DTSTART:20251102T060000
END:STANDARD
END:VTIMEZONE
BEGIN:VEVENT
DTSTART;TZID=America/Toronto:20250219T093000
DTEND;TZID=America/Toronto:20250219T100000
DTSTAMP:20260423T215249
CREATED:20250120T181454Z
LAST-MODIFIED:20250210T161342Z
UID:20277-1739957400-1739959200@moebius.cegepmontpetit.ca
SUMMARY:Placement Local: 6 tables de 4 et une table de 6 personnes. + 9 station
DESCRIPTION:
URL:https://moebius.cegepmontpetit.ca/evenement/placement-local-6-tables-de-4-et-une-table-de-6-personnes-4/
LOCATION:D2702
ATTACH;FMTTYPE=image/png:https://moebius.cegepmontpetit.ca/wp-content/uploads/sites/166/2025/01/Dispostion_19fevrier_mariemichelle.png
END:VEVENT
BEGIN:VEVENT
DTSTART;TZID=America/Toronto:20250219T100000
DTEND;TZID=America/Toronto:20250219T120000
DTSTAMP:20260423T215249
CREATED:20250117T192320Z
LAST-MODIFIED:20250210T161413Z
UID:20176-1739959200-1739966400@moebius.cegepmontpetit.ca
SUMMARY:Réservation – Cours Techniques d’hygiène dentaire
DESCRIPTION:#75615 \nDisposition: 6 tables de 4 et une table de 6 personnes. \n-BenQ\n-Table pour mon matériel enseignante.\n-Tableau blanc + crayons\n– Boutons sonores : Oui\n– Verres de couleur : Oui\n– Cartes aimantées de couleur variées : Oui
URL:https://moebius.cegepmontpetit.ca/evenement/reservation-cours-techniques-dhygiene-dentaire-4/
LOCATION:D2702
CATEGORIES:Imprimante en fonction,Mode exclusif,Réservation - CLAAC,Téléviseur interactif 1x
ATTACH;FMTTYPE=image/png:https://moebius.cegepmontpetit.ca/wp-content/uploads/sites/166/2025/01/Dispostion_19fevrier_mariemichelle.png
END:VEVENT
BEGIN:VEVENT
DTSTART;TZID=America/Toronto:20250219T120000
DTEND;TZID=America/Toronto:20250219T140000
DTSTAMP:20260423T215249
CREATED:20240930T172636Z
LAST-MODIFIED:20250120T181904Z
UID:19391-1739966400-1739973600@moebius.cegepmontpetit.ca
SUMMARY:Réservation - Conférence
DESCRIPTION:#70696
URL:https://moebius.cegepmontpetit.ca/evenement/reservation-conference/
LOCATION:D2702
ATTACH;FMTTYPE=image/png:https://moebius.cegepmontpetit.ca/wp-content/uploads/sites/166/2024/05/13_Le_Premier-Ministre.png
END:VEVENT
BEGIN:VEVENT
DTSTART;TZID=America/Toronto:20250219T133000
DTEND;TZID=America/Toronto:20250219T140000
DTSTAMP:20260423T215249
CREATED:20250120T181621Z
LAST-MODIFIED:20250120T181621Z
UID:20279-1739971800-1739973600@moebius.cegepmontpetit.ca
SUMMARY:Placement Local: 6 équipes de 4 personnes.
DESCRIPTION:
URL:https://moebius.cegepmontpetit.ca/evenement/placement-local-6-equipes-de-4-personnes-2/
LOCATION:D2702
END:VEVENT
BEGIN:VEVENT
DTSTART;TZID=America/Toronto:20250219T140000
DTEND;TZID=America/Toronto:20250219T160000
DTSTAMP:20260423T215249
CREATED:20250120T140610Z
LAST-MODIFIED:20250120T140610Z
UID:20227-1739973600-1739980800@moebius.cegepmontpetit.ca
SUMMARY:Réservation – Cours Techniques d’hygiène dentaire
DESCRIPTION:#75627 \nDisposition: 6 équipes de 4 personnes. \n– Cartes aimantées de couleur variées : Oui
URL:https://moebius.cegepmontpetit.ca/evenement/reservation-cours-techniques-dhygiene-dentaire-13/
LOCATION:D2702
CATEGORIES:Imprimante en fonction,Mode exclusif,Réservation - CLAAC,Téléviseur interactif 1x
ATTACH;FMTTYPE=image/jpeg:https://moebius.cegepmontpetit.ca/wp-content/uploads/sites/166/2019/10/panoramaEspaceMedialab.jpg
END:VEVENT
BEGIN:VEVENT
DTSTART;TZID=America/Toronto:20250219T153000
DTEND;TZID=America/Toronto:20250219T160000
DTSTAMP:20260423T215249
CREATED:20250120T182058Z
LAST-MODIFIED:20250120T182058Z
UID:20281-1739979000-1739980800@moebius.cegepmontpetit.ca
SUMMARY:Placement Local: 6 station RV Keep talking
DESCRIPTION:
URL:https://moebius.cegepmontpetit.ca/evenement/placement-local-6-station-rv-keep-talking/
LOCATION:D2702
END:VEVENT
END:VCALENDAR