BEGIN:VCALENDAR
VERSION:2.0
PRODID:-//Espace Moebius - ECPv6.0.12//NONSGML v1.0//EN
CALSCALE:GREGORIAN
METHOD:PUBLISH
X-ORIGINAL-URL:https://moebius.cegepmontpetit.ca
X-WR-CALDESC:évènements pour Espace Moebius
REFRESH-INTERVAL;VALUE=DURATION:PT1H
X-Robots-Tag:noindex
X-PUBLISHED-TTL:PT1H
BEGIN:VTIMEZONE
TZID:America/Toronto
BEGIN:DAYLIGHT
TZOFFSETFROM:-0500
TZOFFSETTO:-0400
TZNAME:EDT
DTSTART:20250309T070000
END:DAYLIGHT
BEGIN:STANDARD
TZOFFSETFROM:-0400
TZOFFSETTO:-0500
TZNAME:EST
DTSTART:20251102T060000
END:STANDARD
END:VTIMEZONE
BEGIN:VEVENT
DTSTART;TZID=America/Toronto:20250404T090000
DTEND;TZID=America/Toronto:20250404T110000
DTSTAMP:20260423T215254
CREATED:20250327T184606Z
LAST-MODIFIED:20250327T184731Z
UID:20502-1743757200-1743764400@moebius.cegepmontpetit.ca
SUMMARY:Réservation - Test simulation Soins
DESCRIPTION:Sim 12 et 13
URL:https://moebius.cegepmontpetit.ca/evenement/reservation-test-simulation-soins-3/
LOCATION:D2702
ATTACH;FMTTYPE=image/jpeg:https://moebius.cegepmontpetit.ca/wp-content/uploads/sites/166/2024/02/Quest_3_1_Choix-scaled.jpg
END:VEVENT
BEGIN:VEVENT
DTSTART;TZID=America/Toronto:20250404T113000
DTEND;TZID=America/Toronto:20250404T120000
DTSTAMP:20260423T215254
CREATED:20250120T192901Z
LAST-MODIFIED:20250120T201530Z
UID:20302-1743766200-1743768000@moebius.cegepmontpetit.ca
SUMMARY:Placement Local: Table ronde
DESCRIPTION:75614
URL:https://moebius.cegepmontpetit.ca/evenement/placement-local-table-ronde-a-confimer/
LOCATION:D2702
ATTACH;FMTTYPE=image/png:https://moebius.cegepmontpetit.ca/wp-content/uploads/sites/166/2024/08/Disposition_Myriam_Laberge_11nov9h-12h.png
END:VEVENT
BEGIN:VEVENT
DTSTART;TZID=America/Toronto:20250404T120000
DTEND;TZID=America/Toronto:20250404T150000
DTSTAMP:20260423T215254
CREATED:20250117T184938Z
LAST-MODIFIED:20250117T184938Z
UID:20166-1743768000-1743778800@moebius.cegepmontpetit.ca
SUMMARY:Réservation - Cours Techniques administratives
DESCRIPTION:#75614 \nDisposition: table ronde de 40 étudiants
URL:https://moebius.cegepmontpetit.ca/evenement/reservation-cours-techniques-administratives/
LOCATION:D2702
CATEGORIES:Mode exclusif,Réservation - CLAAC,Téléviseur interactif 1x
ATTACH;FMTTYPE=image/jpeg:https://moebius.cegepmontpetit.ca/wp-content/uploads/sites/166/2019/10/panoramaEspaceMedialab.jpg
END:VEVENT
END:VCALENDAR