BEGIN:VCALENDAR
VERSION:2.0
PRODID:-//Espace Moebius - ECPv6.0.12//NONSGML v1.0//EN
CALSCALE:GREGORIAN
METHOD:PUBLISH
X-ORIGINAL-URL:https://moebius.cegepmontpetit.ca
X-WR-CALDESC:évènements pour Espace Moebius
REFRESH-INTERVAL;VALUE=DURATION:PT1H
X-Robots-Tag:noindex
X-PUBLISHED-TTL:PT1H
BEGIN:VTIMEZONE
TZID:America/Toronto
BEGIN:DAYLIGHT
TZOFFSETFROM:-0500
TZOFFSETTO:-0400
TZNAME:EDT
DTSTART:20250309T070000
END:DAYLIGHT
BEGIN:STANDARD
TZOFFSETFROM:-0400
TZOFFSETTO:-0500
TZNAME:EST
DTSTART:20251102T060000
END:STANDARD
END:VTIMEZONE
BEGIN:VEVENT
DTSTART;VALUE=DATE:20250410
DTEND;VALUE=DATE:20250412
DTSTAMP:20260423T172702
CREATED:20240523T134929Z
LAST-MODIFIED:20240523T134929Z
UID:18192-1744264800-1744351199@moebius.cegepmontpetit.ca
SUMMARY:Journée particulière d'enseignement (JR*)
DESCRIPTION:
URL:https://moebius.cegepmontpetit.ca/evenement/journee-particuliere-denseignement-jr-9/
LOCATION:D2702
END:VEVENT
BEGIN:VEVENT
DTSTART;TZID=America/Toronto:20250410T090000
DTEND;TZID=America/Toronto:20250410T110000
DTSTAMP:20260423T172702
CREATED:20250117T142642Z
LAST-MODIFIED:20250117T142642Z
UID:20151-1744275600-1744282800@moebius.cegepmontpetit.ca
SUMMARY:Réservation - Forum des coordinations
DESCRIPTION:#75577 \nDisposition: à venir
URL:https://moebius.cegepmontpetit.ca/evenement/reservation-forum-des-coordinations/
LOCATION:D2702
CATEGORIES:Imprimante en fonction,Mode exclusif,Réservation - CLAAC,Téléviseur interactif 1x
ATTACH;FMTTYPE=image/jpeg:https://moebius.cegepmontpetit.ca/wp-content/uploads/sites/166/2019/10/panoramaEspaceMedialab.jpg
END:VEVENT
BEGIN:VEVENT
DTSTART;TZID=America/Toronto:20250410T130000
DTEND;TZID=America/Toronto:20250410T133000
DTSTAMP:20260423T172702
CREATED:20250305T183938Z
LAST-MODIFIED:20250305T183938Z
UID:20465-1744290000-1744291800@moebius.cegepmontpetit.ca
SUMMARY:Placement Local: Disposition personnelle
DESCRIPTION:
URL:https://moebius.cegepmontpetit.ca/evenement/placement-local-disposition-personnelle-6/
LOCATION:D2702
ATTACH;FMTTYPE=image/png:https://moebius.cegepmontpetit.ca/wp-content/uploads/sites/166/2025/03/Plan.png
END:VEVENT
BEGIN:VEVENT
DTSTART;TZID=America/Toronto:20250410T133000
DTEND;TZID=America/Toronto:20250410T153000
DTSTAMP:20260423T172702
CREATED:20250305T183856Z
LAST-MODIFIED:20250305T183856Z
UID:20462-1744291800-1744299000@moebius.cegepmontpetit.ca
SUMMARY:Réservation - Formation Continue
DESCRIPTION:#77646 \nDisposition: Regarder plan
URL:https://moebius.cegepmontpetit.ca/evenement/reservation-formation-continue-2/
LOCATION:D2702
CATEGORIES:Imprimante en fonction
ATTACH;FMTTYPE=image/png:https://moebius.cegepmontpetit.ca/wp-content/uploads/sites/166/2025/03/Plan.png
END:VEVENT
END:VCALENDAR