BEGIN:VCALENDAR
VERSION:2.0
PRODID:-//Espace Moebius - ECPv6.0.12//NONSGML v1.0//EN
CALSCALE:GREGORIAN
METHOD:PUBLISH
X-WR-CALNAME:Espace Moebius
X-ORIGINAL-URL:https://moebius.cegepmontpetit.ca
X-WR-CALDESC:évènements pour Espace Moebius
REFRESH-INTERVAL;VALUE=DURATION:PT1H
X-Robots-Tag:noindex
X-PUBLISHED-TTL:PT1H
BEGIN:VTIMEZONE
TZID:America/Toronto
BEGIN:DAYLIGHT
TZOFFSETFROM:-0500
TZOFFSETTO:-0400
TZNAME:EDT
DTSTART:20250309T070000
END:DAYLIGHT
BEGIN:STANDARD
TZOFFSETFROM:-0400
TZOFFSETTO:-0500
TZNAME:EST
DTSTART:20251102T060000
END:STANDARD
END:VTIMEZONE
BEGIN:VEVENT
DTSTART;TZID=America/Toronto:20250414T090000
DTEND;TZID=America/Toronto:20250414T120000
DTSTAMP:20260423T215147
CREATED:20250204T184146Z
LAST-MODIFIED:20250204T184146Z
UID:20372-1744621200-1744632000@moebius.cegepmontpetit.ca
SUMMARY:Réservation - Test simulation soins
DESCRIPTION:Sim 12\nSim 13
URL:https://moebius.cegepmontpetit.ca/evenement/reservation-test-simulation-soins/
LOCATION:D2702
CATEGORIES:Atelier - Réalité virtuelle,Mode partagé
ATTACH;FMTTYPE=image/jpeg:https://moebius.cegepmontpetit.ca/wp-content/uploads/sites/166/2019/04/P1090458.jpg
END:VEVENT
BEGIN:VEVENT
DTSTART;TZID=America/Toronto:20250414T143000
DTEND;TZID=America/Toronto:20250414T150000
DTSTAMP:20260423T215147
CREATED:20250120T193829Z
LAST-MODIFIED:20250409T125747Z
UID:20306-1744641000-1744642800@moebius.cegepmontpetit.ca
SUMMARY:Placement Local: À venir
DESCRIPTION:
URL:https://moebius.cegepmontpetit.ca/evenement/placement-local-3/
LOCATION:D2702
ATTACH;FMTTYPE=image/png:https://moebius.cegepmontpetit.ca/wp-content/uploads/sites/166/2025/01/Disposition_Joanie_14avril.png
END:VEVENT
BEGIN:VEVENT
DTSTART;TZID=America/Toronto:20250414T150000
DTEND;TZID=America/Toronto:20250414T170000
DTSTAMP:20260423T215147
CREATED:20250120T163415Z
LAST-MODIFIED:20250409T125823Z
UID:20259-1744642800-1744650000@moebius.cegepmontpetit.ca
SUMMARY:Réservation - Cours Techniques d'hygiène dentaire
DESCRIPTION:#75685 \nDisposition: Personnelle \nAuront besoin d’un tableau et aimants si possible \nPortable: 29
URL:https://moebius.cegepmontpetit.ca/evenement/reservation-cours-techniques-dhygiene-dentaire-17/
LOCATION:D2702
CATEGORIES:Besoin de portables,Imprimante en fonction,Mode exclusif,Réservation - CLAAC,Téléviseur interactif 2x
ATTACH;FMTTYPE=image/png:https://moebius.cegepmontpetit.ca/wp-content/uploads/sites/166/2025/01/Disposition_Joanie_14avril.png
END:VEVENT
END:VCALENDAR