BEGIN:VCALENDAR
VERSION:2.0
PRODID:-//Espace Moebius - ECPv6.0.12//NONSGML v1.0//EN
CALSCALE:GREGORIAN
METHOD:PUBLISH
X-WR-CALNAME:Espace Moebius
X-ORIGINAL-URL:https://moebius.cegepmontpetit.ca
X-WR-CALDESC:évènements pour Espace Moebius
REFRESH-INTERVAL;VALUE=DURATION:PT1H
X-Robots-Tag:noindex
X-PUBLISHED-TTL:PT1H
BEGIN:VTIMEZONE
TZID:America/Toronto
BEGIN:DAYLIGHT
TZOFFSETFROM:-0500
TZOFFSETTO:-0400
TZNAME:EDT
DTSTART:20250309T070000
END:DAYLIGHT
BEGIN:STANDARD
TZOFFSETFROM:-0400
TZOFFSETTO:-0500
TZNAME:EST
DTSTART:20251102T060000
END:STANDARD
END:VTIMEZONE
BEGIN:VEVENT
DTSTART;TZID=America/Toronto:20250617T080000
DTEND;TZID=America/Toronto:20250617T120000
DTSTAMP:20260423T172632
CREATED:20250613T150642Z
LAST-MODIFIED:20250617T174446Z
UID:20992-1750147200-1750161600@moebius.cegepmontpetit.ca
SUMMARY:Local Fermé - Formation TTP
DESCRIPTION:
URL:https://moebius.cegepmontpetit.ca/evenement/local-ferme-formation-ttp/
LOCATION:D2702
ATTACH;FMTTYPE=image/jpeg:https://moebius.cegepmontpetit.ca/wp-content/uploads/sites/166/2019/07/1090635-Modifier.jpg
END:VEVENT
BEGIN:VEVENT
DTSTART;TZID=America/Toronto:20250617T120000
DTEND;TZID=America/Toronto:20250617T130000
DTSTAMP:20260423T172632
CREATED:20250519T132049Z
LAST-MODIFIED:20250519T132049Z
UID:20809-1750161600-1750165200@moebius.cegepmontpetit.ca
SUMMARY:Dîner TTP - Local Fermé
DESCRIPTION:
URL:https://moebius.cegepmontpetit.ca/evenement/diner-ttp-local-ferme-12/2025-06-17/
LOCATION:D2702
ATTACH;FMTTYPE=image/jpeg:https://moebius.cegepmontpetit.ca/wp-content/uploads/sites/166/2019/07/1090639.jpg
END:VEVENT
END:VCALENDAR