BEGIN:VCALENDAR
VERSION:2.0
PRODID:-//Espace Moebius - ECPv6.0.12//NONSGML v1.0//EN
CALSCALE:GREGORIAN
METHOD:PUBLISH
X-WR-CALNAME:Espace Moebius
X-ORIGINAL-URL:https://moebius.cegepmontpetit.ca
X-WR-CALDESC:évènements pour Espace Moebius
REFRESH-INTERVAL;VALUE=DURATION:PT1H
X-Robots-Tag:noindex
X-PUBLISHED-TTL:PT1H
BEGIN:VTIMEZONE
TZID:America/Toronto
BEGIN:DAYLIGHT
TZOFFSETFROM:-0500
TZOFFSETTO:-0400
TZNAME:EDT
DTSTART:20250309T070000
END:DAYLIGHT
BEGIN:STANDARD
TZOFFSETFROM:-0400
TZOFFSETTO:-0500
TZNAME:EST
DTSTART:20251102T060000
END:STANDARD
END:VTIMEZONE
BEGIN:VEVENT
DTSTART;TZID=America/Toronto:20250821T080000
DTEND;TZID=America/Toronto:20250821T120000
DTSTAMP:20260423T093355
CREATED:20250610T141328Z
LAST-MODIFIED:20250821T125955Z
UID:20958-1755763200-1755777600@moebius.cegepmontpetit.ca
SUMMARY:Mode Partagé : Comité Projet SharePoint
DESCRIPTION:Synapse #79381\nLocal utilisé pour l’avancement et les questionnements des employés pour le projet SharePoint.\nLe travail individuel ou en équipe à voix basse est possible.
URL:https://moebius.cegepmontpetit.ca/evenement/mode-partage-comite-projet-sharepoint/
LOCATION:D2702
CATEGORIES:Mode partagé
ATTACH;FMTTYPE=image/jpeg:https://moebius.cegepmontpetit.ca/wp-content/uploads/sites/166/2019/04/P1090429.jpg
END:VEVENT
BEGIN:VEVENT
DTSTART;TZID=America/Toronto:20250821T120000
DTEND;TZID=America/Toronto:20250821T133000
DTSTAMP:20260423T093355
CREATED:20250821T130041Z
LAST-MODIFIED:20250821T130041Z
UID:21302-1755777600-1755783000@moebius.cegepmontpetit.ca
SUMMARY:Dîner TTP et Rencontre (Fermé)
DESCRIPTION:
URL:https://moebius.cegepmontpetit.ca/evenement/diner-ttp-et-rencontre-ferme/
LOCATION:D2702
ATTACH;FMTTYPE=image/jpeg:https://moebius.cegepmontpetit.ca/wp-content/uploads/sites/166/2019/07/1090633-Modifier-e1562721284853.jpg
END:VEVENT
END:VCALENDAR