BEGIN:VCALENDAR
VERSION:2.0
PRODID:-//Espace Moebius - ECPv6.0.12//NONSGML v1.0//EN
CALSCALE:GREGORIAN
METHOD:PUBLISH
X-ORIGINAL-URL:https://moebius.cegepmontpetit.ca
X-WR-CALDESC:évènements pour Espace Moebius
REFRESH-INTERVAL;VALUE=DURATION:PT1H
X-Robots-Tag:noindex
X-PUBLISHED-TTL:PT1H
BEGIN:VTIMEZONE
TZID:America/Toronto
BEGIN:DAYLIGHT
TZOFFSETFROM:-0500
TZOFFSETTO:-0400
TZNAME:EDT
DTSTART:20250309T070000
END:DAYLIGHT
BEGIN:STANDARD
TZOFFSETFROM:-0400
TZOFFSETTO:-0500
TZNAME:EST
DTSTART:20251102T060000
END:STANDARD
END:VTIMEZONE
BEGIN:VEVENT
DTSTART;VALUE=DATE:20250829
DTEND;VALUE=DATE:20250831
DTSTAMP:20260423T070335
CREATED:20250521T144428Z
LAST-MODIFIED:20250521T144428Z
UID:20822-1756447200-1756533599@moebius.cegepmontpetit.ca
SUMMARY:Horaire des cours du lundi
DESCRIPTION:
URL:https://moebius.cegepmontpetit.ca/evenement/horaire-des-cours-du-lundi-2/
LOCATION:D2702
END:VEVENT
BEGIN:VEVENT
DTSTART;TZID=America/Toronto:20250829T090000
DTEND;TZID=America/Toronto:20250829T100000
DTSTAMP:20260423T070335
CREATED:20250825T190155Z
LAST-MODIFIED:20250825T190155Z
UID:21421-1756458000-1756461600@moebius.cegepmontpetit.ca
SUMMARY:Mode Partagé : Test de contrôle RV Radiodiagnostic
DESCRIPTION:
URL:https://moebius.cegepmontpetit.ca/evenement/mode-partage-test-de-controle-rv-radiodiagnostic-2/
LOCATION:D2702
CATEGORIES:Atelier - Réalité virtuelle,Mode partagé
ATTACH;FMTTYPE=image/jpeg:https://moebius.cegepmontpetit.ca/wp-content/uploads/sites/166/2019/04/OculusRift.jpg
END:VEVENT
BEGIN:VEVENT
DTSTART;TZID=America/Toronto:20250829T100000
DTEND;TZID=America/Toronto:20250829T120000
DTSTAMP:20260423T070335
CREATED:20250819T172410Z
LAST-MODIFIED:20250819T193253Z
UID:21135-1756461600-1756468800@moebius.cegepmontpetit.ca
SUMMARY:Réservation - Communauté de pratique et de recherche enseignants
DESCRIPTION:Disposition : La ronde\nSynapse #81963
URL:https://moebius.cegepmontpetit.ca/evenement/reservation-communaute-de-pratique-et-de-recherche-enseignants/
LOCATION:D2702
CATEGORIES:Mode exclusif,Réservation - CLAAC,Téléviseur interactif 1x
ATTACH;FMTTYPE=image/jpeg:https://moebius.cegepmontpetit.ca/wp-content/uploads/sites/166/2025/08/Rencontre_CLAAC_-13-scaled.jpg
END:VEVENT
BEGIN:VEVENT
DTSTART;TZID=America/Toronto:20250829T150000
DTEND;TZID=America/Toronto:20250829T180000
DTSTAMP:20260423T070335
CREATED:20250826T123327Z
LAST-MODIFIED:20250826T123327Z
UID:21425-1756479600-1756490400@moebius.cegepmontpetit.ca
SUMMARY:Réservation - Cours administration
DESCRIPTION:Synapse #82348
URL:https://moebius.cegepmontpetit.ca/evenement/reservation-cours-administration-11/
LOCATION:D2702
CATEGORIES:Classe ananas_Observation,Imprimante en fonction,Mode exclusif,Réservation - CLAAC,Téléviseur interactif 1x
ATTACH;FMTTYPE=image/jpeg:https://moebius.cegepmontpetit.ca/wp-content/uploads/sites/166/2025/08/Gestion-internationale_1.jpg
END:VEVENT
END:VCALENDAR