BEGIN:VCALENDAR
VERSION:2.0
PRODID:-//Espace Moebius - ECPv6.0.12//NONSGML v1.0//EN
CALSCALE:GREGORIAN
METHOD:PUBLISH
X-WR-CALNAME:Espace Moebius
X-ORIGINAL-URL:https://moebius.cegepmontpetit.ca
X-WR-CALDESC:évènements pour Espace Moebius
REFRESH-INTERVAL;VALUE=DURATION:PT1H
X-Robots-Tag:noindex
X-PUBLISHED-TTL:PT1H
BEGIN:VTIMEZONE
TZID:America/Toronto
BEGIN:DAYLIGHT
TZOFFSETFROM:-0500
TZOFFSETTO:-0400
TZNAME:EDT
DTSTART:20250309T070000
END:DAYLIGHT
BEGIN:STANDARD
TZOFFSETFROM:-0400
TZOFFSETTO:-0500
TZNAME:EST
DTSTART:20251102T060000
END:STANDARD
END:VTIMEZONE
BEGIN:VEVENT
DTSTART;TZID=America/Toronto:20250205T130000
DTEND;TZID=America/Toronto:20250205T160000
DTSTAMP:20260423T233743
CREATED:20250116T160259Z
LAST-MODIFIED:20250116T160259Z
UID:20135-1738760400-1738771200@moebius.cegepmontpetit.ca
SUMMARY:Réservation – RV Soins Infirmiers
DESCRIPTION:Sim: SOI-410 \n3 station
URL:https://moebius.cegepmontpetit.ca/evenement/reservation-rv-soins-infirmiers-61/
LOCATION:D2702
CATEGORIES:Atelier - Réalité virtuelle,Imprimante en fonction,Mode exclusif
ATTACH;FMTTYPE=image/jpeg:https://moebius.cegepmontpetit.ca/wp-content/uploads/sites/166/2019/04/P1090458.jpg
END:VEVENT
BEGIN:VEVENT
DTSTART;TZID=America/Toronto:20250206T130000
DTEND;TZID=America/Toronto:20250206T160000
DTSTAMP:20260423T233743
CREATED:20250116T160433Z
LAST-MODIFIED:20250116T160433Z
UID:20137-1738846800-1738857600@moebius.cegepmontpetit.ca
SUMMARY:Réservation – RV Soins Infirmiers
DESCRIPTION:Sim: SOI-410 \n3 station
URL:https://moebius.cegepmontpetit.ca/evenement/reservation-rv-soins-infirmiers-62/
LOCATION:D2702
CATEGORIES:Atelier - Réalité virtuelle,Imprimante en fonction,Mode exclusif
ATTACH;FMTTYPE=image/jpeg:https://moebius.cegepmontpetit.ca/wp-content/uploads/sites/166/2019/04/P1090458.jpg
END:VEVENT
BEGIN:VEVENT
DTSTART;TZID=America/Toronto:20250207T080000
DTEND;TZID=America/Toronto:20250207T120000
DTSTAMP:20260423T233743
CREATED:20250116T154707Z
LAST-MODIFIED:20250116T154742Z
UID:20121-1738915200-1738929600@moebius.cegepmontpetit.ca
SUMMARY:Réservation – RV Soins Infirmiers
DESCRIPTION:Sim: 180 60 A RV # 1 Dépression \n3 station
URL:https://moebius.cegepmontpetit.ca/evenement/reservation-rv-soins-infirmiers-54/
LOCATION:D2702
CATEGORIES:Atelier - Réalité virtuelle,Imprimante en fonction,Mode exclusif
ATTACH;FMTTYPE=image/jpeg:https://moebius.cegepmontpetit.ca/wp-content/uploads/sites/166/2019/04/P1090458.jpg
END:VEVENT
BEGIN:VEVENT
DTSTART;TZID=America/Toronto:20250207T130000
DTEND;TZID=America/Toronto:20250207T150000
DTSTAMP:20260423T233743
CREATED:20250116T154931Z
LAST-MODIFIED:20250116T154931Z
UID:20123-1738933200-1738940400@moebius.cegepmontpetit.ca
SUMMARY:Réservation – RV Soins Infirmiers
DESCRIPTION:Sim: 180 60 A RV # 1 Dépression \n3 station
URL:https://moebius.cegepmontpetit.ca/evenement/reservation-rv-soins-infirmiers-55/
LOCATION:D2702
CATEGORIES:Atelier - Réalité virtuelle,Imprimante en fonction,Mode exclusif
ATTACH;FMTTYPE=image/jpeg:https://moebius.cegepmontpetit.ca/wp-content/uploads/sites/166/2019/04/P1090458.jpg
END:VEVENT
BEGIN:VEVENT
DTSTART;TZID=America/Toronto:20250218T080000
DTEND;TZID=America/Toronto:20250218T120000
DTSTAMP:20260423T233743
CREATED:20250115T141935Z
LAST-MODIFIED:20250115T142031Z
UID:20067-1739865600-1739880000@moebius.cegepmontpetit.ca
SUMMARY:Réservation – RV Soins Infirmiers
DESCRIPTION:Sim: 510 AVC\, MPOC\, TCC \n6 station
URL:https://moebius.cegepmontpetit.ca/evenement/reservation-rv-soins-infirmiers-2/
LOCATION:D2702
CATEGORIES:Atelier - Réalité virtuelle,Imprimante en fonction,Mode exclusif
ATTACH;FMTTYPE=image/jpeg:https://moebius.cegepmontpetit.ca/wp-content/uploads/sites/166/2024/02/Quest_3_1_Choix-scaled.jpg
END:VEVENT
BEGIN:VEVENT
DTSTART;TZID=America/Toronto:20250221T090000
DTEND;TZID=America/Toronto:20250221T110000
DTSTAMP:20260423T233743
CREATED:20250115T142924Z
LAST-MODIFIED:20250205T130505Z
UID:20073-1740128400-1740135600@moebius.cegepmontpetit.ca
SUMMARY:Réservation – RV Soins Infirmiers
DESCRIPTION:Sim: 180-419 pédiatrie \n3 station
URL:https://moebius.cegepmontpetit.ca/evenement/reservation-rv-soins-infirmiers-12/
LOCATION:D2702
CATEGORIES:Atelier - Réalité virtuelle,Imprimante en fonction,Mode exclusif
ATTACH;FMTTYPE=image/jpeg:https://moebius.cegepmontpetit.ca/wp-content/uploads/sites/166/2024/02/Quest_3_1_Choix-scaled.jpg
END:VEVENT
BEGIN:VEVENT
DTSTART;TZID=America/Toronto:20250221T130000
DTEND;TZID=America/Toronto:20250221T150000
DTSTAMP:20260423T233743
CREATED:20250120T134950Z
LAST-MODIFIED:20250211T150540Z
UID:20217-1740142800-1740150000@moebius.cegepmontpetit.ca
SUMMARY:Réservation - RV Psychologie
DESCRIPTION:#75633 \nActivité: Keep talking \n6 station
URL:https://moebius.cegepmontpetit.ca/evenement/reservation-rv-psychologie-3/
LOCATION:D2702
CATEGORIES:Atelier - Réalité virtuelle,Mode exclusif,Réservation - CLAAC,Téléviseur interactif 1x
ATTACH;FMTTYPE=image/jpeg:https://moebius.cegepmontpetit.ca/wp-content/uploads/sites/166/2019/09/keep-talking-and-nobody-explodes.jpg
END:VEVENT
BEGIN:VEVENT
DTSTART;TZID=America/Toronto:20250225T080000
DTEND;TZID=America/Toronto:20250225T120000
DTSTAMP:20260423T233743
CREATED:20250115T142200Z
LAST-MODIFIED:20250115T142200Z
UID:20069-1740470400-1740484800@moebius.cegepmontpetit.ca
SUMMARY:Réservation – RV Soins Infirmiers
DESCRIPTION:Sim: 510 AVC\, MPOC et TCC \n6 station
URL:https://moebius.cegepmontpetit.ca/evenement/reservation-rv-soins-infirmiers-4/
LOCATION:D2702
CATEGORIES:Atelier - Réalité virtuelle,Imprimante en fonction,Mode exclusif
ATTACH;FMTTYPE=image/jpeg:https://moebius.cegepmontpetit.ca/wp-content/uploads/sites/166/2024/02/Quest_3_1_Choix-scaled.jpg
END:VEVENT
BEGIN:VEVENT
DTSTART;TZID=America/Toronto:20250225T130000
DTEND;TZID=America/Toronto:20250225T170000
DTSTAMP:20260423T233743
CREATED:20250116T131034Z
LAST-MODIFIED:20250116T131034Z
UID:20102-1740488400-1740502800@moebius.cegepmontpetit.ca
SUMMARY:Réservation – RV Soins Infirmiers
DESCRIPTION:Sim: 180-309 \n3 station
URL:https://moebius.cegepmontpetit.ca/evenement/reservation-rv-soins-infirmiers-45/
LOCATION:D2702
CATEGORIES:Atelier - Réalité virtuelle,Imprimante en fonction,Mode exclusif
ATTACH;FMTTYPE=image/jpeg:https://moebius.cegepmontpetit.ca/wp-content/uploads/sites/166/2019/04/P1090458.jpg
END:VEVENT
BEGIN:VEVENT
DTSTART;TZID=America/Toronto:20250227T080000
DTEND;TZID=America/Toronto:20250227T100000
DTSTAMP:20260423T233743
CREATED:20250120T132134Z
LAST-MODIFIED:20250219T132739Z
UID:20206-1740643200-1740650400@moebius.cegepmontpetit.ca
SUMMARY:Réservation - RV Psychologie
DESCRIPTION:#75622 \nActivité: Keep Talking \n4 station
URL:https://moebius.cegepmontpetit.ca/evenement/reservation-rv-psychologie-2/
LOCATION:D2702
CATEGORIES:Atelier - Réalité virtuelle,Imprimante en fonction,Mode exclusif,Réservation - CLAAC,Téléviseur interactif 1x
ATTACH;FMTTYPE=image/jpeg:https://moebius.cegepmontpetit.ca/wp-content/uploads/sites/166/2019/09/keep-talking-and-nobody-explodes.jpg
END:VEVENT
END:VCALENDAR