BEGIN:VCALENDAR
VERSION:2.0
PRODID:-//Espace Moebius - ECPv6.0.12//NONSGML v1.0//EN
CALSCALE:GREGORIAN
METHOD:PUBLISH
X-ORIGINAL-URL:https://moebius.cegepmontpetit.ca
X-WR-CALDESC:évènements pour Espace Moebius
REFRESH-INTERVAL;VALUE=DURATION:PT1H
X-Robots-Tag:noindex
X-PUBLISHED-TTL:PT1H
BEGIN:VTIMEZONE
TZID:America/Toronto
BEGIN:DAYLIGHT
TZOFFSETFROM:-0500
TZOFFSETTO:-0400
TZNAME:EDT
DTSTART:20250309T070000
END:DAYLIGHT
BEGIN:STANDARD
TZOFFSETFROM:-0400
TZOFFSETTO:-0500
TZNAME:EST
DTSTART:20251102T060000
END:STANDARD
END:VTIMEZONE
BEGIN:VEVENT
DTSTART;TZID=America/Toronto:20250304T100000
DTEND;TZID=America/Toronto:20250304T120000
DTSTAMP:20260423T221016
CREATED:20250117T193924Z
LAST-MODIFIED:20250120T131111Z
UID:20188-1741082400-1741089600@moebius.cegepmontpetit.ca
SUMMARY:Réservation - RV Psychologie
DESCRIPTION:#75616 \nActivité: Keep talking \n6 stations
URL:https://moebius.cegepmontpetit.ca/evenement/reservation-rv-psychologie/
LOCATION:D2702
CATEGORIES:Atelier - Réalité virtuelle,Imprimante en fonction,Mode exclusif,Réservation - CLAAC,Téléviseur interactif 1x
ATTACH;FMTTYPE=image/jpeg:https://moebius.cegepmontpetit.ca/wp-content/uploads/sites/166/2019/09/keep-talking-and-nobody-explodes.jpg
END:VEVENT
BEGIN:VEVENT
DTSTART;TZID=America/Toronto:20250304T130000
DTEND;TZID=America/Toronto:20250304T160000
DTSTAMP:20260423T221016
CREATED:20250115T142424Z
LAST-MODIFIED:20250115T142424Z
UID:20071-1741093200-1741104000@moebius.cegepmontpetit.ca
SUMMARY:Réservation – RV Soins Infirmiers
DESCRIPTION:Sim: 180-419 pédiatrie \n3 station
URL:https://moebius.cegepmontpetit.ca/evenement/reservation-rv-soins-infirmiers-11/
LOCATION:D2702
CATEGORIES:Atelier - Réalité virtuelle,Imprimante en fonction,Mode exclusif
ATTACH;FMTTYPE=image/jpeg:https://moebius.cegepmontpetit.ca/wp-content/uploads/sites/166/2024/02/Quest_3_1_Choix-scaled.jpg
END:VEVENT
BEGIN:VEVENT
DTSTART;TZID=America/Toronto:20250305T130000
DTEND;TZID=America/Toronto:20250305T160000
DTSTAMP:20260423T221016
CREATED:20250116T160659Z
LAST-MODIFIED:20250116T160659Z
UID:20139-1741179600-1741190400@moebius.cegepmontpetit.ca
SUMMARY:Réservation – RV Soins Infirmiers
DESCRIPTION:Sim: SOI-410 \n3 station
URL:https://moebius.cegepmontpetit.ca/evenement/reservation-rv-soins-infirmiers-63/
LOCATION:D2702
CATEGORIES:Atelier - Réalité virtuelle,Imprimante en fonction,Mode exclusif
ATTACH;FMTTYPE=image/jpeg:https://moebius.cegepmontpetit.ca/wp-content/uploads/sites/166/2019/04/P1090458.jpg
END:VEVENT
BEGIN:VEVENT
DTSTART;TZID=America/Toronto:20250306T100000
DTEND;TZID=America/Toronto:20250306T120000
DTSTAMP:20260423T221016
CREATED:20250116T160850Z
LAST-MODIFIED:20250116T160850Z
UID:20141-1741255200-1741262400@moebius.cegepmontpetit.ca
SUMMARY:Réservation – RV Soins Infirmiers
DESCRIPTION:Sim: SOI-410 \n3 station
URL:https://moebius.cegepmontpetit.ca/evenement/reservation-rv-soins-infirmiers-64/
LOCATION:D2702
CATEGORIES:Atelier - Réalité virtuelle,Imprimante en fonction,Mode exclusif
ATTACH;FMTTYPE=image/jpeg:https://moebius.cegepmontpetit.ca/wp-content/uploads/sites/166/2019/04/P1090458.jpg
END:VEVENT
BEGIN:VEVENT
DTSTART;TZID=America/Toronto:20250306T130000
DTEND;TZID=America/Toronto:20250306T170000
DTSTAMP:20260423T221016
CREATED:20250116T131235Z
LAST-MODIFIED:20250116T131235Z
UID:20104-1741266000-1741280400@moebius.cegepmontpetit.ca
SUMMARY:Réservation – RV Soins Infirmiers
DESCRIPTION:Sim: 180-309 \n3 station
URL:https://moebius.cegepmontpetit.ca/evenement/reservation-rv-soins-infirmiers-46/
LOCATION:D2702
CATEGORIES:Atelier - Réalité virtuelle,Imprimante en fonction,Mode exclusif
ATTACH;FMTTYPE=image/jpeg:https://moebius.cegepmontpetit.ca/wp-content/uploads/sites/166/2019/04/P1090458.jpg
END:VEVENT
BEGIN:VEVENT
DTSTART;TZID=America/Toronto:20250311T120000
DTEND;TZID=America/Toronto:20250311T150000
DTSTAMP:20260423T221016
CREATED:20250120T185015Z
LAST-MODIFIED:20250303T194049Z
UID:20292-1741694400-1741705200@moebius.cegepmontpetit.ca
SUMMARY:Réservation - RV Géographie
DESCRIPTION:#75710 \nDisposition: Classique\n3 rift + 4 quest\nActivité: Documentaire Home After War + activité via google Earth (5 lieux) \nPortable: 41
URL:https://moebius.cegepmontpetit.ca/evenement/reservation-rv-geographie-3/
LOCATION:D2702
CATEGORIES:Atelier - Réalité virtuelle,Besoin de portables,Mode exclusif,Réservation - CLAAC,Téléviseur interactif 1x
ATTACH;FMTTYPE=image/jpeg:https://moebius.cegepmontpetit.ca/wp-content/uploads/sites/166/2024/04/home_after_war_hero.jpg
END:VEVENT
BEGIN:VEVENT
DTSTART;TZID=America/Toronto:20250312T080000
DTEND;TZID=America/Toronto:20250312T120000
DTSTAMP:20260423T221016
CREATED:20250117T180738Z
LAST-MODIFIED:20250226T134947Z
UID:20153-1741766400-1741780800@moebius.cegepmontpetit.ca
SUMMARY:Réservation - RV Cours Mathématique
DESCRIPTION:#75608\nActivité: Google earth \n4 station Google Earth (3 fixe et 1 fixe quest) \n2 emplacements par station \n+ \n3 casque mobile avec lien youtube
URL:https://moebius.cegepmontpetit.ca/evenement/reservation-4/
LOCATION:D2702
CATEGORIES:Atelier - Réalité virtuelle,Imprimante en fonction,Mode exclusif,Réservation - CLAAC,Téléviseur interactif 1x
ATTACH;FMTTYPE=image/jpeg:https://moebius.cegepmontpetit.ca/wp-content/uploads/sites/166/2019/04/P1090458.jpg
END:VEVENT
BEGIN:VEVENT
DTSTART;TZID=America/Toronto:20250324T130000
DTEND;TZID=America/Toronto:20250324T153000
DTSTAMP:20260423T221016
CREATED:20250128T192447Z
LAST-MODIFIED:20250206T185100Z
UID:20357-1742821200-1742830200@moebius.cegepmontpetit.ca
SUMMARY:Réservation - Rencontre Cégep St-Hyacinthe
DESCRIPTION:#76208 \nstation: 5 -6 casque
URL:https://moebius.cegepmontpetit.ca/evenement/reservation-rencontre-cegep-st-hyacinthe/
LOCATION:D2702
CATEGORIES:Atelier - Réalité virtuelle,Imprimante en fonction,Mode exclusif
ATTACH;FMTTYPE=image/jpeg:https://moebius.cegepmontpetit.ca/wp-content/uploads/sites/166/2024/02/Quest_3_1_Choix-scaled.jpg
END:VEVENT
BEGIN:VEVENT
DTSTART;TZID=America/Toronto:20250327T080000
DTEND;TZID=America/Toronto:20250327T140000
DTSTAMP:20260423T221016
CREATED:20250115T195736Z
LAST-MODIFIED:20250115T195736Z
UID:20100-1743062400-1743084000@moebius.cegepmontpetit.ca
SUMMARY:Réservation – RV Soins Infirmiers
DESCRIPTION:Sim: 610 Mme Mendi \n6 station
URL:https://moebius.cegepmontpetit.ca/evenement/reservation-rv-soins-infirmiers-44/
LOCATION:D2702
CATEGORIES:Atelier - Réalité virtuelle,Imprimante en fonction,Mode exclusif
ATTACH;FMTTYPE=image/jpeg:https://moebius.cegepmontpetit.ca/wp-content/uploads/sites/166/2024/02/Quest_3_1_Choix-scaled.jpg
END:VEVENT
BEGIN:VEVENT
DTSTART;TZID=America/Toronto:20250327T140000
DTEND;TZID=America/Toronto:20250327T160000
DTSTAMP:20260423T221016
CREATED:20250115T143122Z
LAST-MODIFIED:20250115T143122Z
UID:20075-1743084000-1743091200@moebius.cegepmontpetit.ca
SUMMARY:Réservation – RV Soins Infirmiers
DESCRIPTION:Sim: 180-419 pédiatrie \n3 station
URL:https://moebius.cegepmontpetit.ca/evenement/reservation-rv-soins-infirmiers-14/
LOCATION:D2702
CATEGORIES:Atelier - Réalité virtuelle,Imprimante en fonction,Mode exclusif
ATTACH;FMTTYPE=image/jpeg:https://moebius.cegepmontpetit.ca/wp-content/uploads/sites/166/2024/02/Quest_3_1_Choix-scaled.jpg
END:VEVENT
END:VCALENDAR