BEGIN:VCALENDAR
VERSION:2.0
PRODID:-//Espace Moebius - ECPv6.0.12//NONSGML v1.0//EN
CALSCALE:GREGORIAN
METHOD:PUBLISH
X-ORIGINAL-URL:https://moebius.cegepmontpetit.ca
X-WR-CALDESC:évènements pour Espace Moebius
REFRESH-INTERVAL;VALUE=DURATION:PT1H
X-Robots-Tag:noindex
X-PUBLISHED-TTL:PT1H
BEGIN:VTIMEZONE
TZID:America/Toronto
BEGIN:DAYLIGHT
TZOFFSETFROM:-0500
TZOFFSETTO:-0400
TZNAME:EDT
DTSTART:20260308T070000
END:DAYLIGHT
BEGIN:STANDARD
TZOFFSETFROM:-0400
TZOFFSETTO:-0500
TZNAME:EST
DTSTART:20261101T060000
END:STANDARD
END:VTIMEZONE
BEGIN:VEVENT
DTSTART;TZID=America/Toronto:20260122T080000
DTEND;TZID=America/Toronto:20260122T120000
DTSTAMP:20260422T213641
CREATED:20260115T162033Z
LAST-MODIFIED:20260115T162046Z
UID:22171-1769068800-1769083200@moebius.cegepmontpetit.ca
SUMMARY:Réservation RV - Soins Infirmiers
DESCRIPTION:Problématique: 516 vaccination\n3 station
URL:https://moebius.cegepmontpetit.ca/evenement/reservation-rv-soins-infirmiers-91/
LOCATION:D2702
CATEGORIES:Atelier - Réalité virtuelle
ATTACH;FMTTYPE=image/jpeg:https://moebius.cegepmontpetit.ca/wp-content/uploads/sites/166/2025/09/Realite_Virtuelle_Chaises_Quest_3-1-scaled.jpg
END:VEVENT
BEGIN:VEVENT
DTSTART;TZID=America/Toronto:20260123T080000
DTEND;TZID=America/Toronto:20260123T160000
DTSTAMP:20260422T213642
CREATED:20260115T162158Z
LAST-MODIFIED:20260121T165018Z
UID:22173-1769155200-1769184000@moebius.cegepmontpetit.ca
SUMMARY:Réservation RV – Soins Infirmiers
DESCRIPTION:Problématique: 610\n3 station
URL:https://moebius.cegepmontpetit.ca/evenement/reservation-rv-soins-infirmiers-92/
LOCATION:D2702
CATEGORIES:Atelier - Réalité virtuelle
ATTACH;FMTTYPE=image/jpeg:https://moebius.cegepmontpetit.ca/wp-content/uploads/sites/166/2025/09/Realite_Virtuelle_Chaises_Quest_3-1-scaled.jpg
END:VEVENT
BEGIN:VEVENT
DTSTART;TZID=America/Toronto:20260127T090000
DTEND;TZID=America/Toronto:20260127T120000
DTSTAMP:20260422T213642
CREATED:20260119T193044Z
LAST-MODIFIED:20260119T193044Z
UID:22308-1769504400-1769515200@moebius.cegepmontpetit.ca
SUMMARY:Réservation RV - Cours Techniques administratives
DESCRIPTION:#87626\nActivité: Keep talking\n6 station
URL:https://moebius.cegepmontpetit.ca/evenement/reservation-rv-cours-techniques-administratives-2/
LOCATION:D2702
CATEGORIES:Atelier - Réalité virtuelle
ATTACH;FMTTYPE=image/jpeg:https://moebius.cegepmontpetit.ca/wp-content/uploads/sites/166/2019/09/keep-talking-and-nobody-explodes.jpg
END:VEVENT
BEGIN:VEVENT
DTSTART;TZID=America/Toronto:20260129T083000
DTEND;TZID=America/Toronto:20260129T120000
DTSTAMP:20260422T213642
CREATED:20251107T195823Z
LAST-MODIFIED:20251107T195823Z
UID:22075-1769675400-1769688000@moebius.cegepmontpetit.ca
SUMMARY:Réservation - Atelier comité SST
DESCRIPTION:#85673\ndébut 9h\nplacement : L’entre deux\n– Téléviseur interactif : 1\n– Projecteur interactif : 1\n– Un ordinateur portable : Oui\n– Nombre requis : 1
URL:https://moebius.cegepmontpetit.ca/evenement/reservation-atelier-comite-sst/
LOCATION:D2702
CATEGORIES:Atelier - Réalité virtuelle,Imprimante en fonction,Local fermé,Mode exclusif,Réservation - CLAAC,Réservation de l'Espace Moebius,Téléviseur interactif 1x
ATTACH;FMTTYPE=image/png:https://moebius.cegepmontpetit.ca/wp-content/uploads/sites/166/2024/05/19_LEntre-Deux.png
END:VEVENT
BEGIN:VEVENT
DTSTART;TZID=America/Toronto:20260129T130000
DTEND;TZID=America/Toronto:20260129T160000
DTSTAMP:20260422T213642
CREATED:20260119T130001Z
LAST-MODIFIED:20260119T130250Z
UID:22209-1769691600-1769702400@moebius.cegepmontpetit.ca
SUMMARY:Réservation RV – Soins Infirmiers
DESCRIPTION:Problématique: 180 60 A RV # 2 Psychose et RV # 1 Dépression\n3 station\nRemarques : Il faut les écouteurs filaires.
URL:https://moebius.cegepmontpetit.ca/evenement/reservation-rv-soins-infirmiers-97/
LOCATION:D2702
CATEGORIES:Atelier - Réalité virtuelle
ATTACH;FMTTYPE=image/jpeg:https://moebius.cegepmontpetit.ca/wp-content/uploads/sites/166/2025/09/Realite_Virtuelle_Chaises_Quest_3-1-scaled.jpg
END:VEVENT
BEGIN:VEVENT
DTSTART;TZID=America/Toronto:20260130T130000
DTEND;TZID=America/Toronto:20260130T160000
DTSTAMP:20260422T213642
CREATED:20260119T130350Z
LAST-MODIFIED:20260119T130350Z
UID:22213-1769778000-1769788800@moebius.cegepmontpetit.ca
SUMMARY:Réservation RV – Soins Infirmiers
DESCRIPTION:Problématique: 180 60 A RV # 2 Psychose et RV # 1 Dépression\n3 station\nRemarques : Il faut les écouteurs filaires.
URL:https://moebius.cegepmontpetit.ca/evenement/reservation-rv-soins-infirmiers-109/
LOCATION:D2702
CATEGORIES:Atelier - Réalité virtuelle
ATTACH;FMTTYPE=image/jpeg:https://moebius.cegepmontpetit.ca/wp-content/uploads/sites/166/2025/09/Realite_Virtuelle_Chaises_Quest_3-1-scaled.jpg
END:VEVENT
END:VCALENDAR