BEGIN:VCALENDAR
VERSION:2.0
PRODID:-//Espace Moebius - ECPv6.0.12//NONSGML v1.0//EN
CALSCALE:GREGORIAN
METHOD:PUBLISH
X-WR-CALNAME:Espace Moebius
X-ORIGINAL-URL:https://moebius.cegepmontpetit.ca
X-WR-CALDESC:évènements pour Espace Moebius
REFRESH-INTERVAL;VALUE=DURATION:PT1H
X-Robots-Tag:noindex
X-PUBLISHED-TTL:PT1H
BEGIN:VTIMEZONE
TZID:America/Toronto
BEGIN:DAYLIGHT
TZOFFSETFROM:-0500
TZOFFSETTO:-0400
TZNAME:EDT
DTSTART:20250309T070000
END:DAYLIGHT
BEGIN:STANDARD
TZOFFSETFROM:-0400
TZOFFSETTO:-0500
TZNAME:EST
DTSTART:20251102T060000
END:STANDARD
END:VTIMEZONE
BEGIN:VEVENT
DTSTART;TZID=America/Toronto:20250827T080000
DTEND;TZID=America/Toronto:20250827T120000
DTSTAMP:20260423T164544
CREATED:20250819T171020Z
LAST-MODIFIED:20250826T174505Z
UID:21042-1756281600-1756296000@moebius.cegepmontpetit.ca
SUMMARY:Réservation RV - Soins Infirmiers
DESCRIPTION:** Déposer les feuilles pour le projet de Recherche sur le bureau d’accueil. **\nSynapse #82130\nProblématique : 610-Post-OP Abdo
URL:https://moebius.cegepmontpetit.ca/evenement/reservation-rv-soins-infirmiers-57/
LOCATION:D2702
CATEGORIES:Atelier - Réalité virtuelle,Imprimante en fonction,Mode exclusif,Réservation - CLAAC,Téléviseur interactif 1x
ATTACH;FMTTYPE=image/jpeg:https://moebius.cegepmontpetit.ca/wp-content/uploads/sites/166/2019/04/P1090458.jpg
END:VEVENT
BEGIN:VEVENT
DTSTART;TZID=America/Toronto:20250827T120000
DTEND;TZID=America/Toronto:20250827T160000
DTSTAMP:20260423T164544
CREATED:20250819T171149Z
LAST-MODIFIED:20250826T174517Z
UID:21044-1756296000-1756310400@moebius.cegepmontpetit.ca
SUMMARY:Réservation RV - Soins Infirmiers
DESCRIPTION:** Déposer les feuilles pour le projet de Recherche sur le bureau d’accueil. **\nSynapse #82130\nProblématique : 610-Post-OP Abdo
URL:https://moebius.cegepmontpetit.ca/evenement/reservation-rv-soins-infirmiers-58/
LOCATION:D2702
CATEGORIES:Atelier - Réalité virtuelle,Imprimante en fonction,Réservation - CLAAC,Téléviseur interactif 1x
ATTACH;FMTTYPE=image/jpeg:https://moebius.cegepmontpetit.ca/wp-content/uploads/sites/166/2019/04/P1090458.jpg
END:VEVENT
BEGIN:VEVENT
DTSTART;TZID=America/Toronto:20250828T103000
DTEND;TZID=America/Toronto:20250828T130000
DTSTAMP:20260423T164544
CREATED:20250821T122941Z
LAST-MODIFIED:20250821T122941Z
UID:21273-1756377000-1756386000@moebius.cegepmontpetit.ca
SUMMARY:Réservation - RV Anglais
DESCRIPTION:Synapse #81992\nRéalité virtuelle 2 casques Quest 3 – Keep Talking – Section Médialab
URL:https://moebius.cegepmontpetit.ca/evenement/reservation-rv-anglais-6/
LOCATION:D2702
CATEGORIES:Atelier - Réalité virtuelle,Mode partagé
ATTACH;FMTTYPE=image/jpeg:https://moebius.cegepmontpetit.ca/wp-content/uploads/sites/166/2019/09/keep-talking-and-nobody-explodes.jpg
END:VEVENT
BEGIN:VEVENT
DTSTART;TZID=America/Toronto:20250829T090000
DTEND;TZID=America/Toronto:20250829T100000
DTSTAMP:20260423T164544
CREATED:20250825T190155Z
LAST-MODIFIED:20250825T190155Z
UID:21421-1756458000-1756461600@moebius.cegepmontpetit.ca
SUMMARY:Mode Partagé : Test de contrôle RV Radiodiagnostic
DESCRIPTION:
URL:https://moebius.cegepmontpetit.ca/evenement/mode-partage-test-de-controle-rv-radiodiagnostic-2/
LOCATION:D2702
CATEGORIES:Atelier - Réalité virtuelle,Mode partagé
ATTACH;FMTTYPE=image/jpeg:https://moebius.cegepmontpetit.ca/wp-content/uploads/sites/166/2019/04/OculusRift.jpg
END:VEVENT
END:VCALENDAR