BEGIN:VCALENDAR
VERSION:2.0
PRODID:-//Espace Moebius - ECPv6.0.12//NONSGML v1.0//EN
CALSCALE:GREGORIAN
METHOD:PUBLISH
X-WR-CALNAME:Espace Moebius
X-ORIGINAL-URL:https://moebius.cegepmontpetit.ca
X-WR-CALDESC:évènements pour Espace Moebius
REFRESH-INTERVAL;VALUE=DURATION:PT1H
X-Robots-Tag:noindex
X-PUBLISHED-TTL:PT1H
BEGIN:VTIMEZONE
TZID:America/Toronto
BEGIN:DAYLIGHT
TZOFFSETFROM:-0500
TZOFFSETTO:-0400
TZNAME:EDT
DTSTART:20260308T070000
END:DAYLIGHT
BEGIN:STANDARD
TZOFFSETFROM:-0400
TZOFFSETTO:-0500
TZNAME:EST
DTSTART:20261101T060000
END:STANDARD
END:VTIMEZONE
BEGIN:VEVENT
DTSTART;TZID=America/Toronto:20260309T110000
DTEND;TZID=America/Toronto:20260309T130000
DTSTAMP:20260423T002919
CREATED:20260121T130252Z
LAST-MODIFIED:20260121T130252Z
UID:22405-1773054000-1773061200@moebius.cegepmontpetit.ca
SUMMARY:Réservation RV – Soins Infirmiers
DESCRIPTION:#87706\nProblématique: 180-100\n3 station
URL:https://moebius.cegepmontpetit.ca/evenement/reservation-rv-soins-infirmiers-119/
LOCATION:D2702
CATEGORIES:Atelier - Réalité virtuelle
ATTACH;FMTTYPE=image/jpeg:https://moebius.cegepmontpetit.ca/wp-content/uploads/sites/166/2025/09/Realite_Virtuelle_Chaises_Quest_3-1-scaled.jpg
END:VEVENT
BEGIN:VEVENT
DTSTART;TZID=America/Toronto:20260310T130000
DTEND;TZID=America/Toronto:20260310T170000
DTSTAMP:20260423T002919
CREATED:20260119T131340Z
LAST-MODIFIED:20260119T131340Z
UID:22222-1773147600-1773162000@moebius.cegepmontpetit.ca
SUMMARY:Réservation RV – Soins Infirmiers
DESCRIPTION:Problématique: 180-410 hypovolémie\n3 station
URL:https://moebius.cegepmontpetit.ca/evenement/reservation-rv-soins-infirmiers-113/
LOCATION:D2702
CATEGORIES:Atelier - Réalité virtuelle
ATTACH;FMTTYPE=image/jpeg:https://moebius.cegepmontpetit.ca/wp-content/uploads/sites/166/2025/09/Realite_Virtuelle_Chaises_Quest_3-1-scaled.jpg
END:VEVENT
BEGIN:VEVENT
DTSTART;TZID=America/Toronto:20260311T100000
DTEND;TZID=America/Toronto:20260311T120000
DTSTAMP:20260423T002919
CREATED:20260115T163523Z
LAST-MODIFIED:20260115T163523Z
UID:22191-1773223200-1773230400@moebius.cegepmontpetit.ca
SUMMARY:Réservation RV – Soins Infirmiers
DESCRIPTION:Problématique: 516 vaccination\n3 station
URL:https://moebius.cegepmontpetit.ca/evenement/reservation-rv-soins-infirmiers-101/
LOCATION:D2702
CATEGORIES:Atelier - Réalité virtuelle
ATTACH;FMTTYPE=image/jpeg:https://moebius.cegepmontpetit.ca/wp-content/uploads/sites/166/2025/09/Realite_Virtuelle_Chaises_Quest_3-1-scaled.jpg
END:VEVENT
END:VCALENDAR