BEGIN:VCALENDAR
VERSION:2.0
PRODID:-//Espace Moebius - ECPv6.0.12//NONSGML v1.0//EN
CALSCALE:GREGORIAN
METHOD:PUBLISH
X-ORIGINAL-URL:https://moebius.cegepmontpetit.ca
X-WR-CALDESC:évènements pour Espace Moebius
REFRESH-INTERVAL;VALUE=DURATION:PT1H
X-Robots-Tag:noindex
X-PUBLISHED-TTL:PT1H
BEGIN:VTIMEZONE
TZID:America/Toronto
BEGIN:DAYLIGHT
TZOFFSETFROM:-0500
TZOFFSETTO:-0400
TZNAME:EDT
DTSTART:20250309T070000
END:DAYLIGHT
BEGIN:STANDARD
TZOFFSETFROM:-0400
TZOFFSETTO:-0500
TZNAME:EST
DTSTART:20251102T060000
END:STANDARD
END:VTIMEZONE
BEGIN:VEVENT
DTSTART;TZID=America/Toronto:20250911T080000
DTEND;TZID=America/Toronto:20250911T120000
DTSTAMP:20260423T071826
CREATED:20250827T140728Z
LAST-MODIFIED:20250827T140728Z
UID:21470-1757577600-1757592000@moebius.cegepmontpetit.ca
SUMMARY:Réservation - Cours Soins Infirmiers
DESCRIPTION:Synapse #82495
URL:https://moebius.cegepmontpetit.ca/evenement/reservation-cours-soins-infirmiers/
LOCATION:D2702
CATEGORIES:Besoin de portables,Réservation - CLAAC,Téléviseur interactif 1x
ATTACH;FMTTYPE=image/png:https://moebius.cegepmontpetit.ca/wp-content/uploads/sites/166/2019/11/soins.png
END:VEVENT
BEGIN:VEVENT
DTSTART;TZID=America/Toronto:20250912T080000
DTEND;TZID=America/Toronto:20250912T120000
DTSTAMP:20260423T071826
CREATED:20250821T135723Z
LAST-MODIFIED:20250826T180127Z
UID:21315-1757664000-1757678400@moebius.cegepmontpetit.ca
SUMMARY:Réservation - Cours et RV Soins Infirmiers
DESCRIPTION:** Déposer les feuilles pour le projet de Recherche sur le bureau d’accueil. **\nSynapse #82011\nRV avec les Rift seulement.\nLa réalité virtuelle sera utilisé si le temps le permet afin de le faire découvrir\, il reviendra avec quel scénario mettre.
URL:https://moebius.cegepmontpetit.ca/evenement/reservation-cours-et-rv-soins-infirmiers/
LOCATION:D2702
CATEGORIES:1 portable par étudiant,Atelier - Réalité virtuelle,Besoin de portables,Classe ananas_Observation,Imprimante en fonction
ATTACH;FMTTYPE=image/jpeg:https://moebius.cegepmontpetit.ca/wp-content/uploads/sites/166/2019/04/OculusRift.jpg
END:VEVENT
END:VCALENDAR