BEGIN:VCALENDAR
VERSION:2.0
PRODID:-//Espace Moebius - ECPv6.0.12//NONSGML v1.0//EN
CALSCALE:GREGORIAN
METHOD:PUBLISH
X-ORIGINAL-URL:https://moebius.cegepmontpetit.ca
X-WR-CALDESC:évènements pour Espace Moebius
REFRESH-INTERVAL;VALUE=DURATION:PT1H
X-Robots-Tag:noindex
X-PUBLISHED-TTL:PT1H
BEGIN:VTIMEZONE
TZID:America/Toronto
BEGIN:DAYLIGHT
TZOFFSETFROM:-0500
TZOFFSETTO:-0400
TZNAME:EDT
DTSTART:20250309T070000
END:DAYLIGHT
BEGIN:STANDARD
TZOFFSETFROM:-0400
TZOFFSETTO:-0500
TZNAME:EST
DTSTART:20251102T060000
END:STANDARD
END:VTIMEZONE
BEGIN:VEVENT
DTSTART;VALUE=DATE:20250930
DTEND;VALUE=DATE:20251002
DTSTAMP:20260423T015931
CREATED:20250924T124252Z
LAST-MODIFIED:20250924T124252Z
UID:21925-1759212000-1759298399@moebius.cegepmontpetit.ca
SUMMARY:Réservation - 8 portables - Formation Bibliothèque
DESCRIPTION:Prêts des portables #39 à 46\nFormation 8h00 à 11h00.
URL:https://moebius.cegepmontpetit.ca/evenement/reservation-8-portables-formation-bibliotheque/
LOCATION:D2702
CATEGORIES:Besoin de portables
ATTACH;FMTTYPE=image/jpeg:https://moebius.cegepmontpetit.ca/wp-content/uploads/sites/166/2019/06/Moebius_2019_05_16_0007.jpg
END:VEVENT
END:VCALENDAR