BEGIN:VCALENDAR
VERSION:2.0
PRODID:-//Espace Moebius - ECPv6.0.12//NONSGML v1.0//EN
CALSCALE:GREGORIAN
METHOD:PUBLISH
X-ORIGINAL-URL:https://moebius.cegepmontpetit.ca
X-WR-CALDESC:évènements pour Espace Moebius
REFRESH-INTERVAL;VALUE=DURATION:PT1H
X-Robots-Tag:noindex
X-PUBLISHED-TTL:PT1H
BEGIN:VTIMEZONE
TZID:America/Toronto
BEGIN:DAYLIGHT
TZOFFSETFROM:-0500
TZOFFSETTO:-0400
TZNAME:EDT
DTSTART:20240310T070000
END:DAYLIGHT
BEGIN:STANDARD
TZOFFSETFROM:-0400
TZOFFSETTO:-0500
TZNAME:EST
DTSTART:20241103T060000
END:STANDARD
END:VTIMEZONE
BEGIN:VEVENT
DTSTART;TZID=America/Toronto:20240205T090000
DTEND;TZID=America/Toronto:20240205T170000
DTSTAMP:20260425T140100
CREATED:20240116T192823Z
LAST-MODIFIED:20240205T142056Z
UID:17286-1707123600-1707152400@moebius.cegepmontpetit.ca
SUMMARY:Réservation Espace Moebius - Cours TIM
DESCRIPTION:Disposition du local : ONU (environ 25 places avec table.) \nSur les côtés\, il faut dégager pour installer des prototypes d’installations interactives \n 
URL:https://moebius.cegepmontpetit.ca/evenement/reservation-espace-moebius-cours-tim-15/
LOCATION:D2702
CATEGORIES:Besoin de portables,Classe ananas_Observation,Imprimante en fonction,Réservation - CLAAC,Téléviseur interactif 1x
ATTACH;FMTTYPE=image/jpeg:https://moebius.cegepmontpetit.ca/wp-content/uploads/sites/166/2019/06/Capture.jpg
END:VEVENT
BEGIN:VEVENT
DTSTART;TZID=America/Toronto:20240206T100000
DTEND;TZID=America/Toronto:20240206T120000
DTSTAMP:20260425T140100
CREATED:20240122T135354Z
LAST-MODIFIED:20240122T135354Z
UID:17336-1707213600-1707220800@moebius.cegepmontpetit.ca
SUMMARY:Réservation Espace Moebius - Stage Carrefour Suisse
DESCRIPTION:
URL:https://moebius.cegepmontpetit.ca/evenement/reservation-espace-moebius-stage-carrefour-suisse/
LOCATION:D2702
CATEGORIES:Classe ananas_Observation,Imprimante en fonction,Mode exclusif,Réservation - CLAAC,Téléviseur interactif 1x
ATTACH;FMTTYPE=image/png:https://moebius.cegepmontpetit.ca/wp-content/uploads/sites/166/2021/10/Suisse.png
END:VEVENT
BEGIN:VEVENT
DTSTART;TZID=America/Toronto:20240214T140000
DTEND;TZID=America/Toronto:20240214T160000
DTSTAMP:20260425T140100
CREATED:20240116T160000Z
LAST-MODIFIED:20240116T160126Z
UID:17237-1707919200-1707926400@moebius.cegepmontpetit.ca
SUMMARY:Réservation Espace Moebius - Cours THD
DESCRIPTION:Matériel : \n– Boutons sonores : Oui\n– Verres de couleur : Oui
URL:https://moebius.cegepmontpetit.ca/evenement/reservation-espace-moebius-cours-thd-26/
LOCATION:D2702
CATEGORIES:Classe ananas_Observation,Imprimante en fonction,Mode exclusif,Réservation - CLAAC,Téléviseur interactif 1x
ATTACH;FMTTYPE=image/jpeg:https://moebius.cegepmontpetit.ca/wp-content/uploads/sites/166/2019/03/dental-hygiene-600x375.jpg
END:VEVENT
BEGIN:VEVENT
DTSTART;TZID=America/Toronto:20240215T080000
DTEND;TZID=America/Toronto:20240215T110000
DTSTAMP:20260425T140100
CREATED:20240126T155339Z
LAST-MODIFIED:20240126T155339Z
UID:17388-1707984000-1707994800@moebius.cegepmontpetit.ca
SUMMARY:Réservation Espace Moebius - Cours Électronique
DESCRIPTION:
URL:https://moebius.cegepmontpetit.ca/evenement/reservation-espace-moebius-cours-electronique/
LOCATION:D2702
CATEGORIES:Classe ananas_Observation,Imprimante en fonction,Mode exclusif,Réservation - CLAAC,Téléviseur interactif 1x
ATTACH;FMTTYPE=image/png:https://moebius.cegepmontpetit.ca/wp-content/uploads/sites/166/2022/12/claac.png
END:VEVENT
BEGIN:VEVENT
DTSTART;TZID=America/Toronto:20240221T140000
DTEND;TZID=America/Toronto:20240221T160000
DTSTAMP:20260425T140100
CREATED:20240116T160256Z
LAST-MODIFIED:20240216T141228Z
UID:17239-1708524000-1708531200@moebius.cegepmontpetit.ca
SUMMARY:Réservation Espace Moebius - Cours THD
DESCRIPTION:Matériel : \n– Boutons sonores : Oui\n– Verres de couleur : Oui
URL:https://moebius.cegepmontpetit.ca/evenement/reservation-espace-moebius-cours-thd-27/
LOCATION:D2702
CATEGORIES:Classe ananas_Observation,Imprimante en fonction,Mode exclusif,Réservation - CLAAC,Téléviseur interactif 1x
ATTACH;FMTTYPE=image/jpeg:https://moebius.cegepmontpetit.ca/wp-content/uploads/sites/166/2019/03/dental-hygiene-600x375.jpg
END:VEVENT
BEGIN:VEVENT
DTSTART;TZID=America/Toronto:20240227T080000
DTEND;TZID=America/Toronto:20240227T090000
DTSTAMP:20260425T140100
CREATED:20240122T135812Z
LAST-MODIFIED:20240122T135812Z
UID:17341-1709020800-1709024400@moebius.cegepmontpetit.ca
SUMMARY:Réservation Espace Moebius - Stage Carrefour Suisse
DESCRIPTION:
URL:https://moebius.cegepmontpetit.ca/evenement/reservation-espace-moebius-stage-carrefour-suisse-3/
LOCATION:D2702
CATEGORIES:Classe ananas_Observation,Imprimante en fonction,Mode exclusif,Réservation - CLAAC,Téléviseur interactif 1x
ATTACH;FMTTYPE=image/png:https://moebius.cegepmontpetit.ca/wp-content/uploads/sites/166/2021/10/Suisse.png
END:VEVENT
BEGIN:VEVENT
DTSTART;TZID=America/Toronto:20240228T090000
DTEND;TZID=America/Toronto:20240228T110000
DTSTAMP:20260425T140100
CREATED:20240122T185210Z
LAST-MODIFIED:20240123T134001Z
UID:17352-1709110800-1709118000@moebius.cegepmontpetit.ca
SUMMARY:Réservation Espace Moebius - Cours Littérature
DESCRIPTION:Disposition : Examens (Fin de session) \nBesoins des portables (environ 30 étudiants)
URL:https://moebius.cegepmontpetit.ca/evenement/reservation-espace-moebius-cours-litterature-10/
LOCATION:D2702
CATEGORIES:1 portable par étudiant,Besoin de portables,Classe ananas_Observation,Imprimante en fonction,Mode exclusif,Réservation - CLAAC,Réservation - Médialab,Réservation - Zone discussion
ATTACH;FMTTYPE=image/jpeg:https://moebius.cegepmontpetit.ca/wp-content/uploads/sites/166/2019/06/Moébius-ordinateur-HP-13-06-2019-1-e1568646589397.jpg
END:VEVENT
END:VCALENDAR