BEGIN:VCALENDAR
VERSION:2.0
PRODID:-//Espace Moebius - ECPv6.0.12//NONSGML v1.0//EN
CALSCALE:GREGORIAN
METHOD:PUBLISH
X-ORIGINAL-URL:https://moebius.cegepmontpetit.ca
X-WR-CALDESC:évènements pour Espace Moebius
REFRESH-INTERVAL;VALUE=DURATION:PT1H
X-Robots-Tag:noindex
X-PUBLISHED-TTL:PT1H
BEGIN:VTIMEZONE
TZID:America/Toronto
BEGIN:DAYLIGHT
TZOFFSETFROM:-0500
TZOFFSETTO:-0400
TZNAME:EDT
DTSTART:20260308T070000
END:DAYLIGHT
BEGIN:STANDARD
TZOFFSETFROM:-0400
TZOFFSETTO:-0500
TZNAME:EST
DTSTART:20261101T060000
END:STANDARD
END:VTIMEZONE
BEGIN:VEVENT
DTSTART;TZID=America/Toronto:20260204T183000
DTEND;TZID=America/Toronto:20260204T203000
DTSTAMP:20260423T071635
CREATED:20250506T152429Z
LAST-MODIFIED:20251211T152453Z
UID:20681-1770229800-1770237000@moebius.cegepmontpetit.ca
SUMMARY:Soirée Portes Ouvertes
DESCRIPTION:#86383
URL:https://moebius.cegepmontpetit.ca/evenement/soiree-portes-ouvertes-2/
LOCATION:D2702
CATEGORIES:Événement spécial,Visite de l'Espace Moebius
ATTACH;FMTTYPE=image/png:https://moebius.cegepmontpetit.ca/wp-content/uploads/sites/166/2022/05/portes-ouvertes.png
END:VEVENT
END:VCALENDAR