BEGIN:VCALENDAR
VERSION:2.0
PRODID:-//Espace Moebius - ECPv6.0.12//NONSGML v1.0//EN
CALSCALE:GREGORIAN
METHOD:PUBLISH
X-ORIGINAL-URL:https://moebius.cegepmontpetit.ca
X-WR-CALDESC:évènements pour Espace Moebius
REFRESH-INTERVAL;VALUE=DURATION:PT1H
X-Robots-Tag:noindex
X-PUBLISHED-TTL:PT1H
BEGIN:VTIMEZONE
TZID:America/Toronto
BEGIN:DAYLIGHT
TZOFFSETFROM:-0500
TZOFFSETTO:-0400
TZNAME:EDT
DTSTART:20250309T070000
END:DAYLIGHT
BEGIN:STANDARD
TZOFFSETFROM:-0400
TZOFFSETTO:-0500
TZNAME:EST
DTSTART:20251102T060000
END:STANDARD
END:VTIMEZONE
BEGIN:VEVENT
DTSTART;TZID=America/Toronto:20250903T080000
DTEND;TZID=America/Toronto:20250903T110000
DTSTAMP:20260423T063424
CREATED:20250819T171241Z
LAST-MODIFIED:20250826T174556Z
UID:21046-1756886400-1756897200@moebius.cegepmontpetit.ca
SUMMARY:Réservation RV - Soins Infirmiers
DESCRIPTION:** Déposer les feuilles pour le projet de Recherche sur le bureau d’accueil. **\nSynapse #82034\nProblématique : 60 A RV # 1 Dépression et RV # 2 psychose\nBesoin des 6 postes (3 par simulation)
URL:https://moebius.cegepmontpetit.ca/evenement/reservation-rv-soins-infirmiers-59/
LOCATION:D2702
CATEGORIES:Atelier - Réalité virtuelle,Imprimante en fonction,Réservation - CLAAC,Téléviseur interactif 1x
ATTACH;FMTTYPE=image/jpeg:https://moebius.cegepmontpetit.ca/wp-content/uploads/sites/166/2024/02/Quest_3_1_Choix-scaled.jpg
END:VEVENT
BEGIN:VEVENT
DTSTART;TZID=America/Toronto:20250903T130000
DTEND;TZID=America/Toronto:20250903T160000
DTSTAMP:20260423T063424
CREATED:20250819T171328Z
LAST-MODIFIED:20250903T123159Z
UID:21048-1756904400-1756915200@moebius.cegepmontpetit.ca
SUMMARY:Réservation RV - Soins Infirmiers
DESCRIPTION:** Déposer les feuilles pour le projet de Recherche sur le bureau d’accueil. **\nSynapse #82034\nProblématique : 60 A RV # 1 Dépression et RV # 2 psychose\nBesoin des 6 postes (3 par simulation)
URL:https://moebius.cegepmontpetit.ca/evenement/reservation-rv-soins-infirmiers-66/
LOCATION:D2702
CATEGORIES:Atelier - Réalité virtuelle,Imprimante en fonction,Réservation - CLAAC,Téléviseur interactif 1x
ATTACH;FMTTYPE=image/jpeg:https://moebius.cegepmontpetit.ca/wp-content/uploads/sites/166/2024/02/Quest_3_1_Choix-scaled.jpg
END:VEVENT
BEGIN:VEVENT
DTSTART;TZID=America/Toronto:20250904T080000
DTEND;TZID=America/Toronto:20250904T110000
DTSTAMP:20260423T063424
CREATED:20250826T123517Z
LAST-MODIFIED:20250826T123517Z
UID:21427-1756972800-1756983600@moebius.cegepmontpetit.ca
SUMMARY:Réservation - Cours administration
DESCRIPTION:Synapse #82348
URL:https://moebius.cegepmontpetit.ca/evenement/reservation-cours-administration-12/
LOCATION:D2702
CATEGORIES:Imprimante en fonction,Mode exclusif,Réservation - CLAAC,Téléviseur interactif 1x
ATTACH;FMTTYPE=image/jpeg:https://moebius.cegepmontpetit.ca/wp-content/uploads/sites/166/2025/08/Gestion-internationale_1.jpg
END:VEVENT
BEGIN:VEVENT
DTSTART;TZID=America/Toronto:20250908T080000
DTEND;TZID=America/Toronto:20250908T100000
DTSTAMP:20260423T063424
CREATED:20250821T134402Z
LAST-MODIFIED:20250821T134402Z
UID:21310-1757318400-1757325600@moebius.cegepmontpetit.ca
SUMMARY:Réservation - Cours THD
DESCRIPTION:Synapse #82004\nDisposition : À suivre …\nBesoins autres :\nVerres de couleur : Oui
URL:https://moebius.cegepmontpetit.ca/evenement/reservation-cours-thd-36/
LOCATION:D2702
CATEGORIES:Imprimante en fonction,Mode exclusif,Réservation - CLAAC,Téléviseur interactif 1x
ATTACH;FMTTYPE=image/jpeg:https://moebius.cegepmontpetit.ca/wp-content/uploads/sites/166/2019/03/dental-hygiene-600x375.jpg
END:VEVENT
BEGIN:VEVENT
DTSTART;TZID=America/Toronto:20250909T130000
DTEND;TZID=America/Toronto:20250909T160000
DTSTAMP:20260423T063424
CREATED:20250819T171410Z
LAST-MODIFIED:20250826T175232Z
UID:21052-1757422800-1757433600@moebius.cegepmontpetit.ca
SUMMARY:Réservation RV - Soins Infirmiers
DESCRIPTION:** Déposer les feuilles pour le projet de Recherche sur le bureau d’accueil. **\nProblématique : 410-hypovolémie\nSynapse TSI
URL:https://moebius.cegepmontpetit.ca/evenement/reservation-rv-soins-infirmiers-67/
LOCATION:D2702
CATEGORIES:Atelier - Réalité virtuelle,Imprimante en fonction,Réservation - CLAAC,Téléviseur interactif 1x
ATTACH;FMTTYPE=image/jpeg:https://moebius.cegepmontpetit.ca/wp-content/uploads/sites/166/2019/04/OculusRift.jpg
END:VEVENT
BEGIN:VEVENT
DTSTART;TZID=America/Toronto:20250911T130000
DTEND;TZID=America/Toronto:20250911T160000
DTSTAMP:20260423T063424
CREATED:20250819T171523Z
LAST-MODIFIED:20250826T175346Z
UID:21055-1757595600-1757606400@moebius.cegepmontpetit.ca
SUMMARY:Réservation RV - Soins Infirmiers
DESCRIPTION:** Déposer les feuilles pour le projet de Recherche sur le bureau d’accueil. **\nProblématique : 410-hypovolémie\nSynapse TSI
URL:https://moebius.cegepmontpetit.ca/evenement/reservation-rv-soins-infirmiers-68/
LOCATION:D2702
CATEGORIES:Atelier - Réalité virtuelle,Imprimante en fonction,Mode exclusif,Réservation - CLAAC,Téléviseur interactif 1x
ATTACH;FMTTYPE=image/jpeg:https://moebius.cegepmontpetit.ca/wp-content/uploads/sites/166/2019/04/P1090458.jpg
END:VEVENT
BEGIN:VEVENT
DTSTART;TZID=America/Toronto:20250912T080000
DTEND;TZID=America/Toronto:20250912T120000
DTSTAMP:20260423T063424
CREATED:20250821T135723Z
LAST-MODIFIED:20250826T180127Z
UID:21315-1757664000-1757678400@moebius.cegepmontpetit.ca
SUMMARY:Réservation - Cours et RV Soins Infirmiers
DESCRIPTION:** Déposer les feuilles pour le projet de Recherche sur le bureau d’accueil. **\nSynapse #82011\nRV avec les Rift seulement.\nLa réalité virtuelle sera utilisé si le temps le permet afin de le faire découvrir\, il reviendra avec quel scénario mettre.
URL:https://moebius.cegepmontpetit.ca/evenement/reservation-cours-et-rv-soins-infirmiers/
LOCATION:D2702
CATEGORIES:1 portable par étudiant,Atelier - Réalité virtuelle,Besoin de portables,Classe ananas_Observation,Imprimante en fonction
ATTACH;FMTTYPE=image/jpeg:https://moebius.cegepmontpetit.ca/wp-content/uploads/sites/166/2019/04/OculusRift.jpg
END:VEVENT
BEGIN:VEVENT
DTSTART;TZID=America/Toronto:20250915T150000
DTEND;TZID=America/Toronto:20250915T180000
DTSTAMP:20260423T063424
CREATED:20250820T190452Z
LAST-MODIFIED:20250908T180100Z
UID:21243-1757948400-1757959200@moebius.cegepmontpetit.ca
SUMMARY:Réservation - RV Anglais -
DESCRIPTION:Utilisation du jeu : VR-ACE: Ace the job interview\nUtiliser les casques Leia (Quest 2)\, Rey (Quest 2)\, Hedwige (Quest 3)\, Sanji (Quest 3) et Nami (Quest 3).\nSynapse #81980
URL:https://moebius.cegepmontpetit.ca/evenement/reservation-rv-anglais/
LOCATION:D2702
CATEGORIES:Atelier - Réalité virtuelle,Imprimante en fonction,Mode exclusif,Réservation - CLAAC,Téléviseur interactif 1x
ATTACH;FMTTYPE=image/jpeg:https://moebius.cegepmontpetit.ca/wp-content/uploads/sites/166/2019/04/OculusRift.jpg
END:VEVENT
BEGIN:VEVENT
DTSTART;TZID=America/Toronto:20250916T120000
DTEND;TZID=America/Toronto:20250916T150000
DTSTAMP:20260423T063424
CREATED:20250820T190744Z
LAST-MODIFIED:20250908T181711Z
UID:21245-1758024000-1758034800@moebius.cegepmontpetit.ca
SUMMARY:Réservation - RV Anglais -
DESCRIPTION:Utilisation de l’application : VR-ACE: Ace the job interview\nUtiliser les casques Leia (Quest 2)\, Rey (Quest 2)\, Hedwige (Quest 3)\, Sanji (Quest 3) et Nami (Quest 3).\nSynapse #81980
URL:https://moebius.cegepmontpetit.ca/evenement/reservation-rv-anglais-2/
LOCATION:D2702
CATEGORIES:Atelier - Réalité virtuelle,Imprimante en fonction,Mode exclusif
ATTACH;FMTTYPE=image/jpeg:https://moebius.cegepmontpetit.ca/wp-content/uploads/sites/166/2019/04/P1090458.jpg
END:VEVENT
BEGIN:VEVENT
DTSTART;TZID=America/Toronto:20250918T150000
DTEND;TZID=America/Toronto:20250918T170000
DTSTAMP:20260423T063424
CREATED:20250821T142834Z
LAST-MODIFIED:20250821T142834Z
UID:21320-1758207600-1758214800@moebius.cegepmontpetit.ca
SUMMARY:Réservation - RV Psychologie
DESCRIPTION:Synapse #81952\nJeux Keep Talking and Nobody Explodes
URL:https://moebius.cegepmontpetit.ca/evenement/reservation-rv-psychologie-7/
LOCATION:D2702
CATEGORIES:Atelier - Réalité virtuelle,Classe ananas_Observation,Imprimante en fonction,Mode exclusif
ATTACH;FMTTYPE=image/jpeg:https://moebius.cegepmontpetit.ca/wp-content/uploads/sites/166/2019/09/keep-talking-and-nobody-explodes.jpg
END:VEVENT
BEGIN:VEVENT
DTSTART;TZID=America/Toronto:20250922T150000
DTEND;TZID=America/Toronto:20250922T170000
DTSTAMP:20260423T063424
CREATED:20250819T195744Z
LAST-MODIFIED:20250821T142441Z
UID:21176-1758553200-1758560400@moebius.cegepmontpetit.ca
SUMMARY:Réservation - RV Psychologie
DESCRIPTION:Synapse #81952\nJeux Keep Talking and Nobody Explodes
URL:https://moebius.cegepmontpetit.ca/evenement/reservation-rv-psychologie-4/
LOCATION:D2702
CATEGORIES:Atelier - Réalité virtuelle,Imprimante en fonction,Mode exclusif,Réservation - CLAAC,Téléviseur interactif 1x
ATTACH;FMTTYPE=image/jpeg:https://moebius.cegepmontpetit.ca/wp-content/uploads/sites/166/2019/09/keep-talking-and-nobody-explodes.jpg
END:VEVENT
BEGIN:VEVENT
DTSTART;TZID=America/Toronto:20250923T080000
DTEND;TZID=America/Toronto:20250923T120000
DTSTAMP:20260423T063424
CREATED:20250819T171609Z
LAST-MODIFIED:20250818T133712Z
UID:21057-1758614400-1758628800@moebius.cegepmontpetit.ca
SUMMARY:Réservation RV - Soins Infirmiers
DESCRIPTION:Problématique : 510-MPOC et 510-TCC\nBesoin des 6 postes (3 par simulation)\nSynapse TSI
URL:https://moebius.cegepmontpetit.ca/evenement/reservation-rv-soins-infirmiers-69/
LOCATION:D2702
CATEGORIES:Atelier - Réalité virtuelle,Imprimante en fonction,Mode partagé,Réservation - CLAAC,Téléviseur interactif 1x
ATTACH;FMTTYPE=image/jpeg:https://moebius.cegepmontpetit.ca/wp-content/uploads/sites/166/2024/02/Quest_3_1_Choix-scaled.jpg
END:VEVENT
BEGIN:VEVENT
DTSTART;TZID=America/Toronto:20250923T130000
DTEND;TZID=America/Toronto:20250923T150000
DTSTAMP:20260423T063424
CREATED:20250819T200001Z
LAST-MODIFIED:20250819T200001Z
UID:21180-1758632400-1758639600@moebius.cegepmontpetit.ca
SUMMARY:Réservation - RV Psychologie
DESCRIPTION:Jeux Keep Talking and Nobody Explodes
URL:https://moebius.cegepmontpetit.ca/evenement/reservation-rv-psychologie-5/
LOCATION:D2702
CATEGORIES:Atelier - Réalité virtuelle,Imprimante en fonction,Mode exclusif,Réservation - CLAAC,Téléviseur interactif 1x
ATTACH;FMTTYPE=image/jpeg:https://moebius.cegepmontpetit.ca/wp-content/uploads/sites/166/2019/09/keep-talking-and-nobody-explodes.jpg
END:VEVENT
BEGIN:VEVENT
DTSTART;TZID=America/Toronto:20250925T080000
DTEND;TZID=America/Toronto:20250925T100000
DTSTAMP:20260423T063424
CREATED:20250821T133359Z
LAST-MODIFIED:20250821T133359Z
UID:21306-1758787200-1758794400@moebius.cegepmontpetit.ca
SUMMARY:Réservation - Cours Littérature
DESCRIPTION:Synapse #81999\nDisposition : L’Assemblée assymétrique\n** Aide à fournir pour la connexion des étudiants à leur compte. **
URL:https://moebius.cegepmontpetit.ca/evenement/reservation-cours-litterature-3/
LOCATION:D2702
CATEGORIES:Besoin de portables,Imprimante en fonction,Réservation - CLAAC,Téléviseur interactif 1x
ATTACH;FMTTYPE=image/png:https://moebius.cegepmontpetit.ca/wp-content/uploads/sites/166/2025/08/Art_Lettres_Comms_Litt_2.png
END:VEVENT
BEGIN:VEVENT
DTSTART;TZID=America/Toronto:20250930T080000
DTEND;TZID=America/Toronto:20250930T120000
DTSTAMP:20260423T063424
CREATED:20250819T171747Z
LAST-MODIFIED:20250818T134028Z
UID:21061-1759219200-1759233600@moebius.cegepmontpetit.ca
SUMMARY:Réservation RV - Soins Infirmiers
DESCRIPTION:Problématique : 510-MPOC et 510-TCC\nBesoin des 6 postes (3 par simulation)\nSynapse TSI
URL:https://moebius.cegepmontpetit.ca/evenement/reservation-rv-soins-infirmiers-70/
LOCATION:D2702
CATEGORIES:Atelier - Réalité virtuelle,Imprimante en fonction,Mode exclusif,Réservation - CLAAC,Téléviseur interactif 1x
ATTACH;FMTTYPE=image/jpeg:https://moebius.cegepmontpetit.ca/wp-content/uploads/sites/166/2024/02/Quest_3_1_Choix-scaled.jpg
END:VEVENT
BEGIN:VEVENT
DTSTART;TZID=America/Toronto:20250930T130000
DTEND;TZID=America/Toronto:20250930T170000
DTSTAMP:20260423T063424
CREATED:20250909T122442Z
LAST-MODIFIED:20250909T122442Z
UID:21661-1759237200-1759251600@moebius.cegepmontpetit.ca
SUMMARY:Réservation - Cours Soins Infirmiers
DESCRIPTION:
URL:https://moebius.cegepmontpetit.ca/evenement/reservation-cours-soins-infirmiers-2/
LOCATION:D2702
CATEGORIES:Imprimante en fonction,Réservation - CLAAC,Téléviseur interactif 1x
ATTACH;FMTTYPE=image/png:https://moebius.cegepmontpetit.ca/wp-content/uploads/sites/166/2019/11/soins.png
END:VEVENT
END:VCALENDAR