BEGIN:VCALENDAR
VERSION:2.0
PRODID:-//Espace Moebius - ECPv6.0.12//NONSGML v1.0//EN
CALSCALE:GREGORIAN
METHOD:PUBLISH
X-WR-CALNAME:Espace Moebius
X-ORIGINAL-URL:https://moebius.cegepmontpetit.ca
X-WR-CALDESC:évènements pour Espace Moebius
REFRESH-INTERVAL;VALUE=DURATION:PT1H
X-Robots-Tag:noindex
X-PUBLISHED-TTL:PT1H
BEGIN:VTIMEZONE
TZID:America/Toronto
BEGIN:DAYLIGHT
TZOFFSETFROM:-0500
TZOFFSETTO:-0400
TZNAME:EDT
DTSTART:20250309T070000
END:DAYLIGHT
BEGIN:STANDARD
TZOFFSETFROM:-0400
TZOFFSETTO:-0500
TZNAME:EST
DTSTART:20251102T060000
END:STANDARD
END:VTIMEZONE
BEGIN:VEVENT
DTSTART;TZID=America/Toronto:20250603T090000
DTEND;TZID=America/Toronto:20250603T160000
DTSTAMP:20260423T160629
CREATED:20250430T125118Z
LAST-MODIFIED:20250603T131125Z
UID:20579-1748941200-1748966400@moebius.cegepmontpetit.ca
SUMMARY:Mode partagé - Rencontre Fondation du cégep
DESCRIPTION:#79240 \nCoin discussion :\nTélévision BenQ\nDivan et pouffe\nGrande table et petites tables blanches.\nTableaux sur roulette
URL:https://moebius.cegepmontpetit.ca/evenement/mode-partage-rencontre-fondation-du-cegep/
LOCATION:D2702
CATEGORIES:Imprimante en fonction,Mode partagé
ATTACH;FMTTYPE=image/jpeg:https://moebius.cegepmontpetit.ca/wp-content/uploads/sites/166/2019/04/P1090450.jpg
END:VEVENT
END:VCALENDAR