BEGIN:VCALENDAR
VERSION:2.0
PRODID:-//Espace Moebius - ECPv6.0.12//NONSGML v1.0//EN
CALSCALE:GREGORIAN
METHOD:PUBLISH
X-WR-CALNAME:Espace Moebius
X-ORIGINAL-URL:https://moebius.cegepmontpetit.ca
X-WR-CALDESC:évènements pour Espace Moebius
REFRESH-INTERVAL;VALUE=DURATION:PT1H
X-Robots-Tag:noindex
X-PUBLISHED-TTL:PT1H
BEGIN:VTIMEZONE
TZID:America/Toronto
BEGIN:DAYLIGHT
TZOFFSETFROM:-0500
TZOFFSETTO:-0400
TZNAME:EDT
DTSTART:20250309T070000
END:DAYLIGHT
BEGIN:STANDARD
TZOFFSETFROM:-0400
TZOFFSETTO:-0500
TZNAME:EST
DTSTART:20251102T060000
END:STANDARD
END:VTIMEZONE
BEGIN:VEVENT
DTSTART;VALUE=DATE:20250602
DTEND;VALUE=DATE:20250604
DTSTAMP:20260423T185154
CREATED:20250506T152933Z
LAST-MODIFIED:20250506T153245Z
UID:20683-1748844000-1748930399@moebius.cegepmontpetit.ca
SUMMARY:Bibliothèque fermée - Impressions 3D disponible
DESCRIPTION:
URL:https://moebius.cegepmontpetit.ca/evenement/bibliotheque-fermee-impressions-3d-disponible/
LOCATION:D2702
CATEGORIES:Local fermé
END:VEVENT
BEGIN:VEVENT
DTSTART;TZID=America/Toronto:20250605T120000
DTEND;TZID=America/Toronto:20250605T130000
DTSTAMP:20260423T185154
CREATED:20250530T194654Z
LAST-MODIFIED:20250530T194654Z
UID:20942-1749124800-1749128400@moebius.cegepmontpetit.ca
SUMMARY:Dîner TTP - Local Fermé
DESCRIPTION:
URL:https://moebius.cegepmontpetit.ca/evenement/diner-ttp-local-ferme-13/
LOCATION:D2702
CATEGORIES:Local fermé
ATTACH;FMTTYPE=image/jpeg:https://moebius.cegepmontpetit.ca/wp-content/uploads/sites/166/2019/07/1090639.jpg
END:VEVENT
BEGIN:VEVENT
DTSTART;TZID=America/Toronto:20250606T080000
DTEND;TZID=America/Toronto:20250606T160000
DTSTAMP:20260423T185154
CREATED:20250506T153030Z
LAST-MODIFIED:20250506T173640Z
UID:20686-1749196800-1749225600@moebius.cegepmontpetit.ca
SUMMARY:Bibliothèque fermée - Journée Plein Air
DESCRIPTION:
URL:https://moebius.cegepmontpetit.ca/evenement/bibliotheque-fermee-journee-plein-air/
LOCATION:D2702
CATEGORIES:Local fermé
ATTACH;FMTTYPE=image/jpeg:https://moebius.cegepmontpetit.ca/wp-content/uploads/sites/166/2019/07/1090635-Modifier.jpg
END:VEVENT
BEGIN:VEVENT
DTSTART;TZID=America/Toronto:20250609T120000
DTEND;TZID=America/Toronto:20250609T130000
DTSTAMP:20260423T185154
CREATED:20250519T131907Z
LAST-MODIFIED:20250519T131907Z
UID:20803-1749470400-1749474000@moebius.cegepmontpetit.ca
SUMMARY:Dîner TTP - Local Fermé
DESCRIPTION:
URL:https://moebius.cegepmontpetit.ca/evenement/diner-ttp-local-ferme-11/
LOCATION:D2702
CATEGORIES:Local fermé
ATTACH;FMTTYPE=image/jpeg:https://moebius.cegepmontpetit.ca/wp-content/uploads/sites/166/2019/07/1090639.jpg
END:VEVENT
BEGIN:VEVENT
DTSTART;TZID=America/Toronto:20250610T120000
DTEND;TZID=America/Toronto:20250610T130000
DTSTAMP:20260423T185154
CREATED:20250519T131907Z
LAST-MODIFIED:20250519T131907Z
UID:20804-1749556800-1749560400@moebius.cegepmontpetit.ca
SUMMARY:Dîner TTP - Local Fermé
DESCRIPTION:
URL:https://moebius.cegepmontpetit.ca/evenement/diner-ttp-local-ferme-11/2025-06-10/
LOCATION:D2702
CATEGORIES:Local fermé
ATTACH;FMTTYPE=image/jpeg:https://moebius.cegepmontpetit.ca/wp-content/uploads/sites/166/2019/07/1090639.jpg
END:VEVENT
BEGIN:VEVENT
DTSTART;TZID=America/Toronto:20250611T120000
DTEND;TZID=America/Toronto:20250611T130000
DTSTAMP:20260423T185154
CREATED:20250519T131907Z
LAST-MODIFIED:20250519T131907Z
UID:20805-1749643200-1749646800@moebius.cegepmontpetit.ca
SUMMARY:Dîner TTP - Local Fermé
DESCRIPTION:
URL:https://moebius.cegepmontpetit.ca/evenement/diner-ttp-local-ferme-11/2025-06-11/
LOCATION:D2702
CATEGORIES:Local fermé
ATTACH;FMTTYPE=image/jpeg:https://moebius.cegepmontpetit.ca/wp-content/uploads/sites/166/2019/07/1090639.jpg
END:VEVENT
BEGIN:VEVENT
DTSTART;TZID=America/Toronto:20250612T120000
DTEND;TZID=America/Toronto:20250612T130000
DTSTAMP:20260423T185154
CREATED:20250519T131907Z
LAST-MODIFIED:20250519T131907Z
UID:20806-1749729600-1749733200@moebius.cegepmontpetit.ca
SUMMARY:Dîner TTP - Local Fermé
DESCRIPTION:
URL:https://moebius.cegepmontpetit.ca/evenement/diner-ttp-local-ferme-11/2025-06-12/
LOCATION:D2702
CATEGORIES:Local fermé
ATTACH;FMTTYPE=image/jpeg:https://moebius.cegepmontpetit.ca/wp-content/uploads/sites/166/2019/07/1090639.jpg
END:VEVENT
BEGIN:VEVENT
DTSTART;TZID=America/Toronto:20250613T113000
DTEND;TZID=America/Toronto:20250613T160000
DTSTAMP:20260423T185154
CREATED:20250506T154850Z
LAST-MODIFIED:20250506T155144Z
UID:20697-1749814200-1749830400@moebius.cegepmontpetit.ca
SUMMARY:Horaire Été - Local Fermé
DESCRIPTION:
URL:https://moebius.cegepmontpetit.ca/evenement/horaire-ete-local-ferme/
LOCATION:D2702
CATEGORIES:Local fermé
ATTACH;FMTTYPE=image/jpeg:https://moebius.cegepmontpetit.ca/wp-content/uploads/sites/166/2019/07/1090635-Modifier.jpg
END:VEVENT
BEGIN:VEVENT
DTSTART;TZID=America/Toronto:20250620T113000
DTEND;TZID=America/Toronto:20250620T160000
DTSTAMP:20260423T185154
CREATED:20250506T154947Z
LAST-MODIFIED:20250506T155118Z
UID:20699-1750419000-1750435200@moebius.cegepmontpetit.ca
SUMMARY:Horaire Été - Local Fermé
DESCRIPTION:
URL:https://moebius.cegepmontpetit.ca/evenement/horaire-ete-local-ferme-2/
LOCATION:D2702
CATEGORIES:Local fermé
ATTACH;FMTTYPE=image/jpeg:https://moebius.cegepmontpetit.ca/wp-content/uploads/sites/166/2019/07/1090635-Modifier.jpg
END:VEVENT
BEGIN:VEVENT
DTSTART;VALUE=DATE:20250624
DTEND;VALUE=DATE:20250626
DTSTAMP:20260423T185154
CREATED:20250506T154726Z
LAST-MODIFIED:20250506T154726Z
UID:20695-1750744800-1750831199@moebius.cegepmontpetit.ca
SUMMARY:Férié - Fête nationale du Québec
DESCRIPTION:
URL:https://moebius.cegepmontpetit.ca/evenement/ferie-fete-nationale-du-quebec-2/
LOCATION:D2702
CATEGORIES:Local fermé
ATTACH;FMTTYPE=image/jpeg:https://moebius.cegepmontpetit.ca/wp-content/uploads/sites/166/2019/07/1090635-Modifier.jpg
END:VEVENT
BEGIN:VEVENT
DTSTART;TZID=America/Toronto:20250624T120000
DTEND;TZID=America/Toronto:20250624T130000
DTSTAMP:20260423T185154
CREATED:20250519T132312Z
LAST-MODIFIED:20250519T132312Z
UID:20815-1750766400-1750770000@moebius.cegepmontpetit.ca
SUMMARY:Dîner TTP - Local Fermé
DESCRIPTION:
URL:https://moebius.cegepmontpetit.ca/evenement/diner-ttp-local-ferme-14-2025-06-24/
LOCATION:D2702
CATEGORIES:Local fermé
ATTACH;FMTTYPE=image/jpeg:https://moebius.cegepmontpetit.ca/wp-content/uploads/sites/166/2019/07/1090639.jpg
END:VEVENT
BEGIN:VEVENT
DTSTART;TZID=America/Toronto:20250625T120000
DTEND;TZID=America/Toronto:20250625T130000
DTSTAMP:20260423T185154
CREATED:20250519T132312Z
LAST-MODIFIED:20250519T132312Z
UID:20816-1750852800-1750856400@moebius.cegepmontpetit.ca
SUMMARY:Dîner TTP - Local Fermé
DESCRIPTION:
URL:https://moebius.cegepmontpetit.ca/evenement/diner-ttp-local-ferme-14-2025-06-25/
LOCATION:D2702
CATEGORIES:Local fermé
ATTACH;FMTTYPE=image/jpeg:https://moebius.cegepmontpetit.ca/wp-content/uploads/sites/166/2019/07/1090639.jpg
END:VEVENT
BEGIN:VEVENT
DTSTART;TZID=America/Toronto:20250626T120000
DTEND;TZID=America/Toronto:20250626T130000
DTSTAMP:20260423T185154
CREATED:20250519T132312Z
LAST-MODIFIED:20250519T132312Z
UID:20817-1750939200-1750942800@moebius.cegepmontpetit.ca
SUMMARY:Dîner TTP - Local Fermé
DESCRIPTION:
URL:https://moebius.cegepmontpetit.ca/evenement/diner-ttp-local-ferme-14-2025-06-26/
LOCATION:D2702
CATEGORIES:Local fermé
ATTACH;FMTTYPE=image/jpeg:https://moebius.cegepmontpetit.ca/wp-content/uploads/sites/166/2019/07/1090639.jpg
END:VEVENT
BEGIN:VEVENT
DTSTART;TZID=America/Toronto:20250627T113000
DTEND;TZID=America/Toronto:20250627T160000
DTSTAMP:20260423T185154
CREATED:20250506T155024Z
LAST-MODIFIED:20250506T155102Z
UID:20701-1751023800-1751040000@moebius.cegepmontpetit.ca
SUMMARY:Horaire Été - Local Fermé
DESCRIPTION:
URL:https://moebius.cegepmontpetit.ca/evenement/horaire-ete-local-ferme-3/
LOCATION:D2702
CATEGORIES:Local fermé
ATTACH;FMTTYPE=image/jpeg:https://moebius.cegepmontpetit.ca/wp-content/uploads/sites/166/2019/07/1090635-Modifier.jpg
END:VEVENT
BEGIN:VEVENT
DTSTART;VALUE=DATE:20250630
DTEND;VALUE=DATE:20250715
DTSTAMP:20260423T185154
CREATED:20250506T154020Z
LAST-MODIFIED:20250506T154020Z
UID:20690-1751263200-1752472799@moebius.cegepmontpetit.ca
SUMMARY:Local Fermé
DESCRIPTION:
URL:https://moebius.cegepmontpetit.ca/evenement/local-ferme-163/
LOCATION:D2702
CATEGORIES:Local fermé
ATTACH;FMTTYPE=image/jpeg:https://moebius.cegepmontpetit.ca/wp-content/uploads/sites/166/2019/07/1090635-Modifier.jpg
END:VEVENT
BEGIN:VEVENT
DTSTART;VALUE=DATE:20250630
DTEND;VALUE=DATE:20250702
DTSTAMP:20260423T185154
CREATED:20250506T155244Z
LAST-MODIFIED:20250506T155257Z
UID:20703-1751263200-1751349599@moebius.cegepmontpetit.ca
SUMMARY:Férié - Fête du Canada
DESCRIPTION:
URL:https://moebius.cegepmontpetit.ca/evenement/ferie-fete-du-canada-3/
LOCATION:D2702
CATEGORIES:Local fermé
ATTACH;FMTTYPE=image/jpeg:https://moebius.cegepmontpetit.ca/wp-content/uploads/sites/166/2019/07/1090635-Modifier.jpg
END:VEVENT
END:VCALENDAR