BEGIN:VCALENDAR
VERSION:2.0
PRODID:-//Espace Moebius - ECPv6.0.12//NONSGML v1.0//EN
CALSCALE:GREGORIAN
METHOD:PUBLISH
X-WR-CALNAME:Espace Moebius
X-ORIGINAL-URL:https://moebius.cegepmontpetit.ca
X-WR-CALDESC:évènements pour Espace Moebius
REFRESH-INTERVAL;VALUE=DURATION:PT1H
X-Robots-Tag:noindex
X-PUBLISHED-TTL:PT1H
BEGIN:VTIMEZONE
TZID:America/Toronto
BEGIN:DAYLIGHT
TZOFFSETFROM:-0500
TZOFFSETTO:-0400
TZNAME:EDT
DTSTART:20250309T070000
END:DAYLIGHT
BEGIN:STANDARD
TZOFFSETFROM:-0400
TZOFFSETTO:-0500
TZNAME:EST
DTSTART:20251102T060000
END:STANDARD
END:VTIMEZONE
BEGIN:VEVENT
DTSTART;VALUE=DATE:20250716
DTEND;VALUE=DATE:20250803
DTSTAMP:20260423T144541
CREATED:20250506T153207Z
LAST-MODIFIED:20250506T154311Z
UID:20688-1752645600-1754114399@moebius.cegepmontpetit.ca
SUMMARY:Bibliothèque fermée - Impressions 3D possibles
DESCRIPTION:
URL:https://moebius.cegepmontpetit.ca/evenement/bibliotheque-fermee-impressions-3d-possibles/
LOCATION:D2702
CATEGORIES:Local fermé
ATTACH;FMTTYPE=image/jpeg:https://moebius.cegepmontpetit.ca/wp-content/uploads/sites/166/2024/05/Les-imprimantes-scaled.jpg
END:VEVENT
BEGIN:VEVENT
DTSTART;VALUE=DATE:20250802
DTEND;VALUE=DATE:20250812
DTSTAMP:20260423T144541
CREATED:20250506T154219Z
LAST-MODIFIED:20250506T154233Z
UID:20692-1754114400-1754891999@moebius.cegepmontpetit.ca
SUMMARY:Local Fermé
DESCRIPTION:
URL:https://moebius.cegepmontpetit.ca/evenement/local-ferme-164/
LOCATION:D2702
CATEGORIES:Local fermé
ATTACH;FMTTYPE=image/jpeg:https://moebius.cegepmontpetit.ca/wp-content/uploads/sites/166/2019/07/1090635-Modifier.jpg
END:VEVENT
BEGIN:VEVENT
DTSTART;TZID=America/Toronto:20250815T120000
DTEND;TZID=America/Toronto:20250815T130000
DTSTAMP:20260423T144541
CREATED:20250813T170444Z
LAST-MODIFIED:20250813T171316Z
UID:21024-1755259200-1755262800@moebius.cegepmontpetit.ca
SUMMARY:Dîner TTP
DESCRIPTION:
URL:https://moebius.cegepmontpetit.ca/evenement/diner-ttp-5/
LOCATION:D2702
CATEGORIES:Local fermé
ATTACH;FMTTYPE=image/png:https://moebius.cegepmontpetit.ca/wp-content/uploads/sites/166/2020/03/Youtube.png
END:VEVENT
BEGIN:VEVENT
DTSTART;TZID=America/Toronto:20250818T120000
DTEND;TZID=America/Toronto:20250818T130000
DTSTAMP:20260423T144541
CREATED:20250814T153411Z
LAST-MODIFIED:20250814T153411Z
UID:21027-1755518400-1755522000@moebius.cegepmontpetit.ca
SUMMARY:Dîner TTP
DESCRIPTION:
URL:https://moebius.cegepmontpetit.ca/evenement/diner-ttp-6/
LOCATION:D2702
CATEGORIES:Local fermé
ATTACH;FMTTYPE=image/png:https://moebius.cegepmontpetit.ca/wp-content/uploads/sites/166/2020/03/Youtube.png
END:VEVENT
BEGIN:VEVENT
DTSTART;TZID=America/Toronto:20250819T120000
DTEND;TZID=America/Toronto:20250819T130000
DTSTAMP:20260423T144541
CREATED:20250814T153448Z
LAST-MODIFIED:20250814T153448Z
UID:21029-1755604800-1755608400@moebius.cegepmontpetit.ca
SUMMARY:Dîner TTP
DESCRIPTION:
URL:https://moebius.cegepmontpetit.ca/evenement/diner-ttp-7/
LOCATION:D2702
CATEGORIES:Local fermé
ATTACH;FMTTYPE=image/png:https://moebius.cegepmontpetit.ca/wp-content/uploads/sites/166/2020/03/Youtube.png
END:VEVENT
BEGIN:VEVENT
DTSTART;TZID=America/Toronto:20250820T080000
DTEND;TZID=America/Toronto:20250820T130000
DTSTAMP:20260423T144541
CREATED:20250814T153700Z
LAST-MODIFIED:20250814T153700Z
UID:21031-1755676800-1755694800@moebius.cegepmontpetit.ca
SUMMARY:Discours de la Rentrée et Dîner TTP
DESCRIPTION:
URL:https://moebius.cegepmontpetit.ca/evenement/discours-de-la-rentree-et-diner-ttp/
LOCATION:D2702
CATEGORIES:Local fermé
ATTACH;FMTTYPE=image/png:https://moebius.cegepmontpetit.ca/wp-content/uploads/sites/166/2020/03/Youtube.png
END:VEVENT
BEGIN:VEVENT
DTSTART;TZID=America/Toronto:20250822T120000
DTEND;TZID=America/Toronto:20250822T130000
DTSTAMP:20260423T144541
CREATED:20250822T130253Z
LAST-MODIFIED:20250822T130253Z
UID:21377-1755864000-1755867600@moebius.cegepmontpetit.ca
SUMMARY:Dîner TTP - Local Fermé
DESCRIPTION:
URL:https://moebius.cegepmontpetit.ca/evenement/diner-ttp-local-ferme-15/
LOCATION:D2702
CATEGORIES:Local fermé
ATTACH;FMTTYPE=image/jpeg:https://moebius.cegepmontpetit.ca/wp-content/uploads/sites/166/2019/07/1090639.jpg
END:VEVENT
END:VCALENDAR