BEGIN:VCALENDAR
VERSION:2.0
PRODID:-//Espace Moebius - ECPv6.0.12//NONSGML v1.0//EN
CALSCALE:GREGORIAN
METHOD:PUBLISH
X-ORIGINAL-URL:https://moebius.cegepmontpetit.ca
X-WR-CALDESC:évènements pour Espace Moebius
REFRESH-INTERVAL;VALUE=DURATION:PT1H
X-Robots-Tag:noindex
X-PUBLISHED-TTL:PT1H
BEGIN:VTIMEZONE
TZID:America/Toronto
BEGIN:DAYLIGHT
TZOFFSETFROM:-0500
TZOFFSETTO:-0400
TZNAME:EDT
DTSTART:20250309T070000
END:DAYLIGHT
BEGIN:STANDARD
TZOFFSETFROM:-0400
TZOFFSETTO:-0500
TZNAME:EST
DTSTART:20251102T060000
END:STANDARD
END:VTIMEZONE
BEGIN:VEVENT
DTSTART;TZID=America/Toronto:20251001T160000
DTEND;TZID=America/Toronto:20251001T180000
DTSTAMP:20260423T054452
CREATED:20250820T193803Z
LAST-MODIFIED:20250826T191952Z
UID:21257-1759334400-1759341600@moebius.cegepmontpetit.ca
SUMMARY:Réservation - Cours THD
DESCRIPTION:Synapse #81981\nDisposition : 6 tables de 4 et 3 tables de 3 personnes.\nLes 2 BenQ (avec la même diffusion) et une table pour mon matériel enseignante.\nÀ tous les cours\, besoin des petits tableaux blancs\, crayons effaçables et effaces.\nBesoins spécifiques :\n1 octobre: Cartes aimantées de couleur variées : Oui
URL:https://moebius.cegepmontpetit.ca/evenement/reservation-cours-thd-28/
LOCATION:D2702
CATEGORIES:Mode exclusif,Réservation - CLAAC,Téléviseur interactif 2x
ATTACH;FMTTYPE=image/jpeg:https://moebius.cegepmontpetit.ca/wp-content/uploads/sites/166/2019/03/dental-hygiene-600x375.jpg
END:VEVENT
BEGIN:VEVENT
DTSTART;TZID=America/Toronto:20251002T130000
DTEND;TZID=America/Toronto:20251002T150000
DTSTAMP:20260423T054452
CREATED:20250819T171826Z
LAST-MODIFIED:20250826T171305Z
UID:21066-1759410000-1759417200@moebius.cegepmontpetit.ca
SUMMARY:Réservation RV - Soins Infirmiers
DESCRIPTION:Synapse #82417\nProblématique : 50A-SCPD\nBesoin des petites tables blanches entre les stations RV\nBesoin d’une paire d’écouteur avec fil en plus\, pour le second étudiant (message sera transmis aux personnes étudiantes par l’équipe cours)
URL:https://moebius.cegepmontpetit.ca/evenement/reservation-rv-soins-infirmiers-71/
LOCATION:D2702
CATEGORIES:Atelier - Réalité virtuelle,Imprimante en fonction,Mode exclusif,Réservation - CLAAC,Téléviseur interactif 1x
ATTACH;FMTTYPE=image/jpeg:https://moebius.cegepmontpetit.ca/wp-content/uploads/sites/166/2019/04/P1090458.jpg
END:VEVENT
BEGIN:VEVENT
DTSTART;TZID=America/Toronto:20251002T150000
DTEND;TZID=America/Toronto:20251002T180000
DTSTAMP:20260423T054452
CREATED:20250911T192356Z
LAST-MODIFIED:20250911T192356Z
UID:21686-1759417200-1759428000@moebius.cegepmontpetit.ca
SUMMARY:Réservation - Cours TIM
DESCRIPTION:Synapse #83386\nDisposition : Premier Ministre modifié (voir placement de local de 11h30).\n** La table de 8 personnes et pour le cours de Soins Infirmiers\, par la suite\, nous pouvons les ranger et placer les chaises en rang.\nDemande initiale : Configuration conférence\, table avec 4 panélistes\, 2 TV derrière eux….. seulement les 45 chaises devants eux (sans table)
URL:https://moebius.cegepmontpetit.ca/evenement/reservation-cours-tim-6/
LOCATION:D2702
CATEGORIES:Mode exclusif,Réservation - CLAAC,Réservation - Médialab,Réservation - Zone discussion,Réservation de l'Espace Moebius,Téléviseur interactif 1x
ATTACH;FMTTYPE=image/jpeg:https://moebius.cegepmontpetit.ca/wp-content/uploads/sites/166/2019/06/Capture.jpg
END:VEVENT
BEGIN:VEVENT
DTSTART;TZID=America/Toronto:20251003T080000
DTEND;TZID=America/Toronto:20251003T100000
DTSTAMP:20260423T054452
CREATED:20250819T171955Z
LAST-MODIFIED:20250826T171320Z
UID:21069-1759478400-1759485600@moebius.cegepmontpetit.ca
SUMMARY:Réservation RV - Soins Infirmiers
DESCRIPTION:Synapse #82417\nProblématique : 50A-SCPD\nBesoin des petites tables blanches entre les stations RV\nBesoin d’une paire d’écouteur avec fil en plus\, pour le second étudiant (message sera transmis aux personnes étudiantes par l’équipe cours)
URL:https://moebius.cegepmontpetit.ca/evenement/reservation-rv-soins-infirmiers-72/
LOCATION:D2702
CATEGORIES:Atelier - Réalité virtuelle,Imprimante en fonction,Mode exclusif,Réservation - CLAAC,Téléviseur interactif 1x
ATTACH;FMTTYPE=image/jpeg:https://moebius.cegepmontpetit.ca/wp-content/uploads/sites/166/2019/04/P1090458.jpg
END:VEVENT
BEGIN:VEVENT
DTSTART;TZID=America/Toronto:20251003T100000
DTEND;TZID=America/Toronto:20251003T120000
DTSTAMP:20260423T054452
CREATED:20250819T172028Z
LAST-MODIFIED:20250826T171340Z
UID:21072-1759485600-1759492800@moebius.cegepmontpetit.ca
SUMMARY:Réservation RV - Soins Infirmiers
DESCRIPTION:Synapse #82417\nProblématique : 50A-SCPD\nBesoin des petites tables blanches entre les stations RV\nBesoin d’une paire d’écouteur avec fil en plus\, pour le second étudiant (message sera transmis aux personnes étudiantes par l’équipe cours)
URL:https://moebius.cegepmontpetit.ca/evenement/reservation-rv-soins-infirmiers-73/
LOCATION:D2702
CATEGORIES:Atelier - Réalité virtuelle,Imprimante en fonction,Mode exclusif,Réservation - CLAAC,Téléviseur interactif 1x
ATTACH;FMTTYPE=image/jpeg:https://moebius.cegepmontpetit.ca/wp-content/uploads/sites/166/2019/04/P1090458.jpg
END:VEVENT
BEGIN:VEVENT
DTSTART;TZID=America/Toronto:20251003T130000
DTEND;TZID=America/Toronto:20251003T150000
DTSTAMP:20260423T054452
CREATED:20250819T172103Z
LAST-MODIFIED:20250826T171422Z
UID:21074-1759496400-1759503600@moebius.cegepmontpetit.ca
SUMMARY:Réservation RV - Soins Infirmiers
DESCRIPTION:Synapse #82417\nProblématique : 50A-SCPD\nBesoin des petites tables blanches entre les stations RV\nBesoin d’une paire d’écouteur avec fil en plus\, pour le second étudiant (message sera transmis aux personnes étudiantes par l’équipe cours)
URL:https://moebius.cegepmontpetit.ca/evenement/reservation-rv-soins-infirmiers-74/
LOCATION:D2702
CATEGORIES:Atelier - Réalité virtuelle,Imprimante en fonction,Mode exclusif,Réservation - CLAAC,Téléviseur interactif 1x
ATTACH;FMTTYPE=image/jpeg:https://moebius.cegepmontpetit.ca/wp-content/uploads/sites/166/2019/04/P1090458.jpg
END:VEVENT
BEGIN:VEVENT
DTSTART;TZID=America/Toronto:20251007T080000
DTEND;TZID=America/Toronto:20251007T120000
DTSTAMP:20260423T054452
CREATED:20250922T173727Z
LAST-MODIFIED:20250922T173727Z
UID:21918-1759824000-1759838400@moebius.cegepmontpetit.ca
SUMMARY:Réservation - Cours Soins Infirmiers
DESCRIPTION:Synapse #83802
URL:https://moebius.cegepmontpetit.ca/evenement/reservation-cours-soins-infirmiers-3/
LOCATION:D2702
CATEGORIES:Mode exclusif,Réservation - CLAAC,Téléviseur interactif 1x
ATTACH;FMTTYPE=image/png:https://moebius.cegepmontpetit.ca/wp-content/uploads/sites/166/2019/11/soins.png
END:VEVENT
BEGIN:VEVENT
DTSTART;TZID=America/Toronto:20251007T130000
DTEND;TZID=America/Toronto:20251007T160000
DTSTAMP:20260423T054452
CREATED:20250819T172217Z
LAST-MODIFIED:20250818T141355Z
UID:21076-1759842000-1759852800@moebius.cegepmontpetit.ca
SUMMARY:Réservation RV - Soins Infirmiers
DESCRIPTION:Problématique : 410-hypovolémie
URL:https://moebius.cegepmontpetit.ca/evenement/reservation-rv-soins-infirmiers-75/
LOCATION:D2702
CATEGORIES:Atelier - Réalité virtuelle,Imprimante en fonction,Mode exclusif,Réservation - CLAAC,Téléviseur interactif 1x
ATTACH;FMTTYPE=image/jpeg:https://moebius.cegepmontpetit.ca/wp-content/uploads/sites/166/2019/04/P1090458.jpg
END:VEVENT
BEGIN:VEVENT
DTSTART;TZID=America/Toronto:20251008T140000
DTEND;TZID=America/Toronto:20251008T160000
DTSTAMP:20260423T054452
CREATED:20250912T191849Z
LAST-MODIFIED:20251008T144938Z
UID:21711-1759932000-1759939200@moebius.cegepmontpetit.ca
SUMMARY:Réservation - Cours Arts et lettres
DESCRIPTION:Synapse #83460\nDiscussion avec une auteure\nDisposition : Même que pour le cours de THD
URL:https://moebius.cegepmontpetit.ca/evenement/reservation-cours-arts-et-lettres/
LOCATION:D2702
CATEGORIES:Mode exclusif,Réservation - CLAAC
ATTACH;FMTTYPE=image/png:https://moebius.cegepmontpetit.ca/wp-content/uploads/sites/166/2025/09/Art_Lettres_Comms_Litt_1.png
END:VEVENT
BEGIN:VEVENT
DTSTART;TZID=America/Toronto:20251009T130000
DTEND;TZID=America/Toronto:20251009T160000
DTSTAMP:20260423T054452
CREATED:20250819T172330Z
LAST-MODIFIED:20250818T141657Z
UID:21078-1760014800-1760025600@moebius.cegepmontpetit.ca
SUMMARY:Réservation RV - Soins Infirmiers
DESCRIPTION:Problématique : 410-hypovolémie
URL:https://moebius.cegepmontpetit.ca/evenement/reservation-rv-soins-infirmiers-76/
LOCATION:D2702
CATEGORIES:Atelier - Réalité virtuelle,Imprimante en fonction,Mode exclusif,Réservation - CLAAC,Téléviseur interactif 1x
ATTACH;FMTTYPE=image/jpeg:https://moebius.cegepmontpetit.ca/wp-content/uploads/sites/166/2019/04/P1090458.jpg
END:VEVENT
BEGIN:VEVENT
DTSTART;TZID=America/Toronto:20251014T103000
DTEND;TZID=America/Toronto:20251014T160000
DTSTAMP:20260423T054452
CREATED:20250911T193450Z
LAST-MODIFIED:20251007T174158Z
UID:21698-1760437800-1760457600@moebius.cegepmontpetit.ca
SUMMARY:Journée Pédagogique - Activités à déterminer
DESCRIPTION:Synapse #83397
URL:https://moebius.cegepmontpetit.ca/evenement/journee-pedagogique-activites-a-determiner/
LOCATION:D2702
CATEGORIES:Mode exclusif,Réservation - CLAAC,Téléviseur interactif 1x
ATTACH;FMTTYPE=image/jpeg:https://moebius.cegepmontpetit.ca/wp-content/uploads/sites/166/2025/09/CLAAC_-1-scaled.jpg
END:VEVENT
BEGIN:VEVENT
DTSTART;TZID=America/Toronto:20251016T130000
DTEND;TZID=America/Toronto:20251016T163000
DTSTAMP:20260423T054452
CREATED:20251009T131057Z
LAST-MODIFIED:20251009T131057Z
UID:22031-1760619600-1760632200@moebius.cegepmontpetit.ca
SUMMARY:Réservation - Rencontre TIM - Atelier
DESCRIPTION:Synapse #84578\nAtelier de travail révision du programme TIM\nBesoins autres : Cartes aimantées de couleur variées
URL:https://moebius.cegepmontpetit.ca/evenement/reservation-rencontre-tim-atelier/
LOCATION:D2702
CATEGORIES:Imprimante en fonction,Mode exclusif,Réservation - CLAAC,Téléviseur interactif 1x
ATTACH;FMTTYPE=image/jpeg:https://moebius.cegepmontpetit.ca/wp-content/uploads/sites/166/2019/06/Capture.jpg
END:VEVENT
BEGIN:VEVENT
DTSTART;TZID=America/Toronto:20251020T080000
DTEND;TZID=America/Toronto:20251020T160000
DTSTAMP:20260423T054452
CREATED:20251002T145601Z
LAST-MODIFIED:20251002T145601Z
UID:22009-1760947200-1760976000@moebius.cegepmontpetit.ca
SUMMARY:Réservation - Formation Disti
DESCRIPTION:
URL:https://moebius.cegepmontpetit.ca/evenement/reservation-formation-disti-2/
LOCATION:D2702
CATEGORIES:Mode exclusif,Réservation - CLAAC,Téléviseur interactif 1x,Téléviseur interactif 2x
ATTACH;FMTTYPE=image/jpeg:https://moebius.cegepmontpetit.ca/wp-content/uploads/sites/166/2025/08/CLAAC_-1-scaled.jpg
END:VEVENT
BEGIN:VEVENT
DTSTART;TZID=America/Toronto:20251021T080000
DTEND;TZID=America/Toronto:20251021T120000
DTSTAMP:20260423T054452
CREATED:20250821T135855Z
LAST-MODIFIED:20250821T135855Z
UID:21318-1761033600-1761048000@moebius.cegepmontpetit.ca
SUMMARY:Réservation - Cours et RV Soins Infirmiers
DESCRIPTION:Synapse #82011\nRV avec les Rift seulement.\nLa réalité virtuelle sera utilisé si le temps le permet afin de le faire découvrir\, il reviendra avec quel scénario mettre.
URL:https://moebius.cegepmontpetit.ca/evenement/reservation-cours-et-rv-soins-infirmiers-2/
LOCATION:D2702
CATEGORIES:1 portable par étudiant,Atelier - Réalité virtuelle,Besoin de portables,Classe ananas_Observation,Imprimante en fonction,Mode exclusif
ATTACH;FMTTYPE=image/jpeg:https://moebius.cegepmontpetit.ca/wp-content/uploads/sites/166/2019/04/P1090458.jpg
END:VEVENT
BEGIN:VEVENT
DTSTART;TZID=America/Toronto:20251022T140000
DTEND;TZID=America/Toronto:20251022T153000
DTSTAMP:20260423T054452
CREATED:20251007T184305Z
LAST-MODIFIED:20251007T185535Z
UID:22027-1761141600-1761147000@moebius.cegepmontpetit.ca
SUMMARY:Réservation - RV Psychologie
DESCRIPTION:Synapse #84511\nBesoin de 4 casques : 2 stations Rift et 2 Quest 2 avec les manuels d’instructions.
URL:https://moebius.cegepmontpetit.ca/evenement/reservation-rv-psychologie-8/
LOCATION:D2702
CATEGORIES:Atelier - Réalité virtuelle,Mode exclusif,Réservation - CLAAC,Téléviseur interactif 1x
ATTACH;FMTTYPE=image/jpeg:https://moebius.cegepmontpetit.ca/wp-content/uploads/sites/166/2019/09/keep-talking-and-nobody-explodes.jpg
END:VEVENT
BEGIN:VEVENT
DTSTART;TZID=America/Toronto:20251023T080000
DTEND;TZID=America/Toronto:20251023T120000
DTSTAMP:20260423T054452
CREATED:20250819T172451Z
LAST-MODIFIED:20250821T155532Z
UID:21080-1761206400-1761220800@moebius.cegepmontpetit.ca
SUMMARY:Réservation RV - Soins Infirmiers
DESCRIPTION:Synapse #82130\nProblématique : 610-Post-Op Abdo
URL:https://moebius.cegepmontpetit.ca/evenement/reservation-rv-soins-infirmiers-77/
LOCATION:D2702
CATEGORIES:Atelier - Réalité virtuelle,Imprimante en fonction,Mode exclusif,Réservation - CLAAC,Téléviseur interactif 1x
ATTACH;FMTTYPE=image/jpeg:https://moebius.cegepmontpetit.ca/wp-content/uploads/sites/166/2019/04/P1090458.jpg
END:VEVENT
BEGIN:VEVENT
DTSTART;TZID=America/Toronto:20251023T120000
DTEND;TZID=America/Toronto:20251023T160000
DTSTAMP:20260423T054452
CREATED:20250819T172545Z
LAST-MODIFIED:20250821T155549Z
UID:21082-1761220800-1761235200@moebius.cegepmontpetit.ca
SUMMARY:Réservation RV - Soins Infirmiers
DESCRIPTION:Synapse #82130\nProblématique : 610-Post-Op Abdo
URL:https://moebius.cegepmontpetit.ca/evenement/reservation-rv-soins-infirmiers-78/
LOCATION:D2702
CATEGORIES:Atelier - Réalité virtuelle,Imprimante en fonction,Mode exclusif,Réservation - CLAAC,Téléviseur interactif 1x
ATTACH;FMTTYPE=image/jpeg:https://moebius.cegepmontpetit.ca/wp-content/uploads/sites/166/2019/04/P1090458.jpg
END:VEVENT
BEGIN:VEVENT
DTSTART;TZID=America/Toronto:20251024T103000
DTEND;TZID=America/Toronto:20251024T124500
DTSTAMP:20260423T054452
CREATED:20250929T133106Z
LAST-MODIFIED:20250929T133126Z
UID:21943-1761301800-1761309900@moebius.cegepmontpetit.ca
SUMMARY:Réservation - Salon des Régions
DESCRIPTION:Synapse #84084\nDisposition : Mini-Expo
URL:https://moebius.cegepmontpetit.ca/evenement/reservation-salon-des-region/
LOCATION:D2702
CATEGORIES:Mode exclusif,Réservation - CLAAC,Téléviseur interactif 1x
ATTACH;FMTTYPE=image/png:https://moebius.cegepmontpetit.ca/wp-content/uploads/sites/166/2024/06/Expo_modifie.png
END:VEVENT
BEGIN:VEVENT
DTSTART;TZID=America/Toronto:20251024T130000
DTEND;TZID=America/Toronto:20251024T160000
DTSTAMP:20260423T054452
CREATED:20250819T172752Z
LAST-MODIFIED:20250821T150339Z
UID:21088-1761310800-1761321600@moebius.cegepmontpetit.ca
SUMMARY:Réservation RV - Soins Infirmiers
DESCRIPTION:Synapse #82034\nProblématique : 60 A RV # 2 Psychose et RV # 1 Dépression\nBesoins des 6 postes : 3 stations mobiles
URL:https://moebius.cegepmontpetit.ca/evenement/reservation-rv-soins-infirmiers-80/
LOCATION:D2702
CATEGORIES:Atelier - Réalité virtuelle,Imprimante en fonction,Mode exclusif,Réservation - CLAAC,Téléviseur interactif 1x
ATTACH;FMTTYPE=image/jpeg:https://moebius.cegepmontpetit.ca/wp-content/uploads/sites/166/2024/02/Quest_3_1_Choix-scaled.jpg
END:VEVENT
BEGIN:VEVENT
DTSTART;TZID=America/Toronto:20251027T100000
DTEND;TZID=America/Toronto:20251027T120000
DTSTAMP:20260423T054452
CREATED:20250819T174855Z
LAST-MODIFIED:20250819T174855Z
UID:21154-1761559200-1761566400@moebius.cegepmontpetit.ca
SUMMARY:Réservation - Communauté de pratique et de recherche enseignants
DESCRIPTION:L’aménagement du local sera majoritairement d’asseoir tout le monde en rond\, sans table\, pour favoriser la discussion.
URL:https://moebius.cegepmontpetit.ca/evenement/reservation-communaute-de-pratique-et-de-recherche-enseignants-8/
LOCATION:D2702
CATEGORIES:Mode exclusif,Réservation - CLAAC,Téléviseur interactif 1x
ATTACH;FMTTYPE=image/jpeg:https://moebius.cegepmontpetit.ca/wp-content/uploads/sites/166/2025/08/Rencontre_Coin_Discussion_-9-scaled.jpg
END:VEVENT
BEGIN:VEVENT
DTSTART;TZID=America/Toronto:20251027T140000
DTEND;TZID=America/Toronto:20251027T160000
DTSTAMP:20260423T054452
CREATED:20251017T124320Z
LAST-MODIFIED:20251017T124320Z
UID:22052-1761573600-1761580800@moebius.cegepmontpetit.ca
SUMMARY:Réservation - Cours Physique
DESCRIPTION:Synapse #84781\nDisposition : 10-4
URL:https://moebius.cegepmontpetit.ca/evenement/reservation-cours-physique/
LOCATION:D2702
CATEGORIES:Classe ananas_Observation,Mode exclusif,Réservation - CLAAC,Téléviseur interactif 2x
ATTACH;FMTTYPE=image/png:https://moebius.cegepmontpetit.ca/wp-content/uploads/sites/166/2024/05/07_Le_10-4.png
END:VEVENT
BEGIN:VEVENT
DTSTART;TZID=America/Toronto:20251028T150000
DTEND;TZID=America/Toronto:20251028T180000
DTSTAMP:20260423T054452
CREATED:20250820T173659Z
LAST-MODIFIED:20250820T181451Z
UID:21218-1761663600-1761674400@moebius.cegepmontpetit.ca
SUMMARY:Réservation - Cours administration
DESCRIPTION:Synapse #81976\nDisposition : Table ronde pour 40 personnes  »Ovale étiré »
URL:https://moebius.cegepmontpetit.ca/evenement/reservation-cours-administration-8/
LOCATION:D2702
CATEGORIES:Mode exclusif,Réservation - CLAAC,Téléviseur interactif 1x
ATTACH;FMTTYPE=image/jpeg:https://moebius.cegepmontpetit.ca/wp-content/uploads/sites/166/2025/08/CLAAC_-1-scaled.jpg
END:VEVENT
BEGIN:VEVENT
DTSTART;TZID=America/Toronto:20251029T130000
DTEND;TZID=America/Toronto:20251029T160000
DTSTAMP:20260423T054452
CREATED:20250819T172836Z
LAST-MODIFIED:20250826T192241Z
UID:21090-1761742800-1761753600@moebius.cegepmontpetit.ca
SUMMARY:Réservation RV - Soins Infirmiers
DESCRIPTION:** Déposer document pour projet de recherches sur le bureau d’accueil. **\nSynapse #82034\nProblématique : 60 A RV # 2 Psychose et RV # 1 Dépression\nBesoins des 6 postes : 3 stations mobiles
URL:https://moebius.cegepmontpetit.ca/evenement/reservation-rv-soins-infirmiers-81/
LOCATION:D2702
CATEGORIES:Atelier - Réalité virtuelle,Imprimante en fonction,Mode exclusif,Réservation - CLAAC,Téléviseur interactif 1x
ATTACH;FMTTYPE=image/jpeg:https://moebius.cegepmontpetit.ca/wp-content/uploads/sites/166/2024/02/Quest_3_1_Choix-scaled.jpg
END:VEVENT
BEGIN:VEVENT
DTSTART;TZID=America/Toronto:20251029T160000
DTEND;TZID=America/Toronto:20251029T180000
DTSTAMP:20260423T054452
CREATED:20250820T194225Z
LAST-MODIFIED:20250826T192254Z
UID:21263-1761753600-1761760800@moebius.cegepmontpetit.ca
SUMMARY:Réservation - Cours THD
DESCRIPTION:Synapse #81981\nDisposition : 6 tables de 4 et 3 tables de 3 personnes.\nLes 2 BenQ (avec la même diffusion) et une table pour mon matériel enseignante.\nÀ tous les cours\, besoin des petits tableaux blancs\, crayons effaçables et effaces.
URL:https://moebius.cegepmontpetit.ca/evenement/reservation-cours-thd-31/
LOCATION:D2702
CATEGORIES:Mode exclusif,Réservation - CLAAC,Téléviseur interactif 2x
ATTACH;FMTTYPE=image/jpeg:https://moebius.cegepmontpetit.ca/wp-content/uploads/sites/166/2019/03/dental-hygiene-600x375.jpg
END:VEVENT
BEGIN:VEVENT
DTSTART;TZID=America/Toronto:20251030T080000
DTEND;TZID=America/Toronto:20251030T100000
DTSTAMP:20260423T054452
CREATED:20250821T143922Z
LAST-MODIFIED:20251027T153220Z
UID:21327-1761811200-1761818400@moebius.cegepmontpetit.ca
SUMMARY:Réservation - Cours THD
DESCRIPTION:Synapse #81954\nDisposition : 4×4
URL:https://moebius.cegepmontpetit.ca/evenement/reservation-cours-thd-37/
LOCATION:D2702
CATEGORIES:Mode exclusif,Réservation - CLAAC,Téléviseur interactif 1x
ATTACH;FMTTYPE=image/png:https://moebius.cegepmontpetit.ca/wp-content/uploads/sites/166/2024/05/18_Le_4x4.png
END:VEVENT
BEGIN:VEVENT
DTSTART;TZID=America/Toronto:20251031T103000
DTEND;TZID=America/Toronto:20251031T130000
DTSTAMP:20260423T054452
CREATED:20250821T123653Z
LAST-MODIFIED:20250821T123856Z
UID:21278-1761906600-1761915600@moebius.cegepmontpetit.ca
SUMMARY:Réservation - Cours Anglais
DESCRIPTION:Synapse #81992\nCours à déterminer ** Peut-être ajout de réalité virtuelle **
URL:https://moebius.cegepmontpetit.ca/evenement/reservation-cours-anglais-9/
LOCATION:D2702
CATEGORIES:Classe ananas_Observation,Imprimante en fonction,Mode exclusif,Réservation - CLAAC,Téléviseur interactif 1x
ATTACH;FMTTYPE=image/png:https://moebius.cegepmontpetit.ca/wp-content/uploads/sites/166/2022/12/claac.png
END:VEVENT
END:VCALENDAR