BEGIN:VCALENDAR
VERSION:2.0
PRODID:-//Espace Moebius - ECPv6.0.12//NONSGML v1.0//EN
CALSCALE:GREGORIAN
METHOD:PUBLISH
X-WR-CALNAME:Espace Moebius
X-ORIGINAL-URL:https://moebius.cegepmontpetit.ca
X-WR-CALDESC:évènements pour Espace Moebius
REFRESH-INTERVAL;VALUE=DURATION:PT1H
X-Robots-Tag:noindex
X-PUBLISHED-TTL:PT1H
BEGIN:VTIMEZONE
TZID:America/Toronto
BEGIN:DAYLIGHT
TZOFFSETFROM:-0500
TZOFFSETTO:-0400
TZNAME:EDT
DTSTART:20250309T070000
END:DAYLIGHT
BEGIN:STANDARD
TZOFFSETFROM:-0400
TZOFFSETTO:-0500
TZNAME:EST
DTSTART:20251102T060000
END:STANDARD
END:VTIMEZONE
BEGIN:VEVENT
DTSTART;TZID=America/Toronto:20251103T080000
DTEND;TZID=America/Toronto:20251103T170000
DTSTAMP:20260423T042656
CREATED:20250819T175022Z
LAST-MODIFIED:20250819T175022Z
UID:21156-1762156800-1762189200@moebius.cegepmontpetit.ca
SUMMARY:Réservation - Communauté de pratique et de recherche enseignants
DESCRIPTION:L’aménagement du local sera majoritairement d’asseoir tout le monde en rond\, sans table\, pour favoriser la discussion.
URL:https://moebius.cegepmontpetit.ca/evenement/reservation-communaute-de-pratique-et-de-recherche-enseignants-9/
LOCATION:D2702
CATEGORIES:Mode exclusif,Réservation - CLAAC,Téléviseur interactif 1x
ATTACH;FMTTYPE=image/jpeg:https://moebius.cegepmontpetit.ca/wp-content/uploads/sites/166/2025/08/Rencontre_Coin_Discussion_-9-scaled.jpg
END:VEVENT
BEGIN:VEVENT
DTSTART;TZID=America/Toronto:20251104T120000
DTEND;TZID=America/Toronto:20251104T140000
DTSTAMP:20260423T042656
CREATED:20251015T190701Z
LAST-MODIFIED:20251015T190701Z
UID:22050-1762257600-1762264800@moebius.cegepmontpetit.ca
SUMMARY:Réservation - Cours Littérature
DESCRIPTION:Synapse #84740\nBesoins de 35 portables.
URL:https://moebius.cegepmontpetit.ca/evenement/reservation-cours-litterature-5/
LOCATION:D2702
CATEGORIES:1 portable par étudiant,Imprimante en fonction,Mode exclusif,Réservation - CLAAC,Téléviseur interactif 1x
ATTACH;FMTTYPE=image/jpeg:https://moebius.cegepmontpetit.ca/wp-content/uploads/sites/166/2019/06/Moebius_2019_05_16_0016.jpg
END:VEVENT
BEGIN:VEVENT
DTSTART;TZID=America/Toronto:20251105T080000
DTEND;TZID=America/Toronto:20251105T120000
DTSTAMP:20260423T042656
CREATED:20250826T122119Z
LAST-MODIFIED:20251021T171906Z
UID:21423-1762329600-1762344000@moebius.cegepmontpetit.ca
SUMMARY:Réservation - Cours et RV Soins Infirmiers
DESCRIPTION:Synapse #82322\n** Vérifier s’il y a toujours des problématique réseau (synapse #84914)\nSimulation RV à confirmer s’ils ont le temps.\nBesoin des portables
URL:https://moebius.cegepmontpetit.ca/evenement/reservation-rv-et-cours-soins-infirmiers/
LOCATION:D2702
CATEGORIES:1 portable par étudiant,Atelier - Réalité virtuelle,Mode exclusif,Réservation - CLAAC,Téléviseur interactif 1x
ATTACH;FMTTYPE=image/jpeg:https://moebius.cegepmontpetit.ca/wp-content/uploads/sites/166/2019/04/OculusRift.jpg
END:VEVENT
BEGIN:VEVENT
DTSTART;TZID=America/Toronto:20251105T160000
DTEND;TZID=America/Toronto:20251105T180000
DTSTAMP:20260423T042656
CREATED:20250820T194340Z
LAST-MODIFIED:20250826T192545Z
UID:21265-1762358400-1762365600@moebius.cegepmontpetit.ca
SUMMARY:Réservation - Cours THD
DESCRIPTION:Synapse #81981\nDisposition : 6 tables de 4 et 3 tables de 3 personnes.\nLes 2 BenQ (avec la même diffusion) et une table pour mon matériel enseignante.\nÀ tous les cours\, besoin des petits tableaux blancs\, crayons effaçables et effaces.
URL:https://moebius.cegepmontpetit.ca/evenement/reservation-cours-thd-32/
LOCATION:D2702
CATEGORIES:Mode exclusif,Réservation - CLAAC,Téléviseur interactif 2x
ATTACH;FMTTYPE=image/jpeg:https://moebius.cegepmontpetit.ca/wp-content/uploads/sites/166/2019/03/dental-hygiene-600x375.jpg
END:VEVENT
BEGIN:VEVENT
DTSTART;TZID=America/Toronto:20251107T090000
DTEND;TZID=America/Toronto:20251107T110000
DTSTAMP:20260423T042656
CREATED:20250821T175653Z
LAST-MODIFIED:20250821T180051Z
UID:21352-1762506000-1762513200@moebius.cegepmontpetit.ca
SUMMARY:Réservation - RV Optique et lunetteries
DESCRIPTION:Synapse #82131\nRV Applications à déterminer\nQuelques idées :  \neXPerience: Colorblindness \n \nDans la peau d’une personne autiste
URL:https://moebius.cegepmontpetit.ca/evenement/reservation-rv-optique-et-lunetteries/
LOCATION:D2702
CATEGORIES:Atelier - Réalité virtuelle,Imprimante en fonction,Mode exclusif,Réservation - CLAAC,Téléviseur interactif 1x
ATTACH;FMTTYPE=image/jpeg:https://moebius.cegepmontpetit.ca/wp-content/uploads/sites/166/2024/02/Quest_3_1_Choix-scaled.jpg
END:VEVENT
BEGIN:VEVENT
DTSTART;TZID=America/Toronto:20251111T130000
DTEND;TZID=America/Toronto:20251111T160000
DTSTAMP:20260423T042656
CREATED:20250819T172937Z
LAST-MODIFIED:20250818T151620Z
UID:21094-1762866000-1762876800@moebius.cegepmontpetit.ca
SUMMARY:Réservation RV - Soins Infirmiers
DESCRIPTION:Problématique : 410-hypovolémie\nSynapse TSI
URL:https://moebius.cegepmontpetit.ca/evenement/reservation-rv-soins-infirmiers-82/
LOCATION:D2702
CATEGORIES:Atelier - Réalité virtuelle,Imprimante en fonction,Mode exclusif,Réservation - CLAAC,Téléviseur interactif 1x
ATTACH;FMTTYPE=image/jpeg:https://moebius.cegepmontpetit.ca/wp-content/uploads/sites/166/2019/04/P1090458.jpg
END:VEVENT
BEGIN:VEVENT
DTSTART;TZID=America/Toronto:20251112T090000
DTEND;TZID=America/Toronto:20251112T120000
DTSTAMP:20260423T042656
CREATED:20250820T160839Z
LAST-MODIFIED:20250820T160839Z
UID:21186-1762938000-1762948800@moebius.cegepmontpetit.ca
SUMMARY:Réservation - Cours Sociologie
DESCRIPTION:Besoins Autres : Verres de couleur et ordinateurs portables\nSynapse : 81953
URL:https://moebius.cegepmontpetit.ca/evenement/reservation-cours-sociologie-6/
LOCATION:D2702
CATEGORIES:1 portable par étudiant,Besoin de portables,Mode exclusif,Réservation - CLAAC,Téléviseur interactif 1x
ATTACH;FMTTYPE=image/jpeg:https://moebius.cegepmontpetit.ca/wp-content/uploads/sites/166/2019/04/P1090429.jpg
END:VEVENT
BEGIN:VEVENT
DTSTART;TZID=America/Toronto:20251112T120000
DTEND;TZID=America/Toronto:20251112T140000
DTSTAMP:20260423T042656
CREATED:20250822T131528Z
LAST-MODIFIED:20250822T131528Z
UID:21381-1762948800-1762956000@moebius.cegepmontpetit.ca
SUMMARY:Réservation - Présentation de la Polytechnique de Montréal
DESCRIPTION:Synapse #81107\nDisposition : Le Premier-Ministre
URL:https://moebius.cegepmontpetit.ca/evenement/reservation-presentation-de-la-polytechnique-de-montreal/
LOCATION:D2702
CATEGORIES:Classe ananas_Observation,Mode exclusif,Réservation - CLAAC,Téléviseur interactif 1x
ATTACH;FMTTYPE=image/png:https://moebius.cegepmontpetit.ca/wp-content/uploads/sites/166/2024/05/13_Le_Premier-Ministre.png
END:VEVENT
BEGIN:VEVENT
DTSTART;TZID=America/Toronto:20251112T160000
DTEND;TZID=America/Toronto:20251112T180000
DTSTAMP:20260423T042656
CREATED:20250820T194502Z
LAST-MODIFIED:20250826T192634Z
UID:21267-1762963200-1762970400@moebius.cegepmontpetit.ca
SUMMARY:Réservation - Cours THD
DESCRIPTION:Synapse #81981\nDisposition : 6 tables de 4 et 3 tables de 3 personnes.\nLes 2 BenQ (avec la même diffusion) et une table pour mon matériel enseignante.\nÀ tous les cours\, besoin des petits tableaux blancs\, crayons effaçables et effaces.
URL:https://moebius.cegepmontpetit.ca/evenement/reservation-cours-thd-33/
LOCATION:D2702
CATEGORIES:Mode exclusif,Réservation - CLAAC,Téléviseur interactif 2x
ATTACH;FMTTYPE=image/jpeg:https://moebius.cegepmontpetit.ca/wp-content/uploads/sites/166/2019/03/dental-hygiene-600x375.jpg
END:VEVENT
BEGIN:VEVENT
DTSTART;TZID=America/Toronto:20251113T080000
DTEND;TZID=America/Toronto:20251113T100000
DTSTAMP:20260423T042656
CREATED:20250821T144325Z
LAST-MODIFIED:20251110T180742Z
UID:21331-1763020800-1763028000@moebius.cegepmontpetit.ca
SUMMARY:Réservation - Cours THD
DESCRIPTION:Synapse #81954\nDisposition : 4×6
URL:https://moebius.cegepmontpetit.ca/evenement/reservation-cours-thd-39/
LOCATION:D2702
CATEGORIES:Mode exclusif,Réservation - CLAAC,Téléviseur interactif 1x
ATTACH;FMTTYPE=image/png:https://moebius.cegepmontpetit.ca/wp-content/uploads/sites/166/2024/05/20_Le_4x6__4.png
END:VEVENT
BEGIN:VEVENT
DTSTART;TZID=America/Toronto:20251113T130000
DTEND;TZID=America/Toronto:20251113T160000
DTSTAMP:20260423T042656
CREATED:20250819T173043Z
LAST-MODIFIED:20250818T151928Z
UID:21096-1763038800-1763049600@moebius.cegepmontpetit.ca
SUMMARY:Réservation RV - Soins Infirmiers
DESCRIPTION:Problématique : 410-hypovolémie\nSynapse TSI
URL:https://moebius.cegepmontpetit.ca/evenement/reservation-rv-soins-infirmiers-83/
LOCATION:D2702
CATEGORIES:Atelier - Réalité virtuelle,Imprimante en fonction,Mode exclusif,Réservation - CLAAC,Téléviseur interactif 1x
ATTACH;FMTTYPE=image/jpeg:https://moebius.cegepmontpetit.ca/wp-content/uploads/sites/166/2019/04/P1090458.jpg
END:VEVENT
BEGIN:VEVENT
DTSTART;TZID=America/Toronto:20251114T120000
DTEND;TZID=America/Toronto:20251114T150000
DTSTAMP:20260423T042656
CREATED:20250820T161030Z
LAST-MODIFIED:20250820T161030Z
UID:21188-1763121600-1763132400@moebius.cegepmontpetit.ca
SUMMARY:Réservation - Cours Sociologie
DESCRIPTION:Besoins Autres : Verres de couleur et ordinateurs portables\nSynapse : 81953
URL:https://moebius.cegepmontpetit.ca/evenement/reservation-cours-sociologie-7/
LOCATION:D2702
CATEGORIES:1 portable par étudiant,Mode exclusif,Réservation - CLAAC,Téléviseur interactif 1x
ATTACH;FMTTYPE=image/jpeg:https://moebius.cegepmontpetit.ca/wp-content/uploads/sites/166/2019/04/P1090429.jpg
END:VEVENT
BEGIN:VEVENT
DTSTART;TZID=America/Toronto:20251117T120000
DTEND;TZID=America/Toronto:20251117T150000
DTSTAMP:20260423T042656
CREATED:20250820T161216Z
LAST-MODIFIED:20250820T161216Z
UID:21190-1763380800-1763391600@moebius.cegepmontpetit.ca
SUMMARY:Réservation - Cours Sociologie
DESCRIPTION:Besoins Autres : Verres de couleur et ordinateurs portables\nSynapse : 81953
URL:https://moebius.cegepmontpetit.ca/evenement/reservation-cours-sociologie-8/
LOCATION:D2702
CATEGORIES:1 portable par étudiant,Besoin de portables,Mode exclusif,Réservation - CLAAC,Téléviseur interactif 1x
ATTACH;FMTTYPE=image/jpeg:https://moebius.cegepmontpetit.ca/wp-content/uploads/sites/166/2019/04/P1090429.jpg
END:VEVENT
BEGIN:VEVENT
DTSTART;TZID=America/Toronto:20251118T080000
DTEND;TZID=America/Toronto:20251118T110000
DTSTAMP:20260423T042656
CREATED:20250819T173145Z
LAST-MODIFIED:20250825T143824Z
UID:21098-1763452800-1763463600@moebius.cegepmontpetit.ca
SUMMARY:Réservation RV - Radiodiagnostic
DESCRIPTION:Besoin des 6 postes : 3 postes mobiles (Simulation Angio) / Stations fixes : POC\n** Simulation assise : Prévoir des chaises.\nProblématique : POC et Angioplastie des membres inférieurs\nInstaller ordinateurs pour Sondage.
URL:https://moebius.cegepmontpetit.ca/evenement/reservation-rv-radiodiagnostic/
LOCATION:D2702
CATEGORIES:Atelier - Réalité virtuelle,Imprimante en fonction,Mode exclusif,Réservation - CLAAC,Téléviseur interactif 1x
ATTACH;FMTTYPE=image/jpeg:https://moebius.cegepmontpetit.ca/wp-content/uploads/sites/166/2024/02/Quest_3_1_Choix-scaled.jpg
END:VEVENT
BEGIN:VEVENT
DTSTART;TZID=America/Toronto:20251118T120000
DTEND;TZID=America/Toronto:20251118T150000
DTSTAMP:20260423T042656
CREATED:20250819T173303Z
LAST-MODIFIED:20250825T143754Z
UID:21103-1763467200-1763478000@moebius.cegepmontpetit.ca
SUMMARY:Réservation RV - Radiodiagnostic
DESCRIPTION:Besoin des 6 postes : 3 postes mobiles (Simulation Angio) / Stations fixes : POC\n** Simulation assise : Prévoir des chaises.\nProblématique : POC et Angioplastie des membres inférieurs\nInstaller ordinateurs pour Sondage.
URL:https://moebius.cegepmontpetit.ca/evenement/reservation-rv-radiodiagnostic-4/
LOCATION:D2702
CATEGORIES:Atelier - Réalité virtuelle,Imprimante en fonction,Mode exclusif,Réservation - CLAAC,Téléviseur interactif 1x
ATTACH;FMTTYPE=image/jpeg:https://moebius.cegepmontpetit.ca/wp-content/uploads/sites/166/2024/02/Quest_3_1_Choix-scaled.jpg
END:VEVENT
BEGIN:VEVENT
DTSTART;TZID=America/Toronto:20251119T120000
DTEND;TZID=America/Toronto:20251119T150000
DTSTAMP:20260423T042656
CREATED:20250819T173403Z
LAST-MODIFIED:20251119T135206Z
UID:21106-1763553600-1763564400@moebius.cegepmontpetit.ca
SUMMARY:Réservation RV - Radiodiagnostic
DESCRIPTION:Besoin des 6 postes : 3 postes mobiles\nProblématique : POC et Angioplastie des membres inférieurs
URL:https://moebius.cegepmontpetit.ca/evenement/reservation-rv-radiodiagnostic-5/
LOCATION:D2702
CATEGORIES:Atelier - Réalité virtuelle,Imprimante en fonction,Mode exclusif,Réservation - CLAAC,Téléviseur interactif 1x
ATTACH;FMTTYPE=image/jpeg:https://moebius.cegepmontpetit.ca/wp-content/uploads/sites/166/2024/02/Quest_3_1_Choix-scaled.jpg
END:VEVENT
BEGIN:VEVENT
DTSTART;TZID=America/Toronto:20251120T080000
DTEND;TZID=America/Toronto:20251120T100000
DTSTAMP:20260423T042656
CREATED:20250821T144447Z
LAST-MODIFIED:20250821T144447Z
UID:21333-1763625600-1763632800@moebius.cegepmontpetit.ca
SUMMARY:Réservation - Cours THD
DESCRIPTION:Synapse #81954\nDisposition : À venir
URL:https://moebius.cegepmontpetit.ca/evenement/reservation-cours-thd-40/
LOCATION:D2702
CATEGORIES:Mode exclusif,Réservation - CLAAC,Téléviseur interactif 1x
ATTACH;FMTTYPE=image/jpeg:https://moebius.cegepmontpetit.ca/wp-content/uploads/sites/166/2019/03/dental-hygiene-600x375.jpg
END:VEVENT
BEGIN:VEVENT
DTSTART;TZID=America/Toronto:20251124T100000
DTEND;TZID=America/Toronto:20251124T120000
DTSTAMP:20260423T042656
CREATED:20250819T191524Z
LAST-MODIFIED:20250819T191524Z
UID:21162-1763978400-1763985600@moebius.cegepmontpetit.ca
SUMMARY:Réservation - Communauté de pratique et de recherche enseignants
DESCRIPTION:L’aménagement du local sera majoritairement d’asseoir tout le monde en rond\, sans table\, pour favoriser la discussion.
URL:https://moebius.cegepmontpetit.ca/evenement/reservation-communaute-de-pratique-et-de-recherche-enseignants-12/
LOCATION:D2702
CATEGORIES:Mode exclusif,Réservation - CLAAC,Téléviseur interactif 1x
ATTACH;FMTTYPE=image/jpeg:https://moebius.cegepmontpetit.ca/wp-content/uploads/sites/166/2025/08/Rencontre_Coin_Discussion_-9-scaled.jpg
END:VEVENT
BEGIN:VEVENT
DTSTART;TZID=America/Toronto:20251125T080000
DTEND;TZID=America/Toronto:20251125T110000
DTSTAMP:20260423T042656
CREATED:20250819T173545Z
LAST-MODIFIED:20250825T144458Z
UID:21108-1764057600-1764068400@moebius.cegepmontpetit.ca
SUMMARY:Réservation RV - Radiodiagnostic
DESCRIPTION:Besoin des 6 postes : 3 postes mobiles (Simulation Angio) / Stations fixes : POC\n** Simulation assise : Prévoir des chaises.\nProblématique : POC et Angioplastie des membres inférieurs\nInstaller ordinateurs pour Sondage.
URL:https://moebius.cegepmontpetit.ca/evenement/reservation-rv-radiodiagnostic-6/
LOCATION:D2702
CATEGORIES:Atelier - Réalité virtuelle,Imprimante en fonction,Mode exclusif,Réservation - CLAAC,Téléviseur interactif 1x
ATTACH;FMTTYPE=image/jpeg:https://moebius.cegepmontpetit.ca/wp-content/uploads/sites/166/2024/02/Quest_3_1_Choix-scaled.jpg
END:VEVENT
BEGIN:VEVENT
DTSTART;TZID=America/Toronto:20251125T120000
DTEND;TZID=America/Toronto:20251125T150000
DTSTAMP:20260423T042656
CREATED:20250819T173608Z
LAST-MODIFIED:20250825T144521Z
UID:21110-1764072000-1764082800@moebius.cegepmontpetit.ca
SUMMARY:Réservation RV - Radiodiagnostic
DESCRIPTION:Besoin des 6 postes : 3 postes mobiles (Simulation Angio) / Stations fixes : POC\n** Simulation assise : Prévoir des chaises.\nProblématique : POC et Angioplastie des membres inférieurs\nInstaller ordinateurs pour Sondage.
URL:https://moebius.cegepmontpetit.ca/evenement/reservation-rv-radiodiagnostic-7/
LOCATION:D2702
CATEGORIES:Atelier - impression 3D,Imprimante en fonction,Mode exclusif,Réservation - CLAAC,Téléviseur interactif 1x
ATTACH;FMTTYPE=image/jpeg:https://moebius.cegepmontpetit.ca/wp-content/uploads/sites/166/2024/02/Quest_3_1_Choix-scaled.jpg
END:VEVENT
BEGIN:VEVENT
DTSTART;TZID=America/Toronto:20251126T080000
DTEND;TZID=America/Toronto:20251126T100000
DTSTAMP:20260423T042656
CREATED:20251119T155144Z
LAST-MODIFIED:20251119T155144Z
UID:22094-1764144000-1764151200@moebius.cegepmontpetit.ca
SUMMARY:Réservation RV – Soins Infirmiers
DESCRIPTION:Problématique : Problématique : 516-Vaccination\nSynapse #81974
URL:https://moebius.cegepmontpetit.ca/evenement/reservation-rv-soins-infirmiers-79/
LOCATION:D2702
CATEGORIES:Atelier - Réalité virtuelle,Imprimante en fonction,Mode exclusif,Réservation de l'Espace Moebius
ATTACH;FMTTYPE=image/jpeg:https://moebius.cegepmontpetit.ca/wp-content/uploads/sites/166/2024/02/Quest_3_1_Choix-scaled.jpg
END:VEVENT
BEGIN:VEVENT
DTSTART;TZID=America/Toronto:20251126T140000
DTEND;TZID=America/Toronto:20251126T170000
DTSTAMP:20260423T042656
CREATED:20250819T173704Z
LAST-MODIFIED:20250825T143853Z
UID:21114-1764165600-1764176400@moebius.cegepmontpetit.ca
SUMMARY:Réservation RV - Radiodiagnostic
DESCRIPTION:Besoin des 6 postes : 3 postes mobiles (Simulation Angio) / Stations fixes : POC\n** Simulation assise : Prévoir des chaises.\nProblématique : POC et Angioplastie des membres inférieurs\nInstaller ordinateurs pour Sondage.
URL:https://moebius.cegepmontpetit.ca/evenement/reservation-rv-radiodiagnostic-8/
LOCATION:D2702
CATEGORIES:Atelier - Réalité virtuelle,Imprimante en fonction,Mode exclusif,Réservation - CLAAC,Téléviseur interactif 1x
ATTACH;FMTTYPE=image/jpeg:https://moebius.cegepmontpetit.ca/wp-content/uploads/sites/166/2024/02/Quest_3_1_Choix-scaled.jpg
END:VEVENT
BEGIN:VEVENT
DTSTART;TZID=America/Toronto:20251127T080000
DTEND;TZID=America/Toronto:20251127T110000
DTSTAMP:20260423T042656
CREATED:20250826T123638Z
LAST-MODIFIED:20250826T123638Z
UID:21429-1764230400-1764241200@moebius.cegepmontpetit.ca
SUMMARY:Réservation - Cours administration
DESCRIPTION:Synapse #82348
URL:https://moebius.cegepmontpetit.ca/evenement/reservation-cours-administration-13/
LOCATION:D2702
CATEGORIES:Imprimante en fonction,Mode exclusif,Réservation - CLAAC,Téléviseur interactif 1x
ATTACH;FMTTYPE=image/jpeg:https://moebius.cegepmontpetit.ca/wp-content/uploads/sites/166/2025/08/Gestion-internationale_1.jpg
END:VEVENT
BEGIN:VEVENT
DTSTART;TZID=America/Toronto:20251128T074500
DTEND;TZID=America/Toronto:20251128T140000
DTSTAMP:20260423T042656
CREATED:20250821T182405Z
LAST-MODIFIED:20250821T182405Z
UID:21364-1764315900-1764338400@moebius.cegepmontpetit.ca
SUMMARY:Réservation - Cours Administration
DESCRIPTION:Synapse #82134\nDisposition et détails à venir.\nBesoin de :\n– Téléviseur interactif : 2\n– Projecteur interactif : 2
URL:https://moebius.cegepmontpetit.ca/evenement/reservation-cours-administration-10/
LOCATION:D2702
CATEGORIES:Classe ananas_Observation,Mode exclusif,Réservation - CLAAC,Téléviseur interactif 2x
ATTACH;FMTTYPE=image/jpeg:https://moebius.cegepmontpetit.ca/wp-content/uploads/sites/166/2019/05/administration.jpg
END:VEVENT
END:VCALENDAR