BEGIN:VCALENDAR
VERSION:2.0
PRODID:-//Espace Moebius - ECPv6.0.12//NONSGML v1.0//EN
CALSCALE:GREGORIAN
METHOD:PUBLISH
X-ORIGINAL-URL:https://moebius.cegepmontpetit.ca
X-WR-CALDESC:évènements pour Espace Moebius
REFRESH-INTERVAL;VALUE=DURATION:PT1H
X-Robots-Tag:noindex
X-PUBLISHED-TTL:PT1H
BEGIN:VTIMEZONE
TZID:America/Toronto
BEGIN:DAYLIGHT
TZOFFSETFROM:-0500
TZOFFSETTO:-0400
TZNAME:EDT
DTSTART:20250309T070000
END:DAYLIGHT
BEGIN:STANDARD
TZOFFSETFROM:-0400
TZOFFSETTO:-0500
TZNAME:EST
DTSTART:20251102T060000
END:STANDARD
END:VTIMEZONE
BEGIN:VEVENT
DTSTART;TZID=America/Toronto:20250401T103000
DTEND;TZID=America/Toronto:20250401T120000
DTSTAMP:20260423T185354
CREATED:20250120T143339Z
LAST-MODIFIED:20250227T154836Z
UID:20235-1743503400-1743508800@moebius.cegepmontpetit.ca
SUMMARY:Réservation – RV Cours Anglais
DESCRIPTION:#75635 \nActivité Home BBC \n6 station
URL:https://moebius.cegepmontpetit.ca/evenement/reservation-cours-anglais-7/
LOCATION:D2702
CATEGORIES:Besoin de portables,Imprimante en fonction,Mode exclusif,Réservation - CLAAC,Téléviseur interactif 1x
ATTACH;FMTTYPE=image/jpeg:https://moebius.cegepmontpetit.ca/wp-content/uploads/sites/166/2019/03/bbc-home.jpg
END:VEVENT
BEGIN:VEVENT
DTSTART;TZID=America/Toronto:20250401T130000
DTEND;TZID=America/Toronto:20250401T170000
DTSTAMP:20260423T185354
CREATED:20250116T131419Z
LAST-MODIFIED:20250116T131419Z
UID:20106-1743512400-1743526800@moebius.cegepmontpetit.ca
SUMMARY:Réservation – RV Soins Infirmiers
DESCRIPTION:Sim: 180-309 \n3 station
URL:https://moebius.cegepmontpetit.ca/evenement/reservation-rv-soins-infirmiers-47/
LOCATION:D2702
CATEGORIES:Atelier - Réalité virtuelle,Imprimante en fonction,Mode exclusif
ATTACH;FMTTYPE=image/jpeg:https://moebius.cegepmontpetit.ca/wp-content/uploads/sites/166/2019/04/P1090458.jpg
END:VEVENT
BEGIN:VEVENT
DTSTART;TZID=America/Toronto:20250402T100000
DTEND;TZID=America/Toronto:20250402T120000
DTSTAMP:20260423T185354
CREATED:20250210T163211Z
LAST-MODIFIED:20250210T163239Z
UID:20380-1743588000-1743595200@moebius.cegepmontpetit.ca
SUMMARY:Réservation - Cours Français
DESCRIPTION:#76794 \nDisposition: L’ONU
URL:https://moebius.cegepmontpetit.ca/evenement/reservation-cours-francais-7/
LOCATION:D2702
CATEGORIES:Mode exclusif,Réservation - CLAAC,Téléviseur interactif 1x
ATTACH;FMTTYPE=image/png:https://moebius.cegepmontpetit.ca/wp-content/uploads/sites/166/2024/05/08_LONU.png
END:VEVENT
BEGIN:VEVENT
DTSTART;TZID=America/Toronto:20250402T130000
DTEND;TZID=America/Toronto:20250402T170000
DTSTAMP:20260423T185354
CREATED:20250116T131724Z
LAST-MODIFIED:20250116T131724Z
UID:20108-1743598800-1743613200@moebius.cegepmontpetit.ca
SUMMARY:Réservation – RV Soins Infirmiers
DESCRIPTION:Sim: 180-309 \n3 station
URL:https://moebius.cegepmontpetit.ca/evenement/reservation-rv-soins-infirmiers-48/
LOCATION:D2702
CATEGORIES:Atelier - Réalité virtuelle,Imprimante en fonction,Mode exclusif
ATTACH;FMTTYPE=image/jpeg:https://moebius.cegepmontpetit.ca/wp-content/uploads/sites/166/2019/04/P1090458.jpg
END:VEVENT
BEGIN:VEVENT
DTSTART;TZID=America/Toronto:20250403T080000
DTEND;TZID=America/Toronto:20250403T120000
DTSTAMP:20260423T185354
CREATED:20250116T155214Z
LAST-MODIFIED:20250401T190313Z
UID:20125-1743667200-1743681600@moebius.cegepmontpetit.ca
SUMMARY:Réservation – RV Soins Infirmiers
DESCRIPTION:Sim: 180 60 A RV Psychose et Dépression \n6 station
URL:https://moebius.cegepmontpetit.ca/evenement/reservation-rv-soins-infirmiers-56/
LOCATION:D2702
CATEGORIES:Atelier - Réalité virtuelle,Imprimante en fonction,Mode exclusif
ATTACH;FMTTYPE=image/jpeg:https://moebius.cegepmontpetit.ca/wp-content/uploads/sites/166/2019/04/P1090458.jpg
END:VEVENT
BEGIN:VEVENT
DTSTART;TZID=America/Toronto:20250403T150000
DTEND;TZID=America/Toronto:20250403T180000
DTSTAMP:20260423T185354
CREATED:20250120T155927Z
LAST-MODIFIED:20250120T155927Z
UID:20253-1743692400-1743703200@moebius.cegepmontpetit.ca
SUMMARY:Réservation – Cours Techniques dentaires (Denturologie)
DESCRIPTION:#75663 \n– Aimants : Oui \nPortable: 30
URL:https://moebius.cegepmontpetit.ca/evenement/reservation-cours-techniques-dentaires-denturologie-5/
LOCATION:D2702
CATEGORIES:Besoin de portables,Imprimante en fonction,Mode exclusif,Réservation - CLAAC,Téléviseur interactif 1x
ATTACH;FMTTYPE=image/jpeg:https://moebius.cegepmontpetit.ca/wp-content/uploads/sites/166/2019/10/panoramaEspaceMedialab.jpg
END:VEVENT
BEGIN:VEVENT
DTSTART;TZID=America/Toronto:20250404T120000
DTEND;TZID=America/Toronto:20250404T150000
DTSTAMP:20260423T185354
CREATED:20250117T184938Z
LAST-MODIFIED:20250117T184938Z
UID:20166-1743768000-1743778800@moebius.cegepmontpetit.ca
SUMMARY:Réservation - Cours Techniques administratives
DESCRIPTION:#75614 \nDisposition: table ronde de 40 étudiants
URL:https://moebius.cegepmontpetit.ca/evenement/reservation-cours-techniques-administratives/
LOCATION:D2702
CATEGORIES:Mode exclusif,Réservation - CLAAC,Téléviseur interactif 1x
ATTACH;FMTTYPE=image/jpeg:https://moebius.cegepmontpetit.ca/wp-content/uploads/sites/166/2019/10/panoramaEspaceMedialab.jpg
END:VEVENT
END:VCALENDAR