BEGIN:VCALENDAR
VERSION:2.0
PRODID:-//Espace Moebius - ECPv6.0.12//NONSGML v1.0//EN
CALSCALE:GREGORIAN
METHOD:PUBLISH
X-ORIGINAL-URL:https://moebius.cegepmontpetit.ca
X-WR-CALDESC:évènements pour Espace Moebius
REFRESH-INTERVAL;VALUE=DURATION:PT1H
X-Robots-Tag:noindex
X-PUBLISHED-TTL:PT1H
BEGIN:VTIMEZONE
TZID:America/Toronto
BEGIN:DAYLIGHT
TZOFFSETFROM:-0500
TZOFFSETTO:-0400
TZNAME:EDT
DTSTART:20250309T070000
END:DAYLIGHT
BEGIN:STANDARD
TZOFFSETFROM:-0400
TZOFFSETTO:-0500
TZNAME:EST
DTSTART:20251102T060000
END:STANDARD
END:VTIMEZONE
BEGIN:VEVENT
DTSTART;TZID=America/Toronto:20250519T120000
DTEND;TZID=America/Toronto:20250519T130000
DTSTAMP:20260423T160645
CREATED:20250414T184213Z
LAST-MODIFIED:20250425T174612Z
UID:20547-1747656000-1747659600@moebius.cegepmontpetit.ca
SUMMARY:Réservation - Test RV Soins Infirmiers
DESCRIPTION:#78862 \n516-Vaccination (sim 13) \n3 station Rift
URL:https://moebius.cegepmontpetit.ca/evenement/reservation-test-rv-soins-infirmiers/
LOCATION:D2702
CATEGORIES:Atelier - Réalité virtuelle,Mode exclusif,Réservation - CLAAC,Téléviseur interactif 1x
ATTACH;FMTTYPE=image/jpeg:https://moebius.cegepmontpetit.ca/wp-content/uploads/sites/166/2019/04/P1090458.jpg
END:VEVENT
BEGIN:VEVENT
DTSTART;TZID=America/Toronto:20250521T090000
DTEND;TZID=America/Toronto:20250521T120000
DTSTAMP:20260423T160645
CREATED:20250120T135549Z
LAST-MODIFIED:20250516T153604Z
UID:20223-1747818000-1747828800@moebius.cegepmontpetit.ca
SUMMARY:Réservation – Cours Psychologie
DESCRIPTION:#79704 \nDisposition du local :\no Table devant écran dans le coin discussion\no 5 étudiants qui présentent leur site web.\no Ensemble Bi-modale pour filmer.\no IPAD en backup
URL:https://moebius.cegepmontpetit.ca/evenement/reservation-cours-psychologie-19/
LOCATION:D2702
CATEGORIES:Mode exclusif,Réservation - CLAAC,Téléviseur interactif 1x
ATTACH;FMTTYPE=image/png:https://moebius.cegepmontpetit.ca/wp-content/uploads/sites/166/2025/05/Psycho_Grande_equipe_Disposition_dans_Coin_Discussion.png
END:VEVENT
BEGIN:VEVENT
DTSTART;TZID=America/Toronto:20250522T080000
DTEND;TZID=America/Toronto:20250522T120000
DTSTAMP:20260423T160645
CREATED:20250120T133539Z
LAST-MODIFIED:20250508T121809Z
UID:20215-1747900800-1747915200@moebius.cegepmontpetit.ca
SUMMARY:Réservation – Cours Psychologie
DESCRIPTION:#75625 \nBesoin dans le coin discussion :\nTrousse-bimodale pour enregistrement + 1 ipad (Enregistrement back-up)\nTV BenQ pour chrono : Le placer à la place d’un tableau blanc.\nInstallation type ‘clinique’
URL:https://moebius.cegepmontpetit.ca/evenement/reservation-cours-psychologie-16/
LOCATION:D2702
CATEGORIES:Imprimante en fonction,Mode exclusif
ATTACH;FMTTYPE=image/jpeg:https://moebius.cegepmontpetit.ca/wp-content/uploads/sites/166/2025/01/Installation_Cours_Psychologie_Enregistrements_Finaux-scaled.jpg
END:VEVENT
BEGIN:VEVENT
DTSTART;TZID=America/Toronto:20250522T130000
DTEND;TZID=America/Toronto:20250522T160000
DTSTAMP:20260423T160645
CREATED:20250120T131713Z
LAST-MODIFIED:20250509T154114Z
UID:20204-1747918800-1747929600@moebius.cegepmontpetit.ca
SUMMARY:Réservation – Cours Psychologie
DESCRIPTION:#75616 \nCoin discussion psychologie : \nTrousse-bimodale pour enregistrement\nIPAD pour enregistrement backup.\nTV BenQ pour chrono : Le placer à la place d’un tableau blanc.\nInstallation type ‘clinique’ : Acceuil + deux chaises
URL:https://moebius.cegepmontpetit.ca/evenement/reservation-cours-psychologie-12/
LOCATION:D2702
CATEGORIES:Mode exclusif,Réservation - CLAAC,Téléviseur interactif 1x
ATTACH;FMTTYPE=image/jpeg:https://moebius.cegepmontpetit.ca/wp-content/uploads/sites/166/2025/01/Installation_Cours_Psychologie_Enregistrements_Finaux-scaled.jpg
END:VEVENT
BEGIN:VEVENT
DTSTART;TZID=America/Toronto:20250523T120000
DTEND;TZID=America/Toronto:20250523T140000
DTSTAMP:20260423T160645
CREATED:20250522T152247Z
LAST-MODIFIED:20250522T154219Z
UID:20895-1748001600-1748008800@moebius.cegepmontpetit.ca
SUMMARY:Réservation rencontre direction des études
DESCRIPTION:
URL:https://moebius.cegepmontpetit.ca/evenement/reservation-rencontre-direction-2/
LOCATION:D2702
CATEGORIES:Mode exclusif,Réservation de l'Espace Moebius
ATTACH;FMTTYPE=image/jpeg:https://moebius.cegepmontpetit.ca/wp-content/uploads/sites/166/2019/08/rencontre.jpg
END:VEVENT
END:VCALENDAR