BEGIN:VCALENDAR
VERSION:2.0
PRODID:-//Espace Moebius - ECPv6.0.12//NONSGML v1.0//EN
CALSCALE:GREGORIAN
METHOD:PUBLISH
X-ORIGINAL-URL:https://moebius.cegepmontpetit.ca
X-WR-CALDESC:évènements pour Espace Moebius
REFRESH-INTERVAL;VALUE=DURATION:PT1H
X-Robots-Tag:noindex
X-PUBLISHED-TTL:PT1H
BEGIN:VTIMEZONE
TZID:America/Toronto
BEGIN:DAYLIGHT
TZOFFSETFROM:-0500
TZOFFSETTO:-0400
TZNAME:EDT
DTSTART:20240310T070000
END:DAYLIGHT
BEGIN:STANDARD
TZOFFSETFROM:-0400
TZOFFSETTO:-0500
TZNAME:EST
DTSTART:20241103T060000
END:STANDARD
END:VTIMEZONE
BEGIN:VEVENT
DTSTART;TZID=America/Toronto:20240501T130000
DTEND;TZID=America/Toronto:20240501T160000
DTSTAMP:20260424T181759
CREATED:20240115T192116Z
LAST-MODIFIED:20240319T193148Z
UID:17142-1714568400-1714579200@moebius.cegepmontpetit.ca
SUMMARY:Réservation Espace Moebius - RV Soins infirmiers
DESCRIPTION:Simulation 21B \nDemande #61931
URL:https://moebius.cegepmontpetit.ca/evenement/reservation-espace-moebius-rv-soins-infirmiers-3/
LOCATION:D2702
CATEGORIES:Atelier - Réalité virtuelle,Imprimante en fonction,Mode exclusif,Réservation - CLAAC,Téléviseur interactif 1x
ATTACH;FMTTYPE=image/jpeg:https://moebius.cegepmontpetit.ca/wp-content/uploads/sites/166/2019/04/P1090458.jpg
END:VEVENT
BEGIN:VEVENT
DTSTART;TZID=America/Toronto:20240502T090000
DTEND;TZID=America/Toronto:20240502T160000
DTSTAMP:20260424T181759
CREATED:20240115T192430Z
LAST-MODIFIED:20240319T193227Z
UID:17144-1714640400-1714665600@moebius.cegepmontpetit.ca
SUMMARY:Réservation Espace Moebius - RV Soins infirmiers
DESCRIPTION:Simulation 21B \n2 séances : 9h00 à 12h00 et 13h00 à 16h00 \nDemande #61931 \n** Malgré qu’ils ne sont normalement pas utiliser dans le cadre de ce cours\, à noter\, 3 divans et 3 tables blanches de l’espace discussion seront sorties pour un événement au C30.**
URL:https://moebius.cegepmontpetit.ca/evenement/reservation-espace-moebius-rv-soins-infirmiers-12/
LOCATION:D2702
CATEGORIES:Atelier - Réalité virtuelle,Imprimante en fonction,Réservation - CLAAC,Téléviseur interactif 1x
ATTACH;FMTTYPE=image/jpeg:https://moebius.cegepmontpetit.ca/wp-content/uploads/sites/166/2019/04/P1090458.jpg
END:VEVENT
BEGIN:VEVENT
DTSTART;TZID=America/Toronto:20240503T090000
DTEND;TZID=America/Toronto:20240503T110000
DTSTAMP:20260424T181759
CREATED:20240116T135846Z
LAST-MODIFIED:20240319T193300Z
UID:17204-1714726800-1714734000@moebius.cegepmontpetit.ca
SUMMARY:Réservation Espace Moebius - Cours THD
DESCRIPTION:Disposition du local : En groupe de 4 \nMatériel : \n– Boutons sonores : Oui\n– Verres de couleur : Oui \nDemande #61918
URL:https://moebius.cegepmontpetit.ca/evenement/reservation-espace-moebius-cours-thd-25/
LOCATION:D2702
CATEGORIES:Imprimante en fonction,Mode exclusif,Réservation - CLAAC,Téléviseur interactif 1x
ATTACH;FMTTYPE=image/jpeg:https://moebius.cegepmontpetit.ca/wp-content/uploads/sites/166/2019/03/dental-hygiene-600x375.jpg
END:VEVENT
BEGIN:VEVENT
DTSTART;TZID=America/Toronto:20240503T120000
DTEND;TZID=America/Toronto:20240503T160000
DTSTAMP:20260424T181759
CREATED:20240118T170010Z
LAST-MODIFIED:20240319T193424Z
UID:17316-1714737600-1714752000@moebius.cegepmontpetit.ca
SUMMARY:Réservation Espace Moebius - RV Soins infirmiers
DESCRIPTION:Simulation 309 \nDemande #61931
URL:https://moebius.cegepmontpetit.ca/evenement/reservation-espace-moebius-rv-soins-infirmiers-45/
LOCATION:D2702
CATEGORIES:Atelier - Réalité virtuelle,Besoin de portables,Imprimante en fonction,Mode exclusif,Réservation - CLAAC,Téléviseur interactif 1x
ATTACH;FMTTYPE=image/jpeg:https://moebius.cegepmontpetit.ca/wp-content/uploads/sites/166/2019/04/P1090458.jpg
END:VEVENT
BEGIN:VEVENT
DTSTART;TZID=America/Toronto:20240506T120000
DTEND;TZID=America/Toronto:20240506T150000
DTSTAMP:20260424T181759
CREATED:20240122T134732Z
LAST-MODIFIED:20240319T193513Z
UID:17330-1714996800-1715007600@moebius.cegepmontpetit.ca
SUMMARY:Réservation Espace Moebius - Cours Économie
DESCRIPTION:Demande #62206
URL:https://moebius.cegepmontpetit.ca/evenement/reservation-espace-moebius-cours-economie-12/
LOCATION:D2702
CATEGORIES:1 portable par étudiant,Besoin de portables,Classe ananas_Observation,Imprimante en fonction,Mode exclusif,Réservation - CLAAC,Téléviseur interactif 1x
ATTACH;FMTTYPE=image/png:https://moebius.cegepmontpetit.ca/wp-content/uploads/sites/166/2022/12/claac.png
END:VEVENT
BEGIN:VEVENT
DTSTART;TZID=America/Toronto:20240507T090000
DTEND;TZID=America/Toronto:20240507T120000
DTSTAMP:20260424T181759
CREATED:20240116T144804Z
LAST-MODIFIED:20240319T193540Z
UID:17219-1715072400-1715083200@moebius.cegepmontpetit.ca
SUMMARY:Réservation Espace Moebius - RV Soins infirmiers
DESCRIPTION:Simulation 510 (Problématiques à choisir) \nDemande #61931
URL:https://moebius.cegepmontpetit.ca/evenement/reservation-espace-moebius-rv-soins-infirmiers-35/
LOCATION:D2702
CATEGORIES:Atelier - Réalité virtuelle,Imprimante en fonction,Mode exclusif,Réservation - CLAAC,Téléviseur interactif 1x
ATTACH;FMTTYPE=image/jpeg:https://moebius.cegepmontpetit.ca/wp-content/uploads/sites/166/2019/04/OculusRift.jpg
END:VEVENT
BEGIN:VEVENT
DTSTART;TZID=America/Toronto:20240509T100000
DTEND;TZID=America/Toronto:20240509T120000
DTSTAMP:20260424T181759
CREATED:20240116T165244Z
LAST-MODIFIED:20240319T193624Z
UID:17261-1715248800-1715256000@moebius.cegepmontpetit.ca
SUMMARY:Réservation Espace Moebius - Cours Psychologie
DESCRIPTION:Demande #61928
URL:https://moebius.cegepmontpetit.ca/evenement/reservation-espace-moebius-cours-psychologie-12/
LOCATION:D2702
CATEGORIES:Imprimante en fonction,Mode exclusif,Réservation - CLAAC,Téléviseur interactif 1x
ATTACH;FMTTYPE=image/jpeg:https://moebius.cegepmontpetit.ca/wp-content/uploads/sites/166/2019/03/P1090450.jpg
END:VEVENT
BEGIN:VEVENT
DTSTART;TZID=America/Toronto:20240510T080000
DTEND;TZID=America/Toronto:20240510T160000
DTSTAMP:20260424T181759
CREATED:20240118T170143Z
LAST-MODIFIED:20240319T193600Z
UID:17318-1715328000-1715356800@moebius.cegepmontpetit.ca
SUMMARY:Réservation Espace Moebius - RV Soins infirmiers
DESCRIPTION:Simulation 309 \nDemande #61931
URL:https://moebius.cegepmontpetit.ca/evenement/reservation-espace-moebius-rv-soins-infirmiers-46/
LOCATION:D2702
CATEGORIES:Atelier - Réalité virtuelle,Besoin de portables,Imprimante en fonction,Mode exclusif,Réservation - CLAAC,Téléviseur interactif 1x
ATTACH;FMTTYPE=image/jpeg:https://moebius.cegepmontpetit.ca/wp-content/uploads/sites/166/2019/04/P1090458.jpg
END:VEVENT
BEGIN:VEVENT
DTSTART;TZID=America/Toronto:20240513T081000
DTEND;TZID=America/Toronto:20240513T120000
DTSTAMP:20260424T181759
CREATED:20240116T185627Z
LAST-MODIFIED:20240429T154908Z
UID:17272-1715587800-1715601600@moebius.cegepmontpetit.ca
SUMMARY:Réservation Espace Moebius - Cours Administration
DESCRIPTION:Demande #61958 \nDisposition : Le Duel (Table trapèzes seulement\, les chaises libres ne seront pas nécessaires).
URL:https://moebius.cegepmontpetit.ca/evenement/reservation-espace-moebius-cours-administration-38/
LOCATION:D2702
CATEGORIES:1 portable par étudiant,Besoin de portables,Imprimante en fonction,Mode exclusif,Réservation - CLAAC,Téléviseur interactif 1x
ATTACH;FMTTYPE=image/jpeg:https://moebius.cegepmontpetit.ca/wp-content/uploads/sites/166/2019/05/administration.jpg
END:VEVENT
BEGIN:VEVENT
DTSTART;TZID=America/Toronto:20240513T120000
DTEND;TZID=America/Toronto:20240513T150000
DTSTAMP:20260424T181759
CREATED:20240122T134917Z
LAST-MODIFIED:20240513T143129Z
UID:17333-1715601600-1715612400@moebius.cegepmontpetit.ca
SUMMARY:Réservation Espace Moebius - Cours Économie
DESCRIPTION:Demande #62206
URL:https://moebius.cegepmontpetit.ca/evenement/reservation-espace-moebius-cours-economie-13/
LOCATION:D2702
CATEGORIES:1 portable par étudiant,Besoin de portables,Classe ananas_Observation,Imprimante en fonction,Mode exclusif,Réservation - CLAAC,Téléviseur interactif 1x
END:VEVENT
BEGIN:VEVENT
DTSTART;TZID=America/Toronto:20240514T080000
DTEND;TZID=America/Toronto:20240514T120000
DTSTAMP:20260424T181759
CREATED:20240117T155626Z
LAST-MODIFIED:20240319T194059Z
UID:17300-1715673600-1715688000@moebius.cegepmontpetit.ca
SUMMARY:Réservation Espace Moebius - Cours THD
DESCRIPTION:Disposition : \nUne quinzaine de places dans l’espace discussion. \nIl y aura des présentations Powerpoint et du matériel (affiches\, jeux\, etc.) à présenter.  Il faut donc un projecteur et ordinateur. \nUne table sera aussi nécessaire pour déposer le matériel. \nDemande #62049
URL:https://moebius.cegepmontpetit.ca/evenement/reservation-espace-moebius-cours-thd-32/
LOCATION:D2702
CATEGORIES:Besoin de portables,Mode partagé,Réservation - CLAAC,Téléviseur interactif 1x
ATTACH;FMTTYPE=image/jpeg:https://moebius.cegepmontpetit.ca/wp-content/uploads/sites/166/2019/03/dental-hygiene-600x375.jpg
END:VEVENT
BEGIN:VEVENT
DTSTART;TZID=America/Toronto:20240517T140000
DTEND;TZID=America/Toronto:20240517T180000
DTSTAMP:20260424T181759
CREATED:20240117T155810Z
LAST-MODIFIED:20240319T194359Z
UID:17302-1715954400-1715968800@moebius.cegepmontpetit.ca
SUMMARY:Réservation Espace Moebius - Cours THD
DESCRIPTION:Disposition : \nUne quinzaine de places dans l’espace discussion. \nIl y aura des présentations Powerpoint et du matériel (affiches\, jeux\, etc.) à présenter.  Il faut donc un projecteur et ordinateur. \nUne table sera aussi nécessaire pour déposer le matériel. \nDemande #62049
URL:https://moebius.cegepmontpetit.ca/evenement/reservation-espace-moebius-cours-thd-33/
LOCATION:D2702
CATEGORIES:Besoin de portables,Mode partagé,Réservation - CLAAC,Réservation - Médialab,Téléviseur interactif 1x
ATTACH;FMTTYPE=image/jpeg:https://moebius.cegepmontpetit.ca/wp-content/uploads/sites/166/2019/03/dental-hygiene-600x375.jpg
END:VEVENT
BEGIN:VEVENT
DTSTART;TZID=America/Toronto:20240522T090000
DTEND;TZID=America/Toronto:20240522T110000
DTSTAMP:20260424T181759
CREATED:20240116T191130Z
LAST-MODIFIED:20240515T194938Z
UID:17279-1716368400-1716375600@moebius.cegepmontpetit.ca
SUMMARY:Réservation Espace Moebius - Cours THD
DESCRIPTION:Disposition du local : Assemblée Modifiée\nSe référez à l’image du placement du local. \nDemande #61959
URL:https://moebius.cegepmontpetit.ca/evenement/reservation-espace-moebius-cours-thd-30/
LOCATION:D2702
CATEGORIES:Imprimante en fonction,Mode exclusif,Réservation - CLAAC,Téléviseur interactif 1x
ATTACH;FMTTYPE=image/jpeg:https://moebius.cegepmontpetit.ca/wp-content/uploads/sites/166/2019/03/dental-hygiene-600x375.jpg
END:VEVENT
BEGIN:VEVENT
DTSTART;TZID=America/Toronto:20240530T083000
DTEND;TZID=America/Toronto:20240530T113000
DTSTAMP:20260424T181759
CREATED:20240517T142758Z
LAST-MODIFIED:20240517T142758Z
UID:18102-1717057800-1717068600@moebius.cegepmontpetit.ca
SUMMARY:Réservation Espace Moebius - Rencontre CÉ
DESCRIPTION:Besoin d’un portable pour la projection.\nDemande #67385
URL:https://moebius.cegepmontpetit.ca/evenement/reservation-espace-moebius-rencontre-ce/
LOCATION:D2702
CATEGORIES:Besoin de portables,Mode exclusif,Réservation - CLAAC,Téléviseur interactif 1x
ATTACH;FMTTYPE=image/png:https://moebius.cegepmontpetit.ca/wp-content/uploads/sites/166/2024/05/LaMini_Expo.png
END:VEVENT
END:VCALENDAR