BEGIN:VCALENDAR
VERSION:2.0
PRODID:-//Espace Moebius - ECPv6.0.12//NONSGML v1.0//EN
CALSCALE:GREGORIAN
METHOD:PUBLISH
X-ORIGINAL-URL:https://moebius.cegepmontpetit.ca
X-WR-CALDESC:évènements pour Espace Moebius
REFRESH-INTERVAL;VALUE=DURATION:PT1H
X-Robots-Tag:noindex
X-PUBLISHED-TTL:PT1H
BEGIN:VTIMEZONE
TZID:America/Toronto
BEGIN:DAYLIGHT
TZOFFSETFROM:-0500
TZOFFSETTO:-0400
TZNAME:EDT
DTSTART:20240310T070000
END:DAYLIGHT
BEGIN:STANDARD
TZOFFSETFROM:-0400
TZOFFSETTO:-0500
TZNAME:EST
DTSTART:20241103T060000
END:STANDARD
END:VTIMEZONE
BEGIN:VEVENT
DTSTART;TZID=America/Toronto:20240903T090000
DTEND;TZID=America/Toronto:20240903T120000
DTSTAMP:20260424T122446
CREATED:20240816T131442Z
LAST-MODIFIED:20240816T131442Z
UID:18787-1725354000-1725364800@moebius.cegepmontpetit.ca
SUMMARY:Réservation - Cours Éducation Physique
DESCRIPTION:Demande #69321\nAccessoires : Bouton sonores\nTélévision et projecteur interactif
URL:https://moebius.cegepmontpetit.ca/evenement/reservation-cours-education-physique-2/
LOCATION:D2702
CATEGORIES:Imprimante en fonction,Mode exclusif,Réservation - CLAAC,Téléviseur interactif 1x
ATTACH;FMTTYPE=image/jpeg:https://moebius.cegepmontpetit.ca/wp-content/uploads/sites/166/2019/04/P1090429.jpg
END:VEVENT
BEGIN:VEVENT
DTSTART;TZID=America/Toronto:20240904T140000
DTEND;TZID=America/Toronto:20240904T160000
DTSTAMP:20260424T122446
CREATED:20240816T125405Z
LAST-MODIFIED:20240826T172349Z
UID:18770-1725458400-1725465600@moebius.cegepmontpetit.ca
SUMMARY:Réservation - Cours THD
DESCRIPTION:#69319 \nDisposition:  Regarde la disposition \nBouton sonores\, verres de couleur et cartes aimantées
URL:https://moebius.cegepmontpetit.ca/evenement/reservation-cours-thd/
LOCATION:D2702
CATEGORIES:Imprimante en fonction,Mode exclusif,Téléviseur interactif 1x
ATTACH;FMTTYPE=image/jpeg:https://moebius.cegepmontpetit.ca/wp-content/uploads/sites/166/2019/10/panorama-espace-CLAAC.jpg
END:VEVENT
BEGIN:VEVENT
DTSTART;TZID=America/Toronto:20240906T130000
DTEND;TZID=America/Toronto:20240906T160000
DTSTAMP:20260424T122446
CREATED:20240816T122022Z
LAST-MODIFIED:20240816T122323Z
UID:18757-1725627600-1725638400@moebius.cegepmontpetit.ca
SUMMARY:Réservation - RV Soins Infirmiers
DESCRIPTION:Simulation 410-Post-Op\nDemande #69332
URL:https://moebius.cegepmontpetit.ca/evenement/reservation-rv-soins-infirmiers-27/
LOCATION:D2702
CATEGORIES:Atelier - Réalité virtuelle,Besoin de portables,Imprimante en fonction,Mode exclusif,Réservation - CLAAC,Téléviseur interactif 1x
ATTACH;FMTTYPE=image/jpeg:https://moebius.cegepmontpetit.ca/wp-content/uploads/sites/166/2019/04/OculusRift.jpg
END:VEVENT
BEGIN:VEVENT
DTSTART;TZID=America/Toronto:20240909T080000
DTEND;TZID=America/Toronto:20240909T090000
DTSTAMP:20260424T122446
CREATED:20240821T144818Z
LAST-MODIFIED:20240821T145120Z
UID:18960-1725868800-1725872400@moebius.cegepmontpetit.ca
SUMMARY:Réservation - Cours TIM
DESCRIPTION:#69631 \nDemande: Nous aurions besoin que le TTP fasse une présentation sommaire du fonctionnement de l’impression 3D à Moebius\, et des critères importants pour pouvoir imprimer une pièce en 3D (angles pour éviter les supports\, éviter les vides\, etc.) + expliquer comment obtenir le service \n 
URL:https://moebius.cegepmontpetit.ca/evenement/reservation-cours-tim/
LOCATION:D2702
CATEGORIES:Atelier - impression 3D,Imprimante en fonction,Mode exclusif,Téléviseur interactif 1x
ATTACH;FMTTYPE=image/jpeg:https://moebius.cegepmontpetit.ca/wp-content/uploads/sites/166/2024/05/Les-imprimantes-scaled.jpg
END:VEVENT
BEGIN:VEVENT
DTSTART;TZID=America/Toronto:20240909T120000
DTEND;TZID=America/Toronto:20240909T140000
DTSTAMP:20260424T122446
CREATED:20240826T123540Z
LAST-MODIFIED:20240826T123540Z
UID:19035-1725883200-1725890400@moebius.cegepmontpetit.ca
SUMMARY:Réservation - Cours THD
DESCRIPTION:#69949 \nDisposition: 6 îlots de travail pour des équipes de 3-4 étudiantes
URL:https://moebius.cegepmontpetit.ca/evenement/reservation-cours-thd-17/
LOCATION:D2702
CATEGORIES:Imprimante en fonction,Mode exclusif,Réservation - CLAAC,Téléviseur interactif 1x
ATTACH;FMTTYPE=image/jpeg:https://moebius.cegepmontpetit.ca/wp-content/uploads/sites/166/2019/10/panoramaEspaceMedialab.jpg
END:VEVENT
BEGIN:VEVENT
DTSTART;TZID=America/Toronto:20240910T080000
DTEND;TZID=America/Toronto:20240910T090000
DTSTAMP:20260424T122446
CREATED:20240821T145112Z
LAST-MODIFIED:20240821T145112Z
UID:18962-1725955200-1725958800@moebius.cegepmontpetit.ca
SUMMARY:Réservation – Cours TIM
DESCRIPTION:#69631 \nDemande: Nous aurions besoin que le TTP fasse une présentation sommaire du fonctionnement de l’impression 3D à Moebius\, et des critères importants pour pouvoir imprimer une pièce en 3D (angles pour éviter les supports\, éviter les vides\, etc.) + expliquer comment obtenir le service \n 
URL:https://moebius.cegepmontpetit.ca/evenement/reservation-cours-tim-2/
LOCATION:D2702
CATEGORIES:Atelier - impression 3D,Imprimante en fonction,Mode exclusif,Téléviseur interactif 1x
ATTACH;FMTTYPE=image/jpeg:https://moebius.cegepmontpetit.ca/wp-content/uploads/sites/166/2024/05/Les-imprimantes-scaled.jpg
END:VEVENT
BEGIN:VEVENT
DTSTART;TZID=America/Toronto:20240910T130000
DTEND;TZID=America/Toronto:20240910T160000
DTSTAMP:20260424T122446
CREATED:20240816T122331Z
LAST-MODIFIED:20240816T122331Z
UID:18759-1725973200-1725984000@moebius.cegepmontpetit.ca
SUMMARY:Réservation - RV Soins Infirmiers
DESCRIPTION:Simulation 410-Post-Op\nDemande #69332
URL:https://moebius.cegepmontpetit.ca/evenement/reservation-rv-soins-infirmiers-28/
LOCATION:D2702
CATEGORIES:Atelier - Réalité virtuelle,Besoin de portables,Imprimante en fonction,Mode exclusif,Réservation - CLAAC,Téléviseur interactif 1x
ATTACH;FMTTYPE=image/jpeg:https://moebius.cegepmontpetit.ca/wp-content/uploads/sites/166/2019/04/P1090458.jpg
END:VEVENT
BEGIN:VEVENT
DTSTART;TZID=America/Toronto:20240911T080000
DTEND;TZID=America/Toronto:20240911T120000
DTSTAMP:20260424T122446
CREATED:20240815T171857Z
LAST-MODIFIED:20240815T173712Z
UID:18667-1726041600-1726056000@moebius.cegepmontpetit.ca
SUMMARY:Réservation - RV Soins Infirmiers
DESCRIPTION:Simulation 510-TCC et 510-MPOC\nBesoins de 6 postes de RV \nDemande # 69332
URL:https://moebius.cegepmontpetit.ca/evenement/reservation-rv-soins-infirmiers/
LOCATION:D2702
CATEGORIES:Atelier - Réalité virtuelle,Imprimante en fonction,Mode exclusif,Réservation - CLAAC,Téléviseur interactif 1x
ATTACH;FMTTYPE=image/jpeg:https://moebius.cegepmontpetit.ca/wp-content/uploads/sites/166/2019/04/P1090458.jpg
END:VEVENT
BEGIN:VEVENT
DTSTART;TZID=America/Toronto:20240913T160000
DTEND;TZID=America/Toronto:20240913T180000
DTSTAMP:20260424T122446
CREATED:20240905T122155Z
LAST-MODIFIED:20240912T125345Z
UID:19179-1726243200-1726250400@moebius.cegepmontpetit.ca
SUMMARY:Réservation - Cours THD
DESCRIPTION:#70765 \nDisposition: personnelle \nVerre de couleurs sur 1 et 7
URL:https://moebius.cegepmontpetit.ca/evenement/reservation-cours-thd-18/
LOCATION:D2702
CATEGORIES:Imprimante en fonction,Mode exclusif,Réservation - CLAAC,Téléviseur interactif 1x
ATTACH;FMTTYPE=image/jpeg:https://moebius.cegepmontpetit.ca/wp-content/uploads/sites/166/2019/10/panoramaEspaceMedialab.jpg
END:VEVENT
BEGIN:VEVENT
DTSTART;TZID=America/Toronto:20240918T121000
DTEND;TZID=America/Toronto:20240918T140000
DTSTAMP:20260424T122446
CREATED:20240903T134101Z
LAST-MODIFIED:20240903T134232Z
UID:19154-1726661400-1726668000@moebius.cegepmontpetit.ca
SUMMARY:Réservation - Conférence cours Français
DESCRIPTION:#70563\nDisposition: Premier-ministre
URL:https://moebius.cegepmontpetit.ca/evenement/reservation-conference-cours-francais/
LOCATION:D2702
CATEGORIES:Imprimante en fonction,Réservation - CLAAC,Téléviseur interactif 1x
ATTACH;FMTTYPE=image/png:https://moebius.cegepmontpetit.ca/wp-content/uploads/sites/166/2024/05/13_Le_Premier-Ministre.png
END:VEVENT
BEGIN:VEVENT
DTSTART;TZID=America/Toronto:20240918T141000
DTEND;TZID=America/Toronto:20240918T160000
DTSTAMP:20260424T122446
CREATED:20240816T125525Z
LAST-MODIFIED:20240917T140236Z
UID:18772-1726668600-1726675200@moebius.cegepmontpetit.ca
SUMMARY:Réservation - Cours THD
DESCRIPTION:#69319 \nDisposition: Regarde la disposition \nSortir *buzzer* \n2 tableaux blancs par table avec crayons
URL:https://moebius.cegepmontpetit.ca/evenement/reservation-cours-thd-2/
LOCATION:D2702
CATEGORIES:Imprimante en fonction,Mode exclusif,Téléviseur interactif 1x
ATTACH;FMTTYPE=image/jpeg:https://moebius.cegepmontpetit.ca/wp-content/uploads/sites/166/2019/10/panorama-espace-CLAAC.jpg
END:VEVENT
BEGIN:VEVENT
DTSTART;TZID=America/Toronto:20240919T111000
DTEND;TZID=America/Toronto:20240919T130000
DTSTAMP:20260424T122446
CREATED:20240816T154312Z
LAST-MODIFIED:20240816T154312Z
UID:18829-1726744200-1726750800@moebius.cegepmontpetit.ca
SUMMARY:Réservation - Cours THD
DESCRIPTION:Disposition : 5 groupes de 6 personnes\nAccessoires : Cartes aimantées de couleur variées\nDemande #69326
URL:https://moebius.cegepmontpetit.ca/evenement/reservation-cours-thd-15/
LOCATION:D2702
CATEGORIES:Imprimante en fonction,Mode exclusif,Réservation - CLAAC,Téléviseur interactif 1x
ATTACH;FMTTYPE=image/jpeg:https://moebius.cegepmontpetit.ca/wp-content/uploads/sites/166/2019/03/dental-hygiene-600x375.jpg
END:VEVENT
BEGIN:VEVENT
DTSTART;TZID=America/Toronto:20240923T103000
DTEND;TZID=America/Toronto:20240923T120000
DTSTAMP:20260424T122446
CREATED:20240823T124029Z
LAST-MODIFIED:20240823T124029Z
UID:19029-1727087400-1727092800@moebius.cegepmontpetit.ca
SUMMARY:Réservation - Cours Administration
DESCRIPTION:Disposition : Classique\n** Silence complet – Aucune impression 3D **\nDemande #69871
URL:https://moebius.cegepmontpetit.ca/evenement/reservation-cours-administration-5/
LOCATION:D2702
CATEGORIES:Besoin de portables,Mode exclusif,Réservation - CLAAC,Téléviseur interactif 1x
ATTACH;FMTTYPE=image/jpeg:https://moebius.cegepmontpetit.ca/wp-content/uploads/sites/166/2019/05/administration.jpg
END:VEVENT
BEGIN:VEVENT
DTSTART;TZID=America/Toronto:20240924T100000
DTEND;TZID=America/Toronto:20240924T130000
DTSTAMP:20260424T122446
CREATED:20240906T130422Z
LAST-MODIFIED:20240910T184145Z
UID:19187-1727172000-1727182800@moebius.cegepmontpetit.ca
SUMMARY:Réservation - RV Cours psychologie
DESCRIPTION:#70795 \nRV: 3 casque Rift et 3 casque Quest fixe \nApplication: Keep Talking no body explodes
URL:https://moebius.cegepmontpetit.ca/evenement/reservation-rv-cours-psychologie-11/
LOCATION:D2702
CATEGORIES:Atelier - Réalité virtuelle,Réservation - CLAAC,Téléviseur interactif 1x
ATTACH;FMTTYPE=image/jpeg:https://moebius.cegepmontpetit.ca/wp-content/uploads/sites/166/2019/04/P1090458.jpg
END:VEVENT
BEGIN:VEVENT
DTSTART;TZID=America/Toronto:20240925T120000
DTEND;TZID=America/Toronto:20240925T140000
DTSTAMP:20260424T122446
CREATED:20240827T150526Z
LAST-MODIFIED:20240827T150526Z
UID:19085-1727265600-1727272800@moebius.cegepmontpetit.ca
SUMMARY:Réservation - Conférence cours littérature
DESCRIPTION:Disposition : Section du fond de la salle disposée avec des chaises. Une petite table ou un lutrin pour la conférencière. Accès à un écran au besoin.\n** 50 places *\nDemande #70115
URL:https://moebius.cegepmontpetit.ca/evenement/reservation-conference-cours-litterature/
LOCATION:D2702
CATEGORIES:Mode exclusif,Réservation - CLAAC,Téléviseur interactif 1x
ATTACH;FMTTYPE=image/jpeg:https://moebius.cegepmontpetit.ca/wp-content/uploads/sites/166/2019/03/zone-discussion.jpg
END:VEVENT
BEGIN:VEVENT
DTSTART;TZID=America/Toronto:20240925T140000
DTEND;TZID=America/Toronto:20240925T160000
DTSTAMP:20260424T122446
CREATED:20240816T125830Z
LAST-MODIFIED:20240826T173241Z
UID:18774-1727272800-1727280000@moebius.cegepmontpetit.ca
SUMMARY:Réservation - Cours THD
DESCRIPTION:#69319 \nDisposition: Regarde la disposition \nBouton sonores\, verres de couleur et cartes aimantées
URL:https://moebius.cegepmontpetit.ca/evenement/reservation-cours-thd-3/
LOCATION:D2702
CATEGORIES:Imprimante en fonction,Mode exclusif,Téléviseur interactif 1x
ATTACH;FMTTYPE=image/jpeg:https://moebius.cegepmontpetit.ca/wp-content/uploads/sites/166/2019/10/panorama-espace-CLAAC.jpg
END:VEVENT
BEGIN:VEVENT
DTSTART;TZID=America/Toronto:20240926T110000
DTEND;TZID=America/Toronto:20240926T130000
DTSTAMP:20260424T122446
CREATED:20240816T154721Z
LAST-MODIFIED:20240816T154721Z
UID:18833-1727348400-1727355600@moebius.cegepmontpetit.ca
SUMMARY:Réservation - Cours THD
DESCRIPTION:Disposition : 5 groupes de 6 personnes\nAccessoires : Cartes aimantées de couleur variées\nDemande #69326
URL:https://moebius.cegepmontpetit.ca/evenement/reservation-cours-thd-16/
LOCATION:D2702
CATEGORIES:Imprimante en fonction,Mode exclusif,Réservation - CLAAC,Téléviseur interactif 1x
ATTACH;FMTTYPE=image/jpeg:https://moebius.cegepmontpetit.ca/wp-content/uploads/sites/166/2019/03/dental-hygiene-600x375.jpg
END:VEVENT
END:VCALENDAR