BEGIN:VCALENDAR
VERSION:2.0
PRODID:-//Espace Moebius - ECPv6.0.12//NONSGML v1.0//EN
CALSCALE:GREGORIAN
METHOD:PUBLISH
X-ORIGINAL-URL:https://moebius.cegepmontpetit.ca
X-WR-CALDESC:évènements pour Espace Moebius
REFRESH-INTERVAL;VALUE=DURATION:PT1H
X-Robots-Tag:noindex
X-PUBLISHED-TTL:PT1H
BEGIN:VTIMEZONE
TZID:America/Toronto
BEGIN:DAYLIGHT
TZOFFSETFROM:-0500
TZOFFSETTO:-0400
TZNAME:EDT
DTSTART:20250309T070000
END:DAYLIGHT
BEGIN:STANDARD
TZOFFSETFROM:-0400
TZOFFSETTO:-0500
TZNAME:EST
DTSTART:20251102T060000
END:STANDARD
END:VTIMEZONE
BEGIN:VEVENT
DTSTART;TZID=America/Toronto:20250626T133000
DTEND;TZID=America/Toronto:20250626T153000
DTSTAMP:20260423T191548
CREATED:20250506T174824Z
LAST-MODIFIED:20250515T170856Z
UID:20719-1750944600-1750951800@moebius.cegepmontpetit.ca
SUMMARY:Cours Francisation - Salon des régions
DESCRIPTION:Synapse #79441\nDisposition : Expo
URL:https://moebius.cegepmontpetit.ca/evenement/cours-francisation-salon-des-regions/
LOCATION:D2702
CATEGORIES:Événement spécial,Mode partagé,Réservation de l'Espace Moebius,Téléviseur interactif 2x
ATTACH;FMTTYPE=image/png:https://moebius.cegepmontpetit.ca/wp-content/uploads/sites/166/2024/06/Expo_modifie.png
END:VEVENT
END:VCALENDAR