BEGIN:VCALENDAR
VERSION:2.0
PRODID:-//Espace Moebius - ECPv6.0.12//NONSGML v1.0//EN
CALSCALE:GREGORIAN
METHOD:PUBLISH
X-WR-CALNAME:Espace Moebius
X-ORIGINAL-URL:https://moebius.cegepmontpetit.ca
X-WR-CALDESC:évènements pour Espace Moebius
REFRESH-INTERVAL;VALUE=DURATION:PT1H
X-Robots-Tag:noindex
X-PUBLISHED-TTL:PT1H
BEGIN:VTIMEZONE
TZID:America/Toronto
BEGIN:DAYLIGHT
TZOFFSETFROM:-0500
TZOFFSETTO:-0400
TZNAME:EDT
DTSTART:20260308T070000
END:DAYLIGHT
BEGIN:STANDARD
TZOFFSETFROM:-0400
TZOFFSETTO:-0500
TZNAME:EST
DTSTART:20261101T060000
END:STANDARD
END:VTIMEZONE
BEGIN:VEVENT
DTSTART;TZID=America/Toronto:20260303T140000
DTEND;TZID=America/Toronto:20260303T160000
DTSTAMP:20260422T231930
CREATED:20260127T133755Z
LAST-MODIFIED:20260127T133755Z
UID:22446-1772546400-1772553600@moebius.cegepmontpetit.ca
SUMMARY:Réservation – Cours Techniques dentaires (Prothèses dentaires)
DESCRIPTION:#88003\n– Téléviseur interactif : 1\n– Projecteur interactif : 1\n– Boutons sonores : Oui\n– Verres de couleur : Oui\n– Un ordinateur portable : Oui\n– Nombre requis : 20
URL:https://moebius.cegepmontpetit.ca/evenement/reservation-cours-techniques-dentaires-protheses-dentaires-6/
LOCATION:D2702
CATEGORIES:Besoin de portables,Imprimante en fonction,Mode exclusif,Réservation - CLAAC,Réservation de l'Espace Moebius,Téléviseur interactif 1x
ATTACH;FMTTYPE=image/jpeg:https://moebius.cegepmontpetit.ca/wp-content/uploads/sites/166/2025/07/Espace_Moebius_-4-scaled.jpg
END:VEVENT
BEGIN:VEVENT
DTSTART;TZID=America/Toronto:20260306T080000
DTEND;TZID=America/Toronto:20260306T110000
DTSTAMP:20260422T231930
CREATED:20260121T131105Z
LAST-MODIFIED:20260121T131105Z
UID:22412-1772784000-1772794800@moebius.cegepmontpetit.ca
SUMMARY:Réservation – Cours Denturologie
DESCRIPTION:#87714\nordinateur portable: 28
URL:https://moebius.cegepmontpetit.ca/evenement/reservation-cours-denturologie-2/
LOCATION:D2702
CATEGORIES:Besoin de portables,Réservation de l'Espace Moebius
ATTACH;FMTTYPE=image/jpeg:https://moebius.cegepmontpetit.ca/wp-content/uploads/sites/166/2025/07/Espace_Moebius_-4-scaled.jpg
END:VEVENT
BEGIN:VEVENT
DTSTART;TZID=America/Toronto:20260309T150000
DTEND;TZID=America/Toronto:20260309T180000
DTSTAMP:20260422T231930
CREATED:20260119T200822Z
LAST-MODIFIED:20260119T200822Z
UID:22330-1773068400-1773079200@moebius.cegepmontpetit.ca
SUMMARY:Réservation RV - Cours Géographie
DESCRIPTION:#87627\nActivité: Google Earth et Home after war\n6 station
URL:https://moebius.cegepmontpetit.ca/evenement/reservation-rv-cours-geographie/
LOCATION:D2702
CATEGORIES:Réservation de l'Espace Moebius
ATTACH;FMTTYPE=image/jpeg:https://moebius.cegepmontpetit.ca/wp-content/uploads/sites/166/2024/04/home_after_war_hero.jpg
END:VEVENT
BEGIN:VEVENT
DTSTART;TZID=America/Toronto:20260312T080000
DTEND;TZID=America/Toronto:20260312T110000
DTSTAMP:20260422T231930
CREATED:20260119T201400Z
LAST-MODIFIED:20260119T201400Z
UID:22338-1773302400-1773313200@moebius.cegepmontpetit.ca
SUMMARY:Réservation RV – Cours Géographie
DESCRIPTION:#87627\nActivité: Google Earth et Home after war\n6 station
URL:https://moebius.cegepmontpetit.ca/evenement/reservation-rv-cours-geographie-2/
LOCATION:D2702
CATEGORIES:Réservation de l'Espace Moebius
ATTACH;FMTTYPE=image/jpeg:https://moebius.cegepmontpetit.ca/wp-content/uploads/sites/166/2024/04/home_after_war_hero.jpg
END:VEVENT
BEGIN:VEVENT
DTSTART;TZID=America/Toronto:20260313T100000
DTEND;TZID=America/Toronto:20260313T150000
DTSTAMP:20260422T231930
CREATED:20260119T134830Z
LAST-MODIFIED:20260120T130722Z
UID:22253-1773396000-1773414000@moebius.cegepmontpetit.ca
SUMMARY:Réservation – Stage TIM
DESCRIPTION:#87647\n1 professeur\n40 étudiants\n40 ordinateurs portables (PM)\nTableaux blanc sur roulettes  avec crayons\n2 téléviseurs géants (IMPORTANT)
URL:https://moebius.cegepmontpetit.ca/evenement/reservation-stage-tim-3/
LOCATION:D2702
CATEGORIES:Réservation - CLAAC,Réservation de l'Espace Moebius,Téléviseur interactif 1x
ATTACH;FMTTYPE=image/jpeg:https://moebius.cegepmontpetit.ca/wp-content/uploads/sites/166/2019/10/panoramaEspaceMedialab.jpg
END:VEVENT
BEGIN:VEVENT
DTSTART;TZID=America/Toronto:20260319T083000
DTEND;TZID=America/Toronto:20260319T170000
DTSTAMP:20260422T231930
CREATED:20260304T153740Z
LAST-MODIFIED:20260304T153740Z
UID:22496-1773909000-1773939600@moebius.cegepmontpetit.ca
SUMMARY:Réservation - Rencontre départementale
DESCRIPTION:#89679 \nDisposition: ONU
URL:https://moebius.cegepmontpetit.ca/evenement/reservation-rencontre-departementale/
LOCATION:D2702
CATEGORIES:Réservation de l'Espace Moebius
ATTACH;FMTTYPE=image/png:https://moebius.cegepmontpetit.ca/wp-content/uploads/sites/166/2024/05/ONU-Modifiee.png
END:VEVENT
BEGIN:VEVENT
DTSTART;TZID=America/Toronto:20260323T090000
DTEND;TZID=America/Toronto:20260323T120000
DTSTAMP:20260422T231930
CREATED:20260119T133010Z
LAST-MODIFIED:20260119T133010Z
UID:22241-1774256400-1774267200@moebius.cegepmontpetit.ca
SUMMARY:Réservation – Communauté EVA
DESCRIPTION:Disposition: en cercle
URL:https://moebius.cegepmontpetit.ca/evenement/reservation-communaute-eva-4/
LOCATION:D2702
CATEGORIES:Réservation de l'Espace Moebius
ATTACH;FMTTYPE=image/jpeg:https://moebius.cegepmontpetit.ca/wp-content/uploads/sites/166/2025/07/Espace_Moebius_-4-scaled.jpg
END:VEVENT
BEGIN:VEVENT
DTSTART;TZID=America/Toronto:20260324T140000
DTEND;TZID=America/Toronto:20260324T160000
DTSTAMP:20260422T231930
CREATED:20260127T133906Z
LAST-MODIFIED:20260127T133906Z
UID:22448-1774360800-1774368000@moebius.cegepmontpetit.ca
SUMMARY:Réservation – Cours Techniques dentaires (Prothèses dentaires)
DESCRIPTION:#88003\n– Téléviseur interactif : 1\n– Projecteur interactif : 1\n– Boutons sonores : Oui\n– Verres de couleur : Oui\n– Un ordinateur portable : Oui\n– Nombre requis : 20
URL:https://moebius.cegepmontpetit.ca/evenement/reservation-cours-techniques-dentaires-protheses-dentaires-7/
LOCATION:D2702
CATEGORIES:Besoin de portables,Imprimante en fonction,Mode exclusif,Réservation - CLAAC,Réservation de l'Espace Moebius,Téléviseur interactif 1x
ATTACH;FMTTYPE=image/jpeg:https://moebius.cegepmontpetit.ca/wp-content/uploads/sites/166/2025/07/Espace_Moebius_-4-scaled.jpg
END:VEVENT
BEGIN:VEVENT
DTSTART;TZID=America/Toronto:20260325T090000
DTEND;TZID=America/Toronto:20260325T120000
DTSTAMP:20260422T231930
CREATED:20260119T201644Z
LAST-MODIFIED:20260119T201644Z
UID:22342-1774429200-1774440000@moebius.cegepmontpetit.ca
SUMMARY:Réservation RV – Cours Géographie
DESCRIPTION:#87627\nActivité: Google Earth et Home after war\n6 station
URL:https://moebius.cegepmontpetit.ca/evenement/reservation-rv-cours-geographie-3/
LOCATION:D2702
CATEGORIES:Réservation de l'Espace Moebius
ATTACH;FMTTYPE=image/jpeg:https://moebius.cegepmontpetit.ca/wp-content/uploads/sites/166/2025/07/Espace_Moebius_-4-scaled.jpg
END:VEVENT
BEGIN:VEVENT
DTSTART;TZID=America/Toronto:20260327T100000
DTEND;TZID=America/Toronto:20260327T150000
DTSTAMP:20260422T231930
CREATED:20260119T134938Z
LAST-MODIFIED:20260120T130757Z
UID:22255-1774605600-1774623600@moebius.cegepmontpetit.ca
SUMMARY:Réservation – Stage TIM
DESCRIPTION:#87647\nConfiguration: Panel de discussion (à discuter)\n2 téléviseurs géants (IMPORTANT)\n8 panélistes sur un grande table\n1 professeur\n40 étudiants
URL:https://moebius.cegepmontpetit.ca/evenement/reservation-stage-tim-4/
LOCATION:D2702
CATEGORIES:Réservation - CLAAC,Réservation de l'Espace Moebius,Téléviseur interactif 1x
ATTACH;FMTTYPE=image/jpeg:https://moebius.cegepmontpetit.ca/wp-content/uploads/sites/166/2019/10/panoramaEspaceMedialab.jpg
END:VEVENT
BEGIN:VEVENT
DTSTART;TZID=America/Toronto:20260330T130000
DTEND;TZID=America/Toronto:20260330T150000
DTSTAMP:20260422T231930
CREATED:20260120T133112Z
LAST-MODIFIED:20260120T133112Z
UID:22383-1774875600-1774882800@moebius.cegepmontpetit.ca
SUMMARY:Réservation - Cours Anglais
DESCRIPTION:#87654\nDisposition: Classique\nOrdinateur: 32
URL:https://moebius.cegepmontpetit.ca/evenement/reservation-cours-anglais-11/
LOCATION:D2702
CATEGORIES:Réservation de l'Espace Moebius
ATTACH;FMTTYPE=image/jpeg:https://moebius.cegepmontpetit.ca/wp-content/uploads/sites/166/2025/07/Espace_Moebius_-4-scaled.jpg
END:VEVENT
BEGIN:VEVENT
DTSTART;TZID=America/Toronto:20260331T103000
DTEND;TZID=America/Toronto:20260331T123000
DTSTAMP:20260422T231930
CREATED:20260209T172620Z
LAST-MODIFIED:20260209T172620Z
UID:22470-1774953000-1774960200@moebius.cegepmontpetit.ca
SUMMARY:Réservation - Cours Francisation
DESCRIPTION:#88691 \nDisposition: Personnelle
URL:https://moebius.cegepmontpetit.ca/evenement/reservation-cours-francisation-2/
LOCATION:D2702
CATEGORIES:Réservation de l'Espace Moebius
ATTACH;FMTTYPE=image/png:https://moebius.cegepmontpetit.ca/wp-content/uploads/sites/166/2025/03/Plan.png
END:VEVENT
END:VCALENDAR