BEGIN:VCALENDAR
VERSION:2.0
PRODID:-//Espace Moebius - ECPv6.0.12//NONSGML v1.0//EN
CALSCALE:GREGORIAN
METHOD:PUBLISH
X-WR-CALNAME:Espace Moebius
X-ORIGINAL-URL:https://moebius.cegepmontpetit.ca
X-WR-CALDESC:évènements pour Espace Moebius
REFRESH-INTERVAL;VALUE=DURATION:PT1H
X-Robots-Tag:noindex
X-PUBLISHED-TTL:PT1H
BEGIN:VTIMEZONE
TZID:America/Toronto
BEGIN:DAYLIGHT
TZOFFSETFROM:-0500
TZOFFSETTO:-0400
TZNAME:EDT
DTSTART:20260308T070000
END:DAYLIGHT
BEGIN:STANDARD
TZOFFSETFROM:-0400
TZOFFSETTO:-0500
TZNAME:EST
DTSTART:20261101T060000
END:STANDARD
END:VTIMEZONE
BEGIN:VEVENT
DTSTART;VALUE=DATE:20260204
DTEND;VALUE=DATE:20260206
DTSTAMP:20260423T030504
CREATED:20251211T152412Z
LAST-MODIFIED:20251211T152412Z
UID:22120-1770184800-1770271199@moebius.cegepmontpetit.ca
SUMMARY:Événement porte ouverte
DESCRIPTION:#86383\n18h30 à 20h30
URL:https://moebius.cegepmontpetit.ca/evenement/evenement-porte-ouverte/
LOCATION:D2702
CATEGORIES:Réservation de l'Espace Moebius
ATTACH;FMTTYPE=image/png:https://moebius.cegepmontpetit.ca/wp-content/uploads/sites/166/2022/05/portes-ouvertes.png
END:VEVENT
BEGIN:VEVENT
DTSTART;TZID=America/Toronto:20260204T080000
DTEND;TZID=America/Toronto:20260204T110000
DTSTAMP:20260423T030504
CREATED:20260120T133839Z
LAST-MODIFIED:20260120T133839Z
UID:22389-1770192000-1770202800@moebius.cegepmontpetit.ca
SUMMARY:Réservation - Cours Anglais
DESCRIPTION:#87666\n– Téléviseur interactif : 1
URL:https://moebius.cegepmontpetit.ca/evenement/reservation-cours-anglais-14/
LOCATION:D2702
CATEGORIES:Réservation de l'Espace Moebius
ATTACH;FMTTYPE=image/jpeg:https://moebius.cegepmontpetit.ca/wp-content/uploads/sites/166/2025/07/Espace_Moebius_-4-scaled.jpg
END:VEVENT
BEGIN:VEVENT
DTSTART;TZID=America/Toronto:20260204T160000
DTEND;TZID=America/Toronto:20260204T180000
DTSTAMP:20260423T030504
CREATED:20260119T190553Z
LAST-MODIFIED:20260119T191822Z
UID:22290-1770220800-1770228000@moebius.cegepmontpetit.ca
SUMMARY:Réservation RV - Cours Techniques administratives
DESCRIPTION:#87620\nActivité: Keep talking and nobody explodes\n6 station
URL:https://moebius.cegepmontpetit.ca/evenement/reservation-cours-techniques-administratives-4/
LOCATION:D2702
CATEGORIES:Atelier - Réalité virtuelle,Réservation de l'Espace Moebius
ATTACH;FMTTYPE=image/jpeg:https://moebius.cegepmontpetit.ca/wp-content/uploads/sites/166/2019/09/keep-talking-and-nobody-explodes.jpg
END:VEVENT
END:VCALENDAR