BEGIN:VCALENDAR
VERSION:2.0
PRODID:-//Espace Moebius - ECPv6.0.12//NONSGML v1.0//EN
CALSCALE:GREGORIAN
METHOD:PUBLISH
X-ORIGINAL-URL:https://moebius.cegepmontpetit.ca
X-WR-CALDESC:évènements pour Espace Moebius
REFRESH-INTERVAL;VALUE=DURATION:PT1H
X-Robots-Tag:noindex
X-PUBLISHED-TTL:PT1H
BEGIN:VTIMEZONE
TZID:America/Toronto
BEGIN:DAYLIGHT
TZOFFSETFROM:-0500
TZOFFSETTO:-0400
TZNAME:EDT
DTSTART:20260308T070000
END:DAYLIGHT
BEGIN:STANDARD
TZOFFSETFROM:-0400
TZOFFSETTO:-0500
TZNAME:EST
DTSTART:20261101T060000
END:STANDARD
END:VTIMEZONE
BEGIN:VEVENT
DTSTART;TZID=America/Toronto:20260227T120000
DTEND;TZID=America/Toronto:20260227T133000
DTSTAMP:20260423T003740
CREATED:20260227T134100Z
LAST-MODIFIED:20260227T134100Z
UID:22494-1772193600-1772199000@moebius.cegepmontpetit.ca
SUMMARY:Réservation - RV Soins Infirmiers
DESCRIPTION:#89507 \nRV 50A \n3 Stations
URL:https://moebius.cegepmontpetit.ca/evenement/reservation-rv-soins-infirmiers-121/
LOCATION:D2702
CATEGORIES:Atelier - Réalité virtuelle,Réservation de l'Espace Moebius
ATTACH;FMTTYPE=image/jpeg:https://moebius.cegepmontpetit.ca/wp-content/uploads/sites/166/2025/09/Realite_Virtuelle_Chaises_Quest_3-1-scaled.jpg
END:VEVENT
END:VCALENDAR