BEGIN:VCALENDAR
VERSION:2.0
PRODID:-//Espace Moebius - ECPv6.0.12//NONSGML v1.0//EN
CALSCALE:GREGORIAN
METHOD:PUBLISH
X-WR-CALNAME:Espace Moebius
X-ORIGINAL-URL:https://moebius.cegepmontpetit.ca
X-WR-CALDESC:évènements pour Espace Moebius
REFRESH-INTERVAL;VALUE=DURATION:PT1H
X-Robots-Tag:noindex
X-PUBLISHED-TTL:PT1H
BEGIN:VTIMEZONE
TZID:America/Toronto
BEGIN:DAYLIGHT
TZOFFSETFROM:-0500
TZOFFSETTO:-0400
TZNAME:EDT
DTSTART:20260308T070000
END:DAYLIGHT
BEGIN:STANDARD
TZOFFSETFROM:-0400
TZOFFSETTO:-0500
TZNAME:EST
DTSTART:20261101T060000
END:STANDARD
END:VTIMEZONE
BEGIN:VEVENT
DTSTART;TZID=America/Toronto:20260112T080000
DTEND;TZID=America/Toronto:20260112T130000
DTSTAMP:20260423T043117
CREATED:20251202T154852Z
LAST-MODIFIED:20251202T154852Z
UID:22116-1768204800-1768222800@moebius.cegepmontpetit.ca
SUMMARY:Réservation - Rencontre pédagogique
DESCRIPTION:#86458\nDisposition: en U devant BenQ\nHoraire: 8 h15 à 12 h30
URL:https://moebius.cegepmontpetit.ca/evenement/reservation-rencontre-pedagogique/
LOCATION:D2702
CATEGORIES:Mode exclusif,Réservation - CLAAC,Réservation de l'Espace Moebius,Téléviseur interactif 1x
ATTACH;FMTTYPE=image/jpeg:https://moebius.cegepmontpetit.ca/wp-content/uploads/sites/166/2025/07/Espace_Moebius_-4-scaled.jpg
END:VEVENT
BEGIN:VEVENT
DTSTART;TZID=America/Toronto:20260114T133000
DTEND;TZID=America/Toronto:20260114T143000
DTSTAMP:20260423T043117
CREATED:20251217T191235Z
LAST-MODIFIED:20251217T191235Z
UID:22126-1768397400-1768401000@moebius.cegepmontpetit.ca
SUMMARY:Mode partagé: Rencontre Disti
DESCRIPTION:
URL:https://moebius.cegepmontpetit.ca/evenement/mode-partage-rencontre-disti/
LOCATION:D2702
CATEGORIES:Réservation de l'Espace Moebius
ATTACH;FMTTYPE=image/jpeg:https://moebius.cegepmontpetit.ca/wp-content/uploads/sites/166/2025/07/Espace_Moebius_-4-scaled.jpg
END:VEVENT
BEGIN:VEVENT
DTSTART;TZID=America/Toronto:20260116T090000
DTEND;TZID=America/Toronto:20260116T160000
DTSTAMP:20260423T043117
CREATED:20251124T131524Z
LAST-MODIFIED:20251124T131524Z
UID:22102-1768554000-1768579200@moebius.cegepmontpetit.ca
SUMMARY:Réservation - Rencontre direction
DESCRIPTION:#86153\nDisposition: 10-4
URL:https://moebius.cegepmontpetit.ca/evenement/reservation-rencontre-direction-4/
LOCATION:D2702
CATEGORIES:Mode exclusif,Réservation de l'Espace Moebius
ATTACH;FMTTYPE=image/png:https://moebius.cegepmontpetit.ca/wp-content/uploads/sites/166/2024/05/07_Le_10-4.png
END:VEVENT
END:VCALENDAR