BEGIN:VCALENDAR
VERSION:2.0
PRODID:-//Espace Moebius - ECPv6.0.12//NONSGML v1.0//EN
CALSCALE:GREGORIAN
METHOD:PUBLISH
X-ORIGINAL-URL:https://moebius.cegepmontpetit.ca
X-WR-CALDESC:évènements pour Espace Moebius
REFRESH-INTERVAL;VALUE=DURATION:PT1H
X-Robots-Tag:noindex
X-PUBLISHED-TTL:PT1H
BEGIN:VTIMEZONE
TZID:America/Toronto
BEGIN:DAYLIGHT
TZOFFSETFROM:-0500
TZOFFSETTO:-0400
TZNAME:EDT
DTSTART:20260308T070000
END:DAYLIGHT
BEGIN:STANDARD
TZOFFSETFROM:-0400
TZOFFSETTO:-0500
TZNAME:EST
DTSTART:20261101T060000
END:STANDARD
END:VTIMEZONE
BEGIN:VEVENT
DTSTART;TZID=America/Toronto:20260126T090000
DTEND;TZID=America/Toronto:20260126T120000
DTSTAMP:20260423T071648
CREATED:20260119T132446Z
LAST-MODIFIED:20260119T132612Z
UID:22234-1769418000-1769428800@moebius.cegepmontpetit.ca
SUMMARY:Réservation - Communauté EVA
DESCRIPTION:Disposition: en cercle
URL:https://moebius.cegepmontpetit.ca/evenement/reservation-communaute-eva/
LOCATION:D2702
CATEGORIES:Réservation de l'Espace Moebius
ATTACH;FMTTYPE=image/jpeg:https://moebius.cegepmontpetit.ca/wp-content/uploads/sites/166/2025/07/Espace_Moebius_-4-scaled.jpg
END:VEVENT
BEGIN:VEVENT
DTSTART;TZID=America/Toronto:20260126T130000
DTEND;TZID=America/Toronto:20260126T150000
DTSTAMP:20260423T071648
CREATED:20260119T202844Z
LAST-MODIFIED:20260119T202844Z
UID:22351-1769432400-1769439600@moebius.cegepmontpetit.ca
SUMMARY:Réservation - Cours Techniques dentaires (Prothèses dentaires)
DESCRIPTION:#87634\nDisposition: ONU
URL:https://moebius.cegepmontpetit.ca/evenement/reservation-cours-techniques-dentaires-protheses-dentaires-3/
LOCATION:D2702
CATEGORIES:Réservation - CLAAC,Réservation de l'Espace Moebius,Téléviseur interactif 1x
ATTACH;FMTTYPE=image/png:https://moebius.cegepmontpetit.ca/wp-content/uploads/sites/166/2024/05/ONU-Modifiee.png
END:VEVENT
BEGIN:VEVENT
DTSTART;TZID=America/Toronto:20260127T140000
DTEND;TZID=America/Toronto:20260127T170000
DTSTAMP:20260423T071648
CREATED:20260119T192126Z
LAST-MODIFIED:20260119T192126Z
UID:22300-1769522400-1769533200@moebius.cegepmontpetit.ca
SUMMARY:Réservation - Cours Techniques administratives
DESCRIPTION:#87623\nPlacement local: ONU\n– Téléviseur interactif : 2\n– Projecteur interactif : 2
URL:https://moebius.cegepmontpetit.ca/evenement/reservation-cours-techniques-administratives-6/
LOCATION:D2702
CATEGORIES:Réservation de l'Espace Moebius
ATTACH;FMTTYPE=image/jpeg:https://moebius.cegepmontpetit.ca/wp-content/uploads/sites/166/2025/07/Espace_Moebius_-4-scaled.jpg
END:VEVENT
BEGIN:VEVENT
DTSTART;TZID=America/Toronto:20260128T130000
DTEND;TZID=America/Toronto:20260128T153000
DTSTAMP:20260423T071648
CREATED:20260120T132256Z
LAST-MODIFIED:20260120T132417Z
UID:22379-1769605200-1769614200@moebius.cegepmontpetit.ca
SUMMARY:Réservation - Cours Francisation
DESCRIPTION:#87650\nDisposition: Personnelle
URL:https://moebius.cegepmontpetit.ca/evenement/reservation-cours-francisation/
LOCATION:D2702
CATEGORIES:Réservation de l'Espace Moebius
ATTACH;FMTTYPE=image/png:https://moebius.cegepmontpetit.ca/wp-content/uploads/sites/166/2025/03/Plan.png
END:VEVENT
BEGIN:VEVENT
DTSTART;TZID=America/Toronto:20260129T083000
DTEND;TZID=America/Toronto:20260129T120000
DTSTAMP:20260423T071648
CREATED:20251107T195823Z
LAST-MODIFIED:20251107T195823Z
UID:22075-1769675400-1769688000@moebius.cegepmontpetit.ca
SUMMARY:Réservation - Atelier comité SST
DESCRIPTION:#85673\ndébut 9h\nplacement : L’entre deux\n– Téléviseur interactif : 1\n– Projecteur interactif : 1\n– Un ordinateur portable : Oui\n– Nombre requis : 1
URL:https://moebius.cegepmontpetit.ca/evenement/reservation-atelier-comite-sst/
LOCATION:D2702
CATEGORIES:Atelier - Réalité virtuelle,Imprimante en fonction,Local fermé,Mode exclusif,Réservation - CLAAC,Réservation de l'Espace Moebius,Téléviseur interactif 1x
ATTACH;FMTTYPE=image/png:https://moebius.cegepmontpetit.ca/wp-content/uploads/sites/166/2024/05/19_LEntre-Deux.png
END:VEVENT
END:VCALENDAR