BEGIN:VCALENDAR
VERSION:2.0
PRODID:-//Espace Moebius - ECPv6.0.12//NONSGML v1.0//EN
CALSCALE:GREGORIAN
METHOD:PUBLISH
X-WR-CALNAME:Espace Moebius
X-ORIGINAL-URL:https://moebius.cegepmontpetit.ca
X-WR-CALDESC:évènements pour Espace Moebius
REFRESH-INTERVAL;VALUE=DURATION:PT1H
X-Robots-Tag:noindex
X-PUBLISHED-TTL:PT1H
BEGIN:VTIMEZONE
TZID:America/Toronto
BEGIN:DAYLIGHT
TZOFFSETFROM:-0500
TZOFFSETTO:-0400
TZNAME:EDT
DTSTART:20240310T070000
END:DAYLIGHT
BEGIN:STANDARD
TZOFFSETFROM:-0400
TZOFFSETTO:-0500
TZNAME:EST
DTSTART:20241103T060000
END:STANDARD
END:VTIMEZONE
BEGIN:VEVENT
DTSTART;TZID=America/Toronto:20240209T130000
DTEND;TZID=America/Toronto:20240209T150000
DTSTAMP:20260425T152446
CREATED:20240115T182847Z
LAST-MODIFIED:20240115T184122Z
UID:17122-1707483600-1707490800@moebius.cegepmontpetit.ca
SUMMARY:Réservation Espace Moebius - RV Simulation TEE
DESCRIPTION:Réalité virtuelle avec la Simulation #1 de TEE. \nUtilisation des casques Rift (3 postes fixes) des Quest 2 et du Quest 3.
URL:https://moebius.cegepmontpetit.ca/evenement/reservation-espace-moebius-rv-simulation-baobab-tee/
LOCATION:D2702
CATEGORIES:1 portable par étudiant,Atelier - Réalité virtuelle,Besoin de portables,Imprimante en fonction,Réservation - CLAAC,Réservation - Médialab,Téléviseur interactif 1x
ATTACH;FMTTYPE=image/jpeg:https://moebius.cegepmontpetit.ca/wp-content/uploads/sites/166/2023/05/Quest_2_07-scaled.jpg
END:VEVENT
BEGIN:VEVENT
DTSTART;TZID=America/Toronto:20240209T150000
DTEND;TZID=America/Toronto:20240209T153000
DTSTAMP:20260425T152446
CREATED:20240130T164812Z
LAST-MODIFIED:20240130T164812Z
UID:17414-1707490800-1707492600@moebius.cegepmontpetit.ca
SUMMARY:Réservation Médialab - Test simulation RV TEE
DESCRIPTION:
URL:https://moebius.cegepmontpetit.ca/evenement/reservation-medialab-test-simulation-rv-tee/
LOCATION:D2702
CATEGORIES:Atelier - Réalité virtuelle,Réservation - Médialab
ATTACH;FMTTYPE=image/jpeg:https://moebius.cegepmontpetit.ca/wp-content/uploads/sites/166/2023/05/Quest_2_07-scaled.jpg
END:VEVENT
BEGIN:VEVENT
DTSTART;TZID=America/Toronto:20240213T150000
DTEND;TZID=America/Toronto:20240213T170000
DTSTAMP:20260425T152446
CREATED:20240116T190654Z
LAST-MODIFIED:20240212T142647Z
UID:17275-1707836400-1707843600@moebius.cegepmontpetit.ca
SUMMARY:Réservation Espace Moebius - Cours THD
DESCRIPTION:Disposition du local créé par l’enseignante. \nMatériel : Verres de couleur
URL:https://moebius.cegepmontpetit.ca/evenement/reservation-espace-moebius-cours-thd-28/
LOCATION:D2702
CATEGORIES:Imprimante en fonction,Mode exclusif,Réservation - CLAAC,Réservation - Médialab,Réservation - Zone discussion,Réservation de l'Espace Moebius,Téléviseur interactif 1x
ATTACH;FMTTYPE=image/jpeg:https://moebius.cegepmontpetit.ca/wp-content/uploads/sites/166/2019/03/dental-hygiene-600x375.jpg
END:VEVENT
BEGIN:VEVENT
DTSTART;TZID=America/Toronto:20240228T090000
DTEND;TZID=America/Toronto:20240228T110000
DTSTAMP:20260425T152446
CREATED:20240122T185210Z
LAST-MODIFIED:20240123T134001Z
UID:17352-1709110800-1709118000@moebius.cegepmontpetit.ca
SUMMARY:Réservation Espace Moebius - Cours Littérature
DESCRIPTION:Disposition : Examens (Fin de session) \nBesoins des portables (environ 30 étudiants)
URL:https://moebius.cegepmontpetit.ca/evenement/reservation-espace-moebius-cours-litterature-10/
LOCATION:D2702
CATEGORIES:1 portable par étudiant,Besoin de portables,Classe ananas_Observation,Imprimante en fonction,Mode exclusif,Réservation - CLAAC,Réservation - Médialab,Réservation - Zone discussion
ATTACH;FMTTYPE=image/jpeg:https://moebius.cegepmontpetit.ca/wp-content/uploads/sites/166/2019/06/Moébius-ordinateur-HP-13-06-2019-1-e1568646589397.jpg
END:VEVENT
END:VCALENDAR