BEGIN:VCALENDAR
VERSION:2.0
PRODID:-//Espace Moebius - ECPv6.0.12//NONSGML v1.0//EN
CALSCALE:GREGORIAN
METHOD:PUBLISH
X-WR-CALNAME:Espace Moebius
X-ORIGINAL-URL:https://moebius.cegepmontpetit.ca
X-WR-CALDESC:évènements pour Espace Moebius
REFRESH-INTERVAL;VALUE=DURATION:PT1H
X-Robots-Tag:noindex
X-PUBLISHED-TTL:PT1H
BEGIN:VTIMEZONE
TZID:America/Toronto
BEGIN:DAYLIGHT
TZOFFSETFROM:-0500
TZOFFSETTO:-0400
TZNAME:EDT
DTSTART:20250309T070000
END:DAYLIGHT
BEGIN:STANDARD
TZOFFSETFROM:-0400
TZOFFSETTO:-0500
TZNAME:EST
DTSTART:20251102T060000
END:STANDARD
END:VTIMEZONE
BEGIN:VEVENT
DTSTART;TZID=America/Toronto:20250818T130000
DTEND;TZID=America/Toronto:20250818T140000
DTSTAMP:20260424T045928
CREATED:20250813T133309Z
LAST-MODIFIED:20250814T153259Z
UID:21018-1755522000-1755525600@moebius.cegepmontpetit.ca
SUMMARY:Mode Partagé : Rencontre - SST Moebius
DESCRIPTION:
URL:https://moebius.cegepmontpetit.ca/evenement/rencontre-sst-moebius/
LOCATION:D2702
CATEGORIES:Mode partagé,Réservation - Médialab
ATTACH;FMTTYPE=image/jpeg:https://moebius.cegepmontpetit.ca/wp-content/uploads/sites/166/2025/07/Espace_Moebius_-4-scaled.jpg
END:VEVENT
END:VCALENDAR