BEGIN:VCALENDAR
VERSION:2.0
PRODID:-//Espace Moebius - ECPv6.0.12//NONSGML v1.0//EN
CALSCALE:GREGORIAN
METHOD:PUBLISH
X-ORIGINAL-URL:https://moebius.cegepmontpetit.ca
X-WR-CALDESC:évènements pour Espace Moebius
REFRESH-INTERVAL;VALUE=DURATION:PT1H
X-Robots-Tag:noindex
X-PUBLISHED-TTL:PT1H
BEGIN:VTIMEZONE
TZID:America/Toronto
BEGIN:DAYLIGHT
TZOFFSETFROM:-0500
TZOFFSETTO:-0400
TZNAME:EDT
DTSTART:20240310T070000
END:DAYLIGHT
BEGIN:STANDARD
TZOFFSETFROM:-0400
TZOFFSETTO:-0500
TZNAME:EST
DTSTART:20241103T060000
END:STANDARD
END:VTIMEZONE
BEGIN:VEVENT
DTSTART;TZID=America/Toronto:20240422T150000
DTEND;TZID=America/Toronto:20240422T160000
DTSTAMP:20260425T193926
CREATED:20240405T135009Z
LAST-MODIFIED:20240416T153137Z
UID:17806-1713798000-1713801600@moebius.cegepmontpetit.ca
SUMMARY:Médialab - RV Test de contrôle #1 Soins Infirmiers
DESCRIPTION:Simulation 610-Post-op Abdo \nDemande #65687
URL:https://moebius.cegepmontpetit.ca/evenement/medialab-rv-test-de-controle-1-soins-infirmiers/
CATEGORIES:Mode partagé,Réservation - Médialab
ATTACH;FMTTYPE=image/jpeg:https://moebius.cegepmontpetit.ca/wp-content/uploads/sites/166/2019/04/OculusRift.jpg
END:VEVENT
END:VCALENDAR