BEGIN:VCALENDAR
VERSION:2.0
PRODID:-//Espace Moebius - ECPv6.0.12//NONSGML v1.0//EN
CALSCALE:GREGORIAN
METHOD:PUBLISH
X-ORIGINAL-URL:https://moebius.cegepmontpetit.ca
X-WR-CALDESC:évènements pour Espace Moebius
REFRESH-INTERVAL;VALUE=DURATION:PT1H
X-Robots-Tag:noindex
X-PUBLISHED-TTL:PT1H
BEGIN:VTIMEZONE
TZID:America/Toronto
BEGIN:DAYLIGHT
TZOFFSETFROM:-0500
TZOFFSETTO:-0400
TZNAME:EDT
DTSTART:20260308T070000
END:DAYLIGHT
BEGIN:STANDARD
TZOFFSETFROM:-0400
TZOFFSETTO:-0500
TZNAME:EST
DTSTART:20261101T060000
END:STANDARD
END:VTIMEZONE
BEGIN:VEVENT
DTSTART;TZID=America/Toronto:20260422T130000
DTEND;TZID=America/Toronto:20260422T160000
DTSTAMP:20260422T184002
CREATED:20260115T164257Z
LAST-MODIFIED:20260115T164257Z
UID:22201-1776862800-1776873600@moebius.cegepmontpetit.ca
SUMMARY:Réservation RV – Soins Infirmiers
DESCRIPTION:Problématique: Syndrome du compartiment (fracture) et chambre des erreurs (180-21B)\n6 station
URL:https://moebius.cegepmontpetit.ca/evenement/reservation-rv-soins-infirmiers-106/
LOCATION:D2702
CATEGORIES:Atelier - Réalité virtuelle
ATTACH;FMTTYPE=image/jpeg:https://moebius.cegepmontpetit.ca/wp-content/uploads/sites/166/2025/09/Realite_Virtuelle_Chaises_Quest_3-1-scaled.jpg
END:VEVENT
BEGIN:VEVENT
DTSTART;TZID=America/Toronto:20260422T100000
DTEND;TZID=America/Toronto:20260422T120000
DTSTAMP:20260422T184002
CREATED:20260115T164138Z
LAST-MODIFIED:20260115T164138Z
UID:22199-1776852000-1776859200@moebius.cegepmontpetit.ca
SUMMARY:Réservation RV – Soins Infirmiers
DESCRIPTION:Problématique: 516 vaccination\n3 station
URL:https://moebius.cegepmontpetit.ca/evenement/reservation-rv-soins-infirmiers-105/
LOCATION:D2702
CATEGORIES:Atelier - Réalité virtuelle
ATTACH;FMTTYPE=image/jpeg:https://moebius.cegepmontpetit.ca/wp-content/uploads/sites/166/2025/09/Realite_Virtuelle_Chaises_Quest_3-1-scaled.jpg
END:VEVENT
BEGIN:VEVENT
DTSTART;TZID=America/Toronto:20260421T080000
DTEND;TZID=America/Toronto:20260421T120000
DTSTAMP:20260422T184002
CREATED:20260119T132146Z
LAST-MODIFIED:20260323T184334Z
UID:22232-1776758400-1776772800@moebius.cegepmontpetit.ca
SUMMARY:Réservation RV – Soins Infirmiers
DESCRIPTION:Problématique: 180-410 hypovolémie\n3 station
URL:https://moebius.cegepmontpetit.ca/evenement/reservation-rv-soins-infirmiers-118/
LOCATION:D2702
CATEGORIES:Atelier - Réalité virtuelle
ATTACH;FMTTYPE=image/jpeg:https://moebius.cegepmontpetit.ca/wp-content/uploads/sites/166/2025/09/Realite_Virtuelle_Chaises_Quest_3-1-scaled.jpg
END:VEVENT
BEGIN:VEVENT
DTSTART;TZID=America/Toronto:20260420T133000
DTEND;TZID=America/Toronto:20260420T160000
DTSTAMP:20260422T184002
CREATED:20260326T132717Z
LAST-MODIFIED:20260326T132717Z
UID:22520-1776691800-1776700800@moebius.cegepmontpetit.ca
SUMMARY:Réservation - Rencontre spéciale de l'équipe du SPIP
DESCRIPTION:#90333
URL:https://moebius.cegepmontpetit.ca/evenement/reservation-rencontre-speciale-de-lequipe-du-spip/
LOCATION:D2702
CATEGORIES:Réservation de l'Espace Moebius
ATTACH;FMTTYPE=image/jpeg:https://moebius.cegepmontpetit.ca/wp-content/uploads/sites/166/2025/07/Espace_Moebius_-4-scaled.jpg
END:VEVENT
BEGIN:VEVENT
DTSTART;TZID=America/Toronto:20260420T103000
DTEND;TZID=America/Toronto:20260420T120000
DTSTAMP:20260422T184002
CREATED:20260119T141646Z
LAST-MODIFIED:20260415T130754Z
UID:22274-1776681000-1776686400@moebius.cegepmontpetit.ca
SUMMARY:Réservation - Le printemps de la culture
DESCRIPTION:#84037 \nDisposition: Disque-Cussion \n+ ajoute table proche de la BenQ
URL:https://moebius.cegepmontpetit.ca/evenement/reservation-le-printemps-de-la-culture/
LOCATION:D2702
CATEGORIES:Réservation de l'Espace Moebius
ATTACH;FMTTYPE=image/png:https://moebius.cegepmontpetit.ca/wp-content/uploads/sites/166/2024/05/03_La-Disque-Cussion.png
END:VEVENT
BEGIN:VEVENT
DTSTART;TZID=America/Toronto:20260420T080000
DTEND;TZID=America/Toronto:20260420T083000
DTSTAMP:20260422T184002
CREATED:20260415T131000Z
LAST-MODIFIED:20260415T131000Z
UID:22547-1776672000-1776673800@moebius.cegepmontpetit.ca
SUMMARY:Placement local: Disque-Cussion
DESCRIPTION:
URL:https://moebius.cegepmontpetit.ca/evenement/placement-local-disque-cussion-2/
LOCATION:D2702
ATTACH;FMTTYPE=image/png:https://moebius.cegepmontpetit.ca/wp-content/uploads/sites/166/2024/05/03_La-Disque-Cussion.png
END:VEVENT
BEGIN:VEVENT
DTSTART;TZID=America/Toronto:20260416T130000
DTEND;TZID=America/Toronto:20260416T150000
DTSTAMP:20260422T184002
CREATED:20260115T164017Z
LAST-MODIFIED:20260115T164017Z
UID:22197-1776344400-1776351600@moebius.cegepmontpetit.ca
SUMMARY:Réservation RV – Soins Infirmiers
DESCRIPTION:Problématique: 50A délirium\n3 station \nRemarques : s’assurer que 2 personnes étudiantes puissent entendre la même situation
URL:https://moebius.cegepmontpetit.ca/evenement/reservation-rv-soins-infirmiers-104/
LOCATION:D2702
CATEGORIES:Atelier - Réalité virtuelle
ATTACH;FMTTYPE=image/jpeg:https://moebius.cegepmontpetit.ca/wp-content/uploads/sites/166/2025/09/Realite_Virtuelle_Chaises_Quest_3-1-scaled.jpg
END:VEVENT
BEGIN:VEVENT
DTSTART;TZID=America/Toronto:20260416T080000
DTEND;TZID=America/Toronto:20260416T100000
DTSTAMP:20260422T184002
CREATED:20260115T163847Z
LAST-MODIFIED:20260115T164033Z
UID:22195-1776326400-1776333600@moebius.cegepmontpetit.ca
SUMMARY:Réservation RV – Soins Infirmiers
DESCRIPTION:Problématique: 50A délirium\n3 station \nRemarques : s’assurer que 2 personnes étudiantes puissent entendre la même situation
URL:https://moebius.cegepmontpetit.ca/evenement/reservation-rv-soins-infirmiers-103/
LOCATION:D2702
CATEGORIES:Atelier - Réalité virtuelle
ATTACH;FMTTYPE=image/jpeg:https://moebius.cegepmontpetit.ca/wp-content/uploads/sites/166/2025/09/Realite_Virtuelle_Chaises_Quest_3-1-scaled.jpg
END:VEVENT
BEGIN:VEVENT
DTSTART;TZID=America/Toronto:20260415T160000
DTEND;TZID=America/Toronto:20260415T173000
DTSTAMP:20260422T184002
CREATED:20260327T134421Z
LAST-MODIFIED:20260330T193211Z
UID:22527-1776268800-1776274200@moebius.cegepmontpetit.ca
SUMMARY:Réservation - Rencontre Fondation
DESCRIPTION:#90387
URL:https://moebius.cegepmontpetit.ca/evenement/reservation-rencontre-fondation/
LOCATION:D2702
CATEGORIES:Réservation de l'Espace Moebius
ATTACH;FMTTYPE=image/jpeg:https://moebius.cegepmontpetit.ca/wp-content/uploads/sites/166/2025/07/Espace_Moebius_-4-scaled.jpg
END:VEVENT
BEGIN:VEVENT
DTSTART;TZID=America/Toronto:20260415T120000
DTEND;TZID=America/Toronto:20260415T154500
DTSTAMP:20260422T184002
CREATED:20260330T193534Z
LAST-MODIFIED:20260330T193534Z
UID:22531-1776254400-1776267900@moebius.cegepmontpetit.ca
SUMMARY:Réservation - Rencontre Ateliers
DESCRIPTION:#90418 \nDisposition: Le 4X6 & 4 mais avec 6 ilots au total sans chaises
URL:https://moebius.cegepmontpetit.ca/evenement/reservation-rencontre-ateliers/
LOCATION:D2702
CATEGORIES:Réservation de l'Espace Moebius
ATTACH;FMTTYPE=image/png:https://moebius.cegepmontpetit.ca/wp-content/uploads/sites/166/2024/05/20_Le_4x6__4.png
END:VEVENT
BEGIN:VEVENT
DTSTART;TZID=America/Toronto:20260415T113000
DTEND;TZID=America/Toronto:20260415T120000
DTSTAMP:20260422T184002
CREATED:20260330T193620Z
LAST-MODIFIED:20260330T193620Z
UID:22533-1776252600-1776254400@moebius.cegepmontpetit.ca
SUMMARY:Placement Local: 4X6 & 4 mais avec 6 ilots au total sans chaises
DESCRIPTION:
URL:https://moebius.cegepmontpetit.ca/evenement/placement-local-4x6-4-mais-avec-6-ilots-au-total-sans-chaises/
LOCATION:D2702
ATTACH;FMTTYPE=image/png:https://moebius.cegepmontpetit.ca/wp-content/uploads/sites/166/2024/05/20_Le_4x6__4.png
END:VEVENT
BEGIN:VEVENT
DTSTART;VALUE=DATE:20260415
DTEND;VALUE=DATE:20260417
DTSTAMP:20260422T184002
CREATED:20251014T144649Z
LAST-MODIFIED:20251014T144649Z
UID:22036-1776232800-1776319199@moebius.cegepmontpetit.ca
SUMMARY:Journée institutionnelle consacrée à la transition socio-écologique
DESCRIPTION:Suspension des cours
URL:https://moebius.cegepmontpetit.ca/evenement/journee-institutionnelle-consacree-a-la-transition-socio-ecologique/
LOCATION:D2702
END:VEVENT
BEGIN:VEVENT
DTSTART;TZID=America/Toronto:20260414T130000
DTEND;TZID=America/Toronto:20260414T170000
DTSTAMP:20260422T184002
CREATED:20260119T132039Z
LAST-MODIFIED:20260119T132039Z
UID:22230-1776171600-1776186000@moebius.cegepmontpetit.ca
SUMMARY:Réservation RV – Soins Infirmiers
DESCRIPTION:Problématique: 180-410 hypovolémie\n3 station
URL:https://moebius.cegepmontpetit.ca/evenement/reservation-rv-soins-infirmiers-117/
LOCATION:D2702
CATEGORIES:Atelier - Réalité virtuelle
ATTACH;FMTTYPE=image/jpeg:https://moebius.cegepmontpetit.ca/wp-content/uploads/sites/166/2025/09/Realite_Virtuelle_Chaises_Quest_3-1-scaled.jpg
END:VEVENT
BEGIN:VEVENT
DTSTART;VALUE=DATE:20260414
DTEND;VALUE=DATE:20260416
DTSTAMP:20260422T184002
CREATED:20250521T175725Z
LAST-MODIFIED:20250521T175725Z
UID:20867-1776146400-1776232799@moebius.cegepmontpetit.ca
SUMMARY:Journée particulière d'enseignement (JR*)
DESCRIPTION:
URL:https://moebius.cegepmontpetit.ca/evenement/journee-particuliere-denseignement-jr-15/
LOCATION:D2702
END:VEVENT
BEGIN:VEVENT
DTSTART;TZID=America/Toronto:20260413T090000
DTEND;TZID=America/Toronto:20260413T120000
DTSTAMP:20260422T184002
CREATED:20260119T133114Z
LAST-MODIFIED:20260119T133130Z
UID:22243-1776070800-1776081600@moebius.cegepmontpetit.ca
SUMMARY:Réservation – Communauté EVA
DESCRIPTION:Disposition: en cercle
URL:https://moebius.cegepmontpetit.ca/evenement/reservation-communaute-eva-5/
LOCATION:D2702
CATEGORIES:Réservation de l'Espace Moebius
ATTACH;FMTTYPE=image/jpeg:https://moebius.cegepmontpetit.ca/wp-content/uploads/sites/166/2025/07/Espace_Moebius_-4-scaled.jpg
END:VEVENT
BEGIN:VEVENT
DTSTART;TZID=America/Toronto:20260410T080000
DTEND;TZID=America/Toronto:20260410T110000
DTSTAMP:20260422T184002
CREATED:20260121T131222Z
LAST-MODIFIED:20260121T131222Z
UID:22414-1775808000-1775818800@moebius.cegepmontpetit.ca
SUMMARY:Réservation – Cours Denturologie
DESCRIPTION:#87714\nordinateur portable: 28
URL:https://moebius.cegepmontpetit.ca/evenement/reservation-cours-denturologie-3/
LOCATION:D2702
CATEGORIES:Besoin de portables,Réservation de l'Espace Moebius
ATTACH;FMTTYPE=image/jpeg:https://moebius.cegepmontpetit.ca/wp-content/uploads/sites/166/2025/07/Espace_Moebius_-4-scaled.jpg
END:VEVENT
BEGIN:VEVENT
DTSTART;TZID=America/Toronto:20260409T090000
DTEND;TZID=America/Toronto:20260409T110000
DTSTAMP:20260422T184002
CREATED:20260218T181248Z
LAST-MODIFIED:20260218T181248Z
UID:22486-1775725200-1775732400@moebius.cegepmontpetit.ca
SUMMARY:Réservation - Forum des coordinations
DESCRIPTION:#89128
URL:https://moebius.cegepmontpetit.ca/evenement/reservation-forum-des-coordinations-2/
LOCATION:D2702
CATEGORIES:Réservation de l'Espace Moebius
ATTACH;FMTTYPE=image/jpeg:https://moebius.cegepmontpetit.ca/wp-content/uploads/sites/166/2025/07/Espace_Moebius_-4-scaled.jpg
END:VEVENT
BEGIN:VEVENT
DTSTART;TZID=America/Toronto:20260408T140000
DTEND;TZID=America/Toronto:20260408T170000
DTSTAMP:20260422T184002
CREATED:20260402T133232Z
LAST-MODIFIED:20260402T191015Z
UID:22537-1775656800-1775667600@moebius.cegepmontpetit.ca
SUMMARY:Réservation - Rencontre Pugilarts
DESCRIPTION:#90612 \nDisposition: L’ONU avec légères modifications\n– Souhaitez-vous utiliser un moyen de projection : Oui\n– Téléviseur interactif : 2\n– Projecteur interactif : 0\n– Boutons sonores : Oui\n– Verres de couleur : Oui\n– Aimants : Oui
URL:https://moebius.cegepmontpetit.ca/evenement/reservation-cours-anglais-12/
LOCATION:D2702
CATEGORIES:Réservation - CLAAC,Réservation de l'Espace Moebius,Téléviseur interactif 1x
ATTACH;FMTTYPE=image/jpeg:https://moebius.cegepmontpetit.ca/wp-content/uploads/sites/166/2026/04/Plan-Moebius.jpg
END:VEVENT
BEGIN:VEVENT
DTSTART;TZID=America/Toronto:20260408T133000
DTEND;TZID=America/Toronto:20260408T140000
DTSTAMP:20260422T184002
CREATED:20260402T133306Z
LAST-MODIFIED:20260402T133324Z
UID:22540-1775655000-1775656800@moebius.cegepmontpetit.ca
SUMMARY:Plancement Local: L'ONU avec légères modifications
DESCRIPTION:
URL:https://moebius.cegepmontpetit.ca/evenement/plancement-local-lonu-avec-legeres-modifications/
LOCATION:D2702
ATTACH;FMTTYPE=image/jpeg:https://moebius.cegepmontpetit.ca/wp-content/uploads/sites/166/2026/04/Plan-Moebius.jpg
END:VEVENT
BEGIN:VEVENT
DTSTART;TZID=America/Toronto:20260407T140000
DTEND;TZID=America/Toronto:20260407T160000
DTSTAMP:20260422T184002
CREATED:20260127T134008Z
LAST-MODIFIED:20260127T134008Z
UID:22450-1775570400-1775577600@moebius.cegepmontpetit.ca
SUMMARY:Réservation – Cours Techniques dentaires (Prothèses dentaires)
DESCRIPTION:#88003\n– Téléviseur interactif : 1\n– Projecteur interactif : 1\n– Boutons sonores : Oui\n– Verres de couleur : Oui\n– Un ordinateur portable : Oui\n– Nombre requis : 20
URL:https://moebius.cegepmontpetit.ca/evenement/reservation-cours-techniques-dentaires-protheses-dentaires-8/
LOCATION:D2702
CATEGORIES:Besoin de portables,Imprimante en fonction,Mode exclusif,Réservation - CLAAC,Réservation de l'Espace Moebius,Téléviseur interactif 1x
ATTACH;FMTTYPE=image/jpeg:https://moebius.cegepmontpetit.ca/wp-content/uploads/sites/166/2025/07/Espace_Moebius_-4-scaled.jpg
END:VEVENT
BEGIN:VEVENT
DTSTART;VALUE=DATE:20260406
DTEND;VALUE=DATE:20260408
DTSTAMP:20260422T184002
CREATED:20250506T155706Z
LAST-MODIFIED:20250506T155706Z
UID:20713-1775455200-1775541599@moebius.cegepmontpetit.ca
SUMMARY:Férié - Lundi de Pâques
DESCRIPTION:
URL:https://moebius.cegepmontpetit.ca/evenement/ferie-lundi-de-paques-4/
LOCATION:D2702
CATEGORIES:Local fermé
ATTACH;FMTTYPE=image/jpeg:https://moebius.cegepmontpetit.ca/wp-content/uploads/sites/166/2019/07/1090635-Modifier.jpg
END:VEVENT
BEGIN:VEVENT
DTSTART;VALUE=DATE:20260403
DTEND;VALUE=DATE:20260405
DTSTAMP:20260422T184002
CREATED:20250506T155630Z
LAST-MODIFIED:20250506T155630Z
UID:20711-1775196000-1775282399@moebius.cegepmontpetit.ca
SUMMARY:Férié - Vendredi saint
DESCRIPTION:
URL:https://moebius.cegepmontpetit.ca/evenement/ferie-vendredi-saint-3/
LOCATION:D2702
CATEGORIES:Local fermé
ATTACH;FMTTYPE=image/jpeg:https://moebius.cegepmontpetit.ca/wp-content/uploads/sites/166/2019/07/1090635-Modifier.jpg
END:VEVENT
BEGIN:VEVENT
DTSTART;TZID=America/Toronto:20260402T130000
DTEND;TZID=America/Toronto:20260402T160000
DTSTAMP:20260422T184002
CREATED:20260119T131755Z
LAST-MODIFIED:20260119T131755Z
UID:22226-1775134800-1775145600@moebius.cegepmontpetit.ca
SUMMARY:Réservation RV – Soins Infirmiers
DESCRIPTION:Problématique: 180 60 A RV # 2 Psychose et RV # 1 Dépression\n3 station\nRemarques : Il faut les écouteurs filaires.
URL:https://moebius.cegepmontpetit.ca/evenement/reservation-rv-soins-infirmiers-115/
LOCATION:D2702
CATEGORIES:Atelier - Réalité virtuelle
ATTACH;FMTTYPE=image/jpeg:https://moebius.cegepmontpetit.ca/wp-content/uploads/sites/166/2025/09/Realite_Virtuelle_Chaises_Quest_3-1-scaled.jpg
END:VEVENT
BEGIN:VEVENT
DTSTART;VALUE=DATE:20260402
DTEND;VALUE=DATE:20260404
DTSTAMP:20260422T184002
CREATED:20250521T175701Z
LAST-MODIFIED:20250521T175701Z
UID:20865-1775109600-1775195999@moebius.cegepmontpetit.ca
SUMMARY:Journée particulière d'enseignement (JR)
DESCRIPTION:
URL:https://moebius.cegepmontpetit.ca/evenement/journee-particuliere-denseignement-jr-14/
LOCATION:D2702
END:VEVENT
BEGIN:VEVENT
DTSTART;TZID=America/Toronto:20260401T130000
DTEND;TZID=America/Toronto:20260401T160000
DTSTAMP:20260422T184002
CREATED:20260119T131639Z
LAST-MODIFIED:20260119T131639Z
UID:22224-1775048400-1775059200@moebius.cegepmontpetit.ca
SUMMARY:Réservation RV – Soins Infirmiers
DESCRIPTION:Problématique: 180 60 A RV # 2 Psychose et RV # 1 Dépression\n3 station\nRemarques : Il faut les écouteurs filaires.
URL:https://moebius.cegepmontpetit.ca/evenement/reservation-rv-soins-infirmiers-114/
LOCATION:D2702
CATEGORIES:Atelier - Réalité virtuelle
ATTACH;FMTTYPE=image/jpeg:https://moebius.cegepmontpetit.ca/wp-content/uploads/sites/166/2025/09/Realite_Virtuelle_Chaises_Quest_3-1-scaled.jpg
END:VEVENT
BEGIN:VEVENT
DTSTART;TZID=America/Toronto:20260401T080000
DTEND;TZID=America/Toronto:20260401T110000
DTSTAMP:20260422T184002
CREATED:20260120T134145Z
LAST-MODIFIED:20260120T134145Z
UID:22395-1775030400-1775041200@moebius.cegepmontpetit.ca
SUMMARY:Réservation – Cours Anglais
DESCRIPTION:#87666\n– Téléviseur interactif : 1
URL:https://moebius.cegepmontpetit.ca/evenement/reservation-cours-anglais-17/
LOCATION:D2702
CATEGORIES:Réservation de l'Espace Moebius
ATTACH;FMTTYPE=image/jpeg:https://moebius.cegepmontpetit.ca/wp-content/uploads/sites/166/2025/07/Espace_Moebius_-4-scaled.jpg
END:VEVENT
BEGIN:VEVENT
DTSTART;TZID=America/Toronto:20260331T130000
DTEND;TZID=America/Toronto:20260331T163000
DTSTAMP:20260422T184002
CREATED:20260119T131923Z
LAST-MODIFIED:20260123T165055Z
UID:22228-1774962000-1774974600@moebius.cegepmontpetit.ca
SUMMARY:Réservation RV – Soins Infirmiers
DESCRIPTION:Problématique: 180-410 hypovolémie\n3 station
URL:https://moebius.cegepmontpetit.ca/evenement/reservation-rv-soins-infirmiers-116/
LOCATION:D2702
CATEGORIES:Atelier - Réalité virtuelle
ATTACH;FMTTYPE=image/jpeg:https://moebius.cegepmontpetit.ca/wp-content/uploads/sites/166/2025/09/Realite_Virtuelle_Chaises_Quest_3-1-scaled.jpg
END:VEVENT
BEGIN:VEVENT
DTSTART;TZID=America/Toronto:20260331T103000
DTEND;TZID=America/Toronto:20260331T123000
DTSTAMP:20260422T184002
CREATED:20260209T172620Z
LAST-MODIFIED:20260209T172620Z
UID:22470-1774953000-1774960200@moebius.cegepmontpetit.ca
SUMMARY:Réservation - Cours Francisation
DESCRIPTION:#88691 \nDisposition: Personnelle
URL:https://moebius.cegepmontpetit.ca/evenement/reservation-cours-francisation-2/
LOCATION:D2702
CATEGORIES:Réservation de l'Espace Moebius
ATTACH;FMTTYPE=image/png:https://moebius.cegepmontpetit.ca/wp-content/uploads/sites/166/2025/03/Plan.png
END:VEVENT
BEGIN:VEVENT
DTSTART;TZID=America/Toronto:20260331T100000
DTEND;TZID=America/Toronto:20260331T103000
DTSTAMP:20260422T184002
CREATED:20260209T172659Z
LAST-MODIFIED:20260209T172659Z
UID:22472-1774951200-1774953000@moebius.cegepmontpetit.ca
SUMMARY:Placement local: Personnelle
DESCRIPTION:
URL:https://moebius.cegepmontpetit.ca/evenement/placement-local-personnelle-2/
LOCATION:D2702
ATTACH;FMTTYPE=image/png:https://moebius.cegepmontpetit.ca/wp-content/uploads/sites/166/2025/03/Plan.png
END:VEVENT
BEGIN:VEVENT
DTSTART;TZID=America/Toronto:20260330T130000
DTEND;TZID=America/Toronto:20260330T150000
DTSTAMP:20260422T184002
CREATED:20260120T133112Z
LAST-MODIFIED:20260120T133112Z
UID:22383-1774875600-1774882800@moebius.cegepmontpetit.ca
SUMMARY:Réservation - Cours Anglais
DESCRIPTION:#87654\nDisposition: Classique\nOrdinateur: 32
URL:https://moebius.cegepmontpetit.ca/evenement/reservation-cours-anglais-11/
LOCATION:D2702
CATEGORIES:Réservation de l'Espace Moebius
ATTACH;FMTTYPE=image/jpeg:https://moebius.cegepmontpetit.ca/wp-content/uploads/sites/166/2025/07/Espace_Moebius_-4-scaled.jpg
END:VEVENT
END:VCALENDAR